BEGIN:VCALENDAR
VERSION:2.0
PRODID:IEEE vTools.Events//EN
CALSCALE:GREGORIAN
BEGIN:VTIMEZONE
TZID:America/New_York
BEGIN:DAYLIGHT
DTSTART:20240310T030000
TZOFFSETFROM:-0500
TZOFFSETTO:-0400
RRULE:FREQ=YEARLY;BYDAY=2SU;BYMONTH=3
TZNAME:EDT
END:DAYLIGHT
BEGIN:STANDARD
DTSTART:20241103T010000
TZOFFSETFROM:-0400
TZOFFSETTO:-0500
RRULE:FREQ=YEARLY;BYDAY=1SU;BYMONTH=11
TZNAME:EST
END:STANDARD
END:VTIMEZONE
BEGIN:VEVENT
DTSTAMP:20241109T004829Z
UID:B38AD71A-0C68-404E-AFB6-B8C21D9689A1
DTSTART;TZID=America/New_York:20240717T160000
DTEND;TZID=America/New_York:20240717T180000
DESCRIPTION:This 2 hours workshop is an opportunity to learn more about the
  IEEE SA standards sponsored by IEEE Education Society (EdSoc)\, the IEEE 
 SA Std. 1876-2019 on Networked Smart Learning Objects for Online Laborator
 ies and IEEE SA P2834 Standard for Secure and Trusted Learning Systems co-
 sponsored by IEEE Industrial Electronics Society and IEEE Computer Society
  / Learning Technology Standards Committee. This event offers students\, f
 aculty\, and industry members the opportunity to collaborate around the Ed
 Soc Virtual Graduate Study Consortium (VGSC) and motivate their future par
 ticipation in IEEE SA working groups.\n\nCo-sponsored by: LACCEI (Latin Am
 erican and Caribbean Consortium of Engineering Institutions)\n\nSpeaker(s)
 : Dr. Hamadou Saliah-Hassane\, Dr.Carlotta A. Berry  \, Dr. Luis Felipe Za
 pata-Rivera\, Dr. Idalis Villanueva\, Dr. Juan Guillermo Lalinde\, Cihan\,
  Pablo\, Dr. Manuel Macias\n\nAgenda: \nAgenda (Easter Time):\n\n4:00 pm 
 – 4:10 pm Welcome and Introduction IEEE SA Std.1876-2019 (Dr. Luis Felip
 e Zapata-Rivera)\n\n4:10 pm – 4:20 pm The IEEE Virtual Graduate Study Co
 nsortium (Dr. Hamadou Saliah-Hassane)\n\n4:20 pm – 4:30 pm Understanding
  the ethics and safeguards for human subject research in engineering educa
 tion and practice\n(Dr. Idalis Villanueva)\n\n4:30 pm – 4:40 pm Overview
  IEEE SA P2834: (Dr. Juan Guillermo Lalinde)\n\n4:40 pm – 4:50 pm Overvi
 ew IEEE SA P P2834.1 (Dr. Cihan Varol)\n\n4:50 pm – 5:00 pm Industry: La
 bsLand (™) Scaling up remote labs: real-time and ultra-concurrent labs(D
 r. Pablo Orduña)\n\n5:00 pm – 5:10 pm Industry: LAB-VEE (™) (MS. Reym
 i Then)\n\n5:10 pm – 5:20 pm Laboratorios inmersivos Hibridos (Dr. Manue
 l Macias)\n\n5:20 pm – 6:10 pm Practical activity Robotics (Dr. Carlotta
  Berry)\n\nSan Jose\, San Jose\, Costa Rica\, Virtual: https://events.vtoo
 ls.ieee.org/m/426370
LOCATION:San Jose\, San Jose\, Costa Rica\, Virtual: https://events.vtools.
 ieee.org/m/426370
ORGANIZER:l.f.zapatarivera@ieee.org
SEQUENCE:41
SUMMARY:Virtual Graduate Study Consortium (VGSC) WORKSHOP at LACCEI
URL;VALUE=URI:https://events.vtools.ieee.org/m/426370
X-ALT-DESC:Description: &lt;br /&gt;&lt;p&gt;This 2 hours workshop is an opportunity to
  learn more about the IEEE SA standards sponsored by IEEE Education Societ
 y (EdSoc)\, the IEEE SA Std. 1876-2019 on Networked Smart Learning Objects
  for Online Laboratories and IEEE SA P2834 Standard for Secure and Trusted
  Learning Systems co-sponsored by IEEE Industrial Electronics Society and 
 IEEE Computer Society / Learning Technology Standards Committee. This even
 t offers students\, faculty\, and industry members the opportunity to coll
 aborate around the EdSoc Virtual Graduate Study Consortium (VGSC) and moti
 vate their future participation in IEEE SA working groups.&lt;/p&gt;\n&lt;p&gt;&amp;nbsp\;
 &lt;/p&gt;\n&lt;p&gt;&lt;img style=&quot;display: block\; margin-left: auto\; margin-right: au
 to\;&quot; src=&quot;https://events.vtools.ieee.org/vtools_ui/media/display/816e75b9
 -7d45-4836-9e3c-a2b9ef73386e&quot; width=&quot;898&quot; height=&quot;210&quot;&gt;&lt;/p&gt;&lt;br /&gt;&lt;br /&gt;Age
 nda: &lt;br /&gt;&lt;p&gt;&lt;strong&gt;Agenda (Easter Time):&amp;nbsp\;&lt;/strong&gt;&lt;/p&gt;\n&lt;p&gt;4:00 p
 m &amp;ndash\; 4:10 pm Welcome and Introduction IEEE SA Std.1876-2019 (Dr. Lui
 s Felipe Zapata-Rivera)&lt;/p&gt;\n&lt;p&gt;4:10 pm &amp;ndash\; 4:20 pm The IEEE Virtual 
 Graduate Study Consortium (Dr. Hamadou Saliah-Hassane)&lt;/p&gt;\n&lt;p&gt;4:20 pm &amp;nd
 ash\; 4:30 pm &lt;span style=&quot;color: #333333\;&quot;&gt;Understanding the ethics and 
 safeguards for human subject research in engineering education and practic
 e&lt;br&gt;&lt;/span&gt;&amp;nbsp\;(Dr. Idalis Villanueva)&lt;/p&gt;\n&lt;p&gt;4:30 pm &amp;ndash\; 4:40 p
 m Overview IEEE SA P2834: (Dr. Juan Guillermo Lalinde)&lt;/p&gt;\n&lt;p&gt;4:40 pm &amp;nd
 ash\; 4:50 pm Overview IEEE SA P P2834.1 (Dr. Cihan Varol)&lt;/p&gt;\n&lt;p&gt;4:50 pm
  &amp;ndash\; 5:00 pm Industry: LabsLand (&amp;trade\;)&amp;nbsp\;&lt;span style=&quot;color: 
 #333333\;&quot;&gt;Scaling up remote labs: real-time and ultra-concurrent labs&lt;/sp
 an&gt;(Dr. Pablo Ordu&amp;ntilde\;a)&lt;/p&gt;\n&lt;p&gt;5:00 pm &amp;ndash\; 5:10 pm Industry: L
 AB-VEE (&amp;trade\;) (MS. Reymi Then)&lt;/p&gt;\n&lt;p&gt;5:10 pm &amp;ndash\; 5:20 pm Labora
 torios inmersivos Hibridos (Dr. Manuel Macias)&lt;/p&gt;\n&lt;p&gt;5:20 pm &amp;ndash\; 6:
 10 pm Practical activity Robotics (Dr. Carlotta Berry)&lt;/p&gt;\n&lt;p&gt;&amp;nbsp\;&lt;/p&gt;
END:VEVENT
END:VCALENDAR

