BEGIN:VCALENDAR
VERSION:2.0
PRODID:IEEE vTools.Events//EN
CALSCALE:GREGORIAN
BEGIN:VTIMEZONE
TZID:US/Central
BEGIN:DAYLIGHT
DTSTART:20240310T030000
TZOFFSETFROM:-0600
TZOFFSETTO:-0500
RRULE:FREQ=YEARLY;BYDAY=2SU;BYMONTH=3
TZNAME:CDT
END:DAYLIGHT
BEGIN:STANDARD
DTSTART:20241103T010000
TZOFFSETFROM:-0500
TZOFFSETTO:-0600
RRULE:FREQ=YEARLY;BYDAY=1SU;BYMONTH=11
TZNAME:CST
END:STANDARD
END:VTIMEZONE
BEGIN:VEVENT
DTSTAMP:20240707T014054Z
UID:9505254E-051C-4485-B41B-7F4ED52DA60A
DTSTART;TZID=US/Central:20240706T100000
DTEND;TZID=US/Central:20240706T110000
DESCRIPTION:The CTCN and Life Member officers will discuss speakers and top
 ics for presentations at upcoming regular meetings and any other necessary
  business.\n\nAgenda: \nReview of speakers for upcoming meetings. Discussi
 on of logistics pertaining to in-person meetings.\n\nVirtual: https://even
 ts.vtools.ieee.org/m/426396
LOCATION:Virtual: https://events.vtools.ieee.org/m/426396
ORGANIZER:bill.martino@ieee.org
SEQUENCE:5
SUMMARY:IEEE Central Texas Consultants Network and Life Member Affinity Gro
 up joint ChapCom (Officers) meeting
URL;VALUE=URI:https://events.vtools.ieee.org/m/426396
X-ALT-DESC:Description: &lt;br /&gt;&lt;p&gt;&lt;span style=&quot;font-family: &#39;book antiqua&#39;\,
  palatino\; font-size: 14pt\;&quot;&gt;The CTCN and Life Member officers will disc
 uss speakers and topics for presentations at upcoming regular meetings and
  any other necessary business.&lt;/span&gt;&lt;/p&gt;&lt;br /&gt;&lt;br /&gt;Agenda: &lt;br /&gt;&lt;p&gt;Revi
 ew of speakers for upcoming meetings.&amp;nbsp\; Discussion of logistics perta
 ining to in-person meetings.&lt;/p&gt;
END:VEVENT
END:VCALENDAR

