BEGIN:VCALENDAR
VERSION:2.0
PRODID:IEEE vTools.Events//EN
CALSCALE:GREGORIAN
BEGIN:VTIMEZONE
TZID:America/Chicago
BEGIN:DAYLIGHT
DTSTART:20240310T030000
TZOFFSETFROM:-0600
TZOFFSETTO:-0500
RRULE:FREQ=YEARLY;BYDAY=2SU;BYMONTH=3
TZNAME:CDT
END:DAYLIGHT
BEGIN:STANDARD
DTSTART:20241103T010000
TZOFFSETFROM:-0500
TZOFFSETTO:-0600
RRULE:FREQ=YEARLY;BYDAY=1SU;BYMONTH=11
TZNAME:CST
END:STANDARD
END:VTIMEZONE
BEGIN:VEVENT
DTSTAMP:20240903T171544Z
UID:EBADB844-DD20-4922-A6CA-3FB123D76A6F
DTSTART;TZID=America/Chicago:20240718T113000
DTEND;TZID=America/Chicago:20240718T130000
DESCRIPTION:Monthly meeting of the Lone Star Section / Life Members Affinit
 y Group meet on the third Thursday of most months at the La Fonda Restaura
 nt\, 8633 Crownhill Blvd\, in San Antonio. Lunch costs $15.00. (We pay the
  balance and tip.)\n\nSpeaker(s): Warren Connor\, \n\nAgenda: \n11:30 am C
 all to Order\n\n11:45 am Business\n\n12:00 pm Lunch &amp; Presentation\n\n1 pm
  Ajourn\n\nSan Antonio \, Texas\, United States
LOCATION:San Antonio \, Texas\, United States
ORGANIZER:wconner@ieee.org
SEQUENCE:16
SUMMARY:LMAG Meeting (integrated into PES Meeting)
URL;VALUE=URI:https://events.vtools.ieee.org/m/426525
X-ALT-DESC:Description: &lt;br /&gt;&lt;p&gt;Monthly meeting of the Lone Star Section /
  Life Members Affinity Group meet on the third Thursday of most months at 
 the La Fonda Restaurant\, 8633 Crownhill Blvd\, in San Antonio. Lunch cost
 s $15.00. (We pay the balance and tip.)&lt;/p&gt;&lt;br /&gt;&lt;br /&gt;Agenda: &lt;br /&gt;&lt;p&gt;11
 :30 am Call to Order&lt;/p&gt;\n&lt;p&gt;11:45 am Business&amp;nbsp\;&lt;/p&gt;\n&lt;p&gt;12:00 pm Lun
 ch &amp;amp\; Presentation&amp;nbsp\;&lt;/p&gt;\n&lt;p&gt;1 pm Ajourn&amp;nbsp\;&lt;/p&gt;\n&lt;p&gt;&amp;nbsp\;&lt;/
 p&gt;
END:VEVENT
END:VCALENDAR

