BEGIN:VCALENDAR
VERSION:2.0
PRODID:IEEE vTools.Events//EN
CALSCALE:GREGORIAN
BEGIN:VTIMEZONE
TZID:America/New_York
BEGIN:DAYLIGHT
DTSTART:20240310T030000
TZOFFSETFROM:-0500
TZOFFSETTO:-0400
RRULE:FREQ=YEARLY;BYDAY=2SU;BYMONTH=3
TZNAME:EDT
END:DAYLIGHT
BEGIN:STANDARD
DTSTART:20241103T010000
TZOFFSETFROM:-0400
TZOFFSETTO:-0500
RRULE:FREQ=YEARLY;BYDAY=1SU;BYMONTH=11
TZNAME:EST
END:STANDARD
END:VTIMEZONE
BEGIN:VEVENT
DTSTAMP:20240802T194122Z
UID:029B89EA-7A34-49F9-946B-3BFD84116062
DTSTART;TZID=America/New_York:20240725T180000
DTEND;TZID=America/New_York:20240725T210000
DESCRIPTION:IEEE Buffalo Section invites you to\n\nCome join us for a casua
 l get-together on Thursday July 25\, 2024.\n\n&quot;the patio...the river...the
  food...the fun&quot;\n\n6:00pm Casual Patio Food\n\nThe Shores Waterfront Rest
 aurant\n\n2 Detroit Street (Tonawanda Island)\n\nNorth Tonawanda NY\n\nIEE
 E Members and Guests $15 per person\n\nReservations by July 23\, 2024: Jud
 y Moskal (716)689-6689 landline jmmoskal@ieee.org\n\nShores Waterfront Res
 taurant\, 2 Detroit Street (Tonawanda Island)\, North Tonawanda\, New York
 \, United States
LOCATION:Shores Waterfront Restaurant\, 2 Detroit Street (Tonawanda Island)
 \, North Tonawanda\, New York\, United States
ORGANIZER:jmmoskal@ieee.org
SEQUENCE:27
SUMMARY:Summer Social
URL;VALUE=URI:https://events.vtools.ieee.org/m/426641
X-ALT-DESC:Description: &lt;br /&gt;&lt;p&gt;&lt;span style=&quot;font-size: 18pt\;&quot;&gt;&lt;strong&gt;IE
 EE Buffalo Section invites you to&amp;nbsp\;&lt;/strong&gt;&lt;/span&gt;&lt;/p&gt;\n&lt;p&gt;&lt;span sty
 le=&quot;font-size: 18pt\;&quot;&gt;&lt;strong&gt;Come join us for a casual get-together on T
 hursday July 25\, 2024.&lt;/strong&gt;&lt;/span&gt;&lt;/p&gt;\n&lt;p&gt;&lt;span style=&quot;font-size: 18
 pt\;&quot;&gt;&lt;strong&gt;&amp;nbsp\; &amp;nbsp\; &amp;nbsp\;&quot;the patio...the river...the food...t
 he fun&quot;&lt;/strong&gt;&lt;/span&gt;&lt;/p&gt;\n&lt;p&gt;&lt;span style=&quot;font-size: 18pt\;&quot;&gt;&lt;strong&gt;6:
 00pm&amp;nbsp\; &amp;nbsp\; Casual Patio Food&lt;/strong&gt;&lt;/span&gt;&lt;/p&gt;\n&lt;p&gt;&lt;span style=
 &quot;font-size: 18pt\;&quot;&gt;&lt;strong&gt;&amp;nbsp\; &amp;nbsp\; &amp;nbsp\; &amp;nbsp\; &amp;nbsp\; &amp;nbsp\
 ; &amp;nbsp\; &amp;nbsp\; &amp;nbsp\;The Shores Waterfront Restaurant&lt;/strong&gt;&lt;/span&gt;&lt;
 /p&gt;\n&lt;p&gt;&lt;span style=&quot;font-size: 18pt\;&quot;&gt;&lt;strong&gt;&amp;nbsp\; &amp;nbsp\; &amp;nbsp\; &amp;n
 bsp\; &amp;nbsp\; &amp;nbsp\; &amp;nbsp\; &amp;nbsp\; &amp;nbsp\; &amp;nbsp\; &amp;nbsp\; &amp;nbsp\; &amp;nbs
 p\;2 Detroit Street (Tonawanda Island)&lt;/strong&gt;&lt;/span&gt;&lt;/p&gt;\n&lt;p&gt;&lt;span style
 =&quot;font-size: 18pt\;&quot;&gt;&lt;strong&gt;&amp;nbsp\; &amp;nbsp\; &amp;nbsp\; &amp;nbsp\; &amp;nbsp\; &amp;nbsp
 \; &amp;nbsp\; &amp;nbsp\; &amp;nbsp\; &amp;nbsp\; &amp;nbsp\; &amp;nbsp\; &amp;nbsp\; &amp;nbsp\; &amp;nbsp\;
  &amp;nbsp\; North Tonawanda NY&lt;/strong&gt;&lt;/span&gt;&lt;/p&gt;\n&lt;p&gt;&amp;nbsp\;&lt;/p&gt;\n&lt;p&gt;&lt;span 
 style=&quot;font-size: 18pt\;&quot;&gt;&lt;strong&gt;IEEE Members and Guests&amp;nbsp\; &amp;nbsp\; &amp;
 nbsp\; $15 per person&lt;/strong&gt;&lt;/span&gt;&lt;/p&gt;\n&lt;p&gt;&amp;nbsp\;&lt;/p&gt;\n&lt;p&gt;&lt;span style=
 &quot;font-size: 12pt\;&quot;&gt;Reservations by July 23\, 2024:&amp;nbsp\; &amp;nbsp\;Judy Mos
 kal&amp;nbsp\; &amp;nbsp\;(716)689-6689 landline&amp;nbsp\; &amp;nbsp\; &amp;nbsp\;&lt;a href=&quot;ma
 ilto:jmmoskal@ieee.org&quot;&gt;jmmoskal@ieee.org&lt;/a&gt;&lt;/span&gt;&lt;/p&gt;\n&lt;p&gt;&amp;nbsp\;&lt;/p&gt;\n
 &lt;p&gt;&amp;nbsp\;&lt;/p&gt;\n&lt;p&gt;&lt;span style=&quot;font-size: 18pt\;&quot;&gt;&lt;strong&gt;&amp;nbsp\; &amp;nbsp\;
  &amp;nbsp\; &amp;nbsp\; &amp;nbsp\; &amp;nbsp\; &amp;nbsp\; &amp;nbsp\; &amp;nbsp\; &amp;nbsp\; &amp;nbsp\;&amp;n
 bsp\;&lt;/strong&gt;&lt;/span&gt;&lt;/p&gt;\n&lt;p&gt;&amp;nbsp\;&lt;/p&gt;\n&lt;p&gt;&amp;nbsp\;&lt;/p&gt;\n&lt;p&gt;&amp;nbsp\;&lt;/p&gt;\
 n&lt;p&gt;&amp;nbsp\;&lt;/p&gt;\n&lt;p&gt;&amp;nbsp\;&lt;/p&gt;\n&lt;p&gt;&amp;nbsp\;&lt;/p&gt;\n&lt;p&gt;&amp;nbsp\;&lt;/p&gt;\n&lt;p&gt;&amp;nbsp\
 ;&lt;/p&gt;\n&lt;p&gt;&amp;nbsp\;&lt;/p&gt;
END:VEVENT
END:VCALENDAR

