BEGIN:VCALENDAR
VERSION:2.0
PRODID:IEEE vTools.Events//EN
CALSCALE:GREGORIAN
BEGIN:VTIMEZONE
TZID:America/Chicago
BEGIN:DAYLIGHT
DTSTART:20240310T030000
TZOFFSETFROM:-0600
TZOFFSETTO:-0500
RRULE:FREQ=YEARLY;BYDAY=2SU;BYMONTH=3
TZNAME:CDT
END:DAYLIGHT
BEGIN:STANDARD
DTSTART:20241103T010000
TZOFFSETFROM:-0500
TZOFFSETTO:-0600
RRULE:FREQ=YEARLY;BYDAY=1SU;BYMONTH=11
TZNAME:CST
END:STANDARD
END:VTIMEZONE
BEGIN:VEVENT
DTSTAMP:20241030T180111Z
UID:96DB97BB-4C2D-4D48-A0B9-2800AFBFB199
DTSTART;TZID=America/Chicago:20241025T173000
DTEND;TZID=America/Chicago:20241027T163000
DESCRIPTION:Email emglover@ieee.org to be put on the waitlist. Sometimes sp
 ots open up or a team is not able to make it.\n\nRegistrants that are part
  of a team\, but did not sign up before registration closed can email emgl
 over@ieee.org to get on their team and pay the registration fee.\n\nCyber 
 competition hosted by the IEEE Computer Society in the Ozark section in a 
 partnership with the University of Arkansas CyberHogs Cybersecurity club.\
 n\nTEAM INFORMATION:\n\nTeams can be up to 4 people. We recommend at least
  3 people per team and strongly recommend 4. During registration you provi
 de the name of the team you are a part of. Have at least 3 people before y
 ou register. You can all register at the same time or separately. Click &quot;A
 dd Another Guest&quot; while you are completing registration to register multip
 le at once.\n\nRegistration spots are limited to prevent the team count fr
 om going over. If slots run out and you are missing a teammate please reac
 h out to [emglover@ieee.org](mailto:emglover@ozarkic.com) to get them regi
 stered manually.\n\nDO NOT REGISTER IF you are an individual without a tea
 m. Instead\, email [emglover@ieee.org](mailto:emglover@ozarkic.com) and th
 e RazorHack team will try to pair you with someone. Guarantees cannot be m
 ade that you will be able to be matched with a team.\n\nRazorHack can supp
 ort up to 32 4-people teams this year\, so register before slots fill up.\
 n\nPRICING:\n\n- $75.00 per participant for Non-IEEE Member Registration\n
 \n- $50.00 per participant for IEEE Member Registration or students (high 
 school or college undergrads)\n\nThe registration fee includes participati
 on in the CTF game\, access to the opening banquet event\, and all food co
 sts.\n\nYour spot is reserved once you submit your information AND pay the
  registration fee. Payment is completed through PayPal.\n\nREQUIRED ITEMS:
 \n\nThis is a bring your own device event. Please make sure that each memb
 er of the team has a laptop and charger. Outlets and extension cables will
  be provided at the venue. It is recommended that your device is able to r
 un a virtual machine like Kali Linux.\n\nBldg: (JBHT) J.B. Hunt Transport 
 Services Inc. Center for Academic Excellence\, 227 N Harmon Ave.\, Fayette
 ville\, Arkansas\, United States\, 72701
LOCATION:Bldg: (JBHT) J.B. Hunt Transport Services Inc. Center for Academic
  Excellence\, 227 N Harmon Ave.\, Fayetteville\, Arkansas\, United States\
 , 72701
ORGANIZER:emglover@ieee.org
SEQUENCE:45
SUMMARY:2024 Razorhack Cyber Competition
URL;VALUE=URI:https://events.vtools.ieee.org/m/426701
X-ALT-DESC:Description: &lt;br /&gt;&lt;p&gt;&lt;span style=&quot;color: rgb(186\, 55\, 42)\;&quot;&gt;
 Email&amp;nbsp\;&lt;a href=&quot;mailto:emglover@ieee.org&quot;&gt;emglover@ieee.org&lt;/a&gt; to be
  put on the waitlist. Sometimes spots open up or a team is not able to mak
 e it.&lt;/span&gt;&lt;/p&gt;\n&lt;p&gt;&lt;span style=&quot;color: rgb(186\, 55\, 42)\;&quot;&gt;&lt;strong&gt;Reg
 istrants that are part of a team\, but did not sign up before registration
  closed&lt;/strong&gt; can email &lt;a href=&quot;mailto:emglover@ieee.org&quot;&gt;emglover@iee
 e.org&lt;/a&gt; to get on their team and pay the registration fee.&lt;/span&gt;&lt;/p&gt;\n&lt;
 p&gt;Cyber competition hosted by the IEEE Computer Society in the Ozark secti
 on in a partnership with the University of Arkansas CyberHogs Cybersecurit
 y club.&lt;/p&gt;\n&lt;p&gt;&lt;strong&gt;TEAM INFORMATION:&lt;/strong&gt;&lt;/p&gt;\n&lt;p&gt;Teams can be up
  to 4 people. We recommend at least 3 people per team and strongly recomme
 nd 4. During registration you provide the name of the team you are a part 
 of. Have at least 3 people before you register. You can all register at th
 e same time or separately. Click &quot;Add Another Guest&quot; while you are complet
 ing registration to register multiple at once.&lt;/p&gt;\n&lt;p&gt;Registration spots 
 are limited to prevent the team count from going over. If slots run out an
 d you are missing a teammate please reach out to &lt;a href=&quot;mailto:emglover@
 ozarkic.com&quot;&gt;emglover@ieee.org&lt;/a&gt; to get them registered manually.&lt;/p&gt;\n&lt;
 p&gt;&lt;strong&gt;DO NOT REGISTER IF&lt;/strong&gt; you are an individual without a team
 . Instead\, email &lt;a href=&quot;mailto:emglover@ozarkic.com&quot;&gt;emglover@ieee.org&lt;
 /a&gt; and the RazorHack team will try to pair you with someone. Guarantees c
 annot be made that you will be able to be matched with a team.&lt;/p&gt;\n&lt;p&gt;Raz
 orHack can support up to 32 4-people teams this year\, so register before 
 slots fill up.&lt;/p&gt;\n&lt;p&gt;&lt;strong&gt;PRICING:&lt;/strong&gt;&lt;/p&gt;\n&lt;p&gt;- $75.00 per part
 icipant for Non-IEEE Member Registration&lt;/p&gt;\n&lt;p&gt;- $50.00 per participant 
 for IEEE Member Registration or students (high school or college undergrad
 s)&lt;/p&gt;\n&lt;p&gt;The registration fee includes participation in the CTF game\, a
 ccess to the opening banquet event\, and all food costs.&lt;/p&gt;\n&lt;p&gt;Your spot
  is reserved once you submit your information AND pay the registration fee
 . Payment is completed through PayPal.&lt;/p&gt;\n&lt;p&gt;&lt;strong&gt;REQUIRED ITEMS:&lt;/st
 rong&gt;&lt;/p&gt;\n&lt;p&gt;This is a bring your own device event. Please make sure that
  each member of the team has a laptop and charger. Outlets and extension c
 ables will be provided at the venue. It is recommended that your device is
  able to run a virtual machine like Kali Linux.&lt;/p&gt;
END:VEVENT
END:VCALENDAR

