BEGIN:VCALENDAR
VERSION:2.0
PRODID:IEEE vTools.Events//EN
CALSCALE:GREGORIAN
BEGIN:VTIMEZONE
TZID:Asia/Kolkata
BEGIN:STANDARD
DTSTART:19451014T230000
TZOFFSETFROM:+0630
TZOFFSETTO:+0530
TZNAME:IST
END:STANDARD
END:VTIMEZONE
BEGIN:VEVENT
DTSTAMP:20240723T052928Z
UID:849B658E-1A56-4EE4-BB8B-8715A92AA4D1
DTSTART;TZID=Asia/Kolkata:20240712T100000
DTEND;TZID=Asia/Kolkata:20240712T110000
DESCRIPTION:We are pleased to invite you all to &quot;IEEE YP - WiE Talk Series&quot;
  organized by the IEEE Young Professionals Affinity Group and  IEEE Women 
 in Engineering Affinity Group of IEEE Kharagpur Section.\n\nTitle: “Movi
 ng the World\, One Box at a Time”\n\nSpeaker: Dr. Jhanani Selvakumar\, R
 obotics Software Engineer\, Boston Dynamics\, USA.\n\nLooking forward to m
 eeting you at the event.\n\n[]\n\n[]\n\n[]\n\nSpeaker(s): Dr. Jhanani Selv
 akumar\n\nVirtual: https://events.vtools.ieee.org/m/426822
LOCATION:Virtual: https://events.vtools.ieee.org/m/426822
ORGANIZER:ieeeypagkgp@gmail.com
SEQUENCE:20
SUMMARY: &quot;IEEE YP-WiE Talk Series&quot; Talk 3
URL;VALUE=URI:https://events.vtools.ieee.org/m/426822
X-ALT-DESC:Description: &lt;br /&gt;&lt;p dir=&quot;ltr&quot;&gt;&lt;span style=&quot;font-family: arial\
 , helvetica\, sans-serif\; font-size: 12pt\;&quot;&gt;&lt;span style=&quot;font-weight: 40
 0\; font-style: normal\; text-decoration: none\; white-space: pre-wrap\; c
 olor: rgb(0\,0\,255)\;&quot;&gt;We are pleased to invite you all to &lt;/span&gt;&lt;span s
 tyle=&quot;font-weight: bold\; font-style: normal\; text-decoration: none\; whi
 te-space: pre-wrap\; color: rgb(0\,0\,255)\;&quot;&gt;&quot;&lt;/span&gt;&lt;span style=&quot;font-we
 ight: bold\; font-style: italic\; text-decoration: none\; white-space: pre
 -wrap\; color: rgb(0\,0\,255)\;&quot;&gt;IEEE YP - WiE Talk Series&lt;/span&gt;&lt;span sty
 le=&quot;font-weight: bold\; font-style: normal\; text-decoration: none\; white
 -space: pre-wrap\; color: rgb(0\,0\,255)\;&quot;&gt;&quot; &lt;/span&gt;&lt;span style=&quot;font-wei
 ght: 400\; font-style: normal\; text-decoration: none\; white-space: pre-w
 rap\; color: rgb(0\,0\,255)\;&quot;&gt;organized by the IEEE Young Professionals A
 ffinity Group and &lt;/span&gt;&lt;span style=&quot;color: rgb(0\,0\,255)\;&quot;&gt; &lt;span styl
 e=&quot;font-weight: 400\; font-style: normal\; text-decoration: none\; white-s
 pace: pre-wrap\;&quot;&gt;IEEE Women in Engineering Affinity Group&lt;/span&gt; &lt;span st
 yle=&quot;font-weight: 400\; font-style: normal\; text-decoration: none\; white
 -space: pre-wrap\;&quot;&gt;of IEEE Kharagpur Section.&lt;/span&gt;&lt;/span&gt;&lt;/span&gt;&lt;/p&gt;\n&lt;
 p style=&quot;margin-top: 0.15cm\; margin-bottom: 0.15cm\; line-height: 0.37cm\
 ;&quot;&gt;&amp;nbsp\;&lt;/p&gt;\n&lt;p dir=&quot;ltr&quot;&gt;&lt;span style=&quot;font-weight: 400\; font-style: n
 ormal\; text-decoration: none\; white-space: pre-wrap\; color: rgb(0\, 0\,
  255)\; font-family: arial\, helvetica\, sans-serif\; font-size: 12pt\;&quot;&gt;T
 itle: &lt;strong&gt;&amp;ldquo\;Moving the World\, One Box at a Time&amp;rdquo\;&lt;/strong
 &gt;&lt;br&gt;&lt;/span&gt;&lt;/p&gt;\n&lt;p dir=&quot;ltr&quot;&gt;&lt;span style=&quot;font-family: arial\, helvetica
 \, sans-serif\; font-size: 12pt\;&quot;&gt;&lt;span style=&quot;font-style: normal\; text-
 decoration: none\; white-space: pre-wrap\; color: rgb(0\, 0\, 255)\;&quot;&gt;Spea
 ker:&lt;/span&gt;&lt;span style=&quot;font-weight: bold\; font-style: normal\; text-deco
 ration: none\; white-space: pre-wrap\; color: rgb(0\, 0\, 255)\;&quot;&gt; &lt;/span&gt;
 &lt;span style=&quot;color: rgb(0\, 0\, 255)\;&quot;&gt;&lt;strong&gt;Dr. Jhanani Selvakumar\, &lt;
 /strong&gt;&lt;/span&gt;&lt;span style=&quot;color: rgb(0\, 0\, 255)\;&quot;&gt;Robotics Software E
 ngineer\,&amp;nbsp\; &lt;/span&gt;&lt;span style=&quot;color: rgb(0\, 0\, 255)\;&quot;&gt;Boston Dyn
 amics\, USA.&lt;/span&gt;&lt;/span&gt;&lt;/p&gt;\n&lt;p&gt;&lt;span style=&quot;color: rgb(0\, 0\, 255)\; 
 font-size: 12pt\; font-family: arial\, helvetica\, sans-serif\;&quot;&gt;Looking f
 orward to meeting you at the event.&lt;/span&gt;&lt;/p&gt;\n&lt;p dir=&quot;ltr&quot;&gt;&amp;nbsp\;&lt;/p&gt;\n
 &lt;p dir=&quot;ltr&quot;&gt;&lt;img src=&quot;https://events.vtools.ieee.org/vtools_ui/media/disp
 lay/22ace45e-7b19-47c1-8cb3-9d7b5d9b580d&quot; alt=&quot;&quot; width=&quot;755&quot; height=&quot;425&quot;&gt;
 &lt;/p&gt;\n&lt;p dir=&quot;ltr&quot;&gt;&lt;img src=&quot;https://events.vtools.ieee.org/vtools_ui/medi
 a/display/efd6ba54-6378-47a5-a6fb-ac3b50193f5c&quot; alt=&quot;&quot; width=&quot;753&quot; height=
 &quot;451&quot;&gt;&lt;/p&gt;\n&lt;p dir=&quot;ltr&quot;&gt;&lt;img src=&quot;https://events.vtools.ieee.org/vtools_u
 i/media/display/0763ac67-4652-4754-9799-c7a00d68a637&quot; alt=&quot;&quot; width=&quot;757&quot; h
 eight=&quot;454&quot;&gt;&lt;/p&gt;\n&lt;p dir=&quot;ltr&quot;&gt;&amp;nbsp\;&lt;/p&gt;\n&lt;p dir=&quot;ltr&quot;&gt;&amp;nbsp\;&lt;/p&gt;\n&lt;p d
 ir=&quot;ltr&quot;&gt;&amp;nbsp\;&lt;/p&gt;
END:VEVENT
END:VCALENDAR

