BEGIN:VCALENDAR
VERSION:2.0
PRODID:IEEE vTools.Events//EN
CALSCALE:GREGORIAN
BEGIN:VTIMEZONE
TZID:America/Los_Angeles
BEGIN:DAYLIGHT
DTSTART:20240310T030000
TZOFFSETFROM:-0800
TZOFFSETTO:-0700
RRULE:FREQ=YEARLY;BYDAY=2SU;BYMONTH=3
TZNAME:PDT
END:DAYLIGHT
BEGIN:STANDARD
DTSTART:20241103T010000
TZOFFSETFROM:-0700
TZOFFSETTO:-0800
RRULE:FREQ=YEARLY;BYDAY=1SU;BYMONTH=11
TZNAME:PST
END:STANDARD
END:VTIMEZONE
BEGIN:VEVENT
DTSTAMP:20240816T232826Z
UID:BE1DF6A4-173F-46CE-AA9A-AF600877CEBC
DTSTART;TZID=America/Los_Angeles:20240808T183000
DTEND;TZID=America/Los_Angeles:20240809T200000
DESCRIPTION:Brain-Inspired Computing Using Magnetic Domain Wall Devices\n\n
 Hybrid Meeting\n\nOn-line and In Person at Quadrant\n\nRefreshments will b
 e available at Quadrant prior to the start of the presentation.\n\nWhere: 
 Quadrant\, 1120 Ringwood ct. San Jose\, 92131. and Online Click [here](htt
 ps://www.eventbrite.com/e/brain-inspired-computing-using-magnetic-domain-w
 all-devices-tickets-938918770317?aff=oddtdtcreator) to register.\nWhen: Th
 ursday\, August 8th\, 2024\, from 6:30 p.m. to 8:00 p.m. PDT (GMT-8)\nWho:
  Prof. S. N. (Prem) Piramanayagam\, Nanyang Technological University\, Sin
 gapore IEEE Magnetic Society 2024 Distinguished Lecturer.\n\nDetails: http
 s://scvmag.org/event/brain-inspired-computing-using-magnetic-domain-wall-d
 evices/\n\nSpeaker(s): Prem\, \n\nAgenda: \n6:30 PM - 7:00 PM\n\nPizza and
  networking at Quadrant\n\n7:00 PM - 8:00 PM\n\nProf. Piramanayagam presen
 ts the DL talk followed by Q&amp;A\n\n8:00 PM - 8:05 PM\n\nGroup photo and mee
 ting adjourns\n\n1120 Ringwood Ct.\, San Jose\, California\, United States
 \, 95131\, Virtual: https://events.vtools.ieee.org/m/426870
LOCATION:1120 Ringwood Ct.\, San Jose\, California\, United States\, 95131\
 , Virtual: https://events.vtools.ieee.org/m/426870
ORGANIZER:officers@scvmag.org
SEQUENCE:3
SUMMARY:Brain-Inspired Computing Using Magnetic Domain Wall Devices
URL;VALUE=URI:https://events.vtools.ieee.org/m/426870
X-ALT-DESC:Description: &lt;br /&gt;&lt;h1 class=&quot;gmail-tribe-events-single-event-ti
 tle&quot;&gt;&lt;span style=&quot;font-size: large\;&quot;&gt;Brain-Inspired Computing Using Magne
 tic Domain Wall Devices&lt;/span&gt;&lt;/h1&gt;\n&lt;p class=&quot;MsoNormal&quot; align=&quot;center&quot;&gt;H
 ybrid Meeting&lt;/p&gt;\n&lt;p class=&quot;MsoNormal&quot; align=&quot;center&quot;&gt;On-line and In Pers
 on at Quadrant&lt;/p&gt;\n&lt;p class=&quot;MsoNormal&quot; align=&quot;center&quot;&gt;Refreshments will 
 be available at Quadrant prior to the start of the presentation.&lt;/p&gt;\n&lt;p c
 lass=&quot;MsoNormal&quot; align=&quot;center&quot;&gt;&amp;nbsp\;&lt;/p&gt;\n&lt;p class=&quot;MsoNormal&quot;&gt;&lt;strong&gt;
 Where:&lt;/strong&gt;&amp;nbsp\;Quadrant\, 1120 Ringwood ct. San Jose\, 92131. and O
 nline&amp;nbsp\;Click &lt;span style=&quot;color: #0000ff\;&quot;&gt;&lt;a title=&quot;https://www.eve
 ntbrite.com/e/brain-inspired-computing-using-magnetic-domain-wall-devices-
 tickets-938918770317?aff=oddtdtcreator&quot; href=&quot;https://www.eventbrite.com/e
 /brain-inspired-computing-using-magnetic-domain-wall-devices-tickets-93891
 8770317?aff=oddtdtcreator&quot; data-outlook-id=&quot;db233e8e-ad74-4689-a1d8-4079b7
 59b02c&quot;&gt;here&lt;/a&gt;&lt;/span&gt;&amp;nbsp\;to register.&lt;br&gt;&lt;strong&gt;When:&lt;/strong&gt;&amp;nbsp\
 ;Thursday\, August 8&lt;sup&gt;th&lt;/sup&gt;\, 2024\, from 6:30 p.m. to 8:00 p.m. PDT
  (GMT-8)&lt;br&gt;&lt;strong&gt;Who:&lt;/strong&gt;&amp;nbsp\;&amp;nbsp\;&lt;strong&gt;Prof.&amp;nbsp\;&lt;/stron
 g&gt;&lt;strong&gt;S. N. (Prem) Piramanayagam&lt;/strong&gt;&lt;strong&gt;\,&lt;span class=&quot;gmail-
 Apple-converted-space&quot;&gt;&amp;nbsp\;&lt;/span&gt;&lt;/strong&gt;Nanyang Technological Univer
 sity\,&lt;span class=&quot;gmail-Apple-converted-space&quot;&gt;&amp;nbsp\;&lt;/span&gt;Singapore &lt;s
 trong&gt;IEEE Magnetic Society 2024 Distinguished Lecturer&lt;/strong&gt;.&lt;/p&gt;\n&lt;p 
 class=&quot;MsoNormal&quot;&gt;&lt;br&gt;Details: &lt;a title=&quot;https://scvmag.org/event/brain-in
 spired-computing-using-magnetic-domain-wall-devices/&quot; href=&quot;https://scvmag
 .org/event/brain-inspired-computing-using-magnetic-domain-wall-devices/&quot; d
 ata-outlook-id=&quot;46209493-d7e7-4a5a-be4f-d05d7d9ad8e2&quot;&gt;https://scvmag.org/e
 vent/brain-inspired-computing-using-magnetic-domain-wall-devices/&lt;/a&gt;&lt;/p&gt;&lt;
 br /&gt;&lt;br /&gt;Agenda: &lt;br /&gt;&lt;div class=&quot;css-12r38kx e1nkw0yb0&quot; data-testid=&quot;S
 lotPreview&quot;&gt;\n&lt;div class=&quot;css-8cghab e1nkw0yb2&quot;&gt;\n&lt;p class=&quot;css-121w9yc e1
 nkw0yb3&quot; data-testid=&quot;preview-slot__time&quot;&gt;6:30 PM - 7:00 PM&lt;/p&gt;\n&lt;p class=
 &quot;css-121w9yc e1nkw0yb3&quot; data-testid=&quot;preview-slot__time&quot;&gt;Pizza and network
 ing at Quadrant&lt;/p&gt;\n&lt;/div&gt;\n&lt;/div&gt;\n&lt;div class=&quot;css-1hcum5r e1nkw0yb0&quot; da
 ta-testid=&quot;SlotPreview&quot;&gt;\n&lt;div class=&quot;css-nlrmv2 e1nkw0yb2&quot;&gt;\n&lt;p class=&quot;cs
 s-121w9yc e1nkw0yb3&quot; data-testid=&quot;preview-slot__time&quot;&gt;7:00 PM - 8:00 PM&lt;/p
 &gt;\n&lt;p class=&quot;css-bh5t0l e1nkw0yb4&quot;&gt;Prof. Piramanayagam presents the DL tal
 k followed by Q&amp;amp\;A&lt;/p&gt;\n&lt;/div&gt;\n&lt;/div&gt;\n&lt;div class=&quot;css-6pdkla e1nkw0y
 b0&quot; data-testid=&quot;SlotPreview&quot;&gt;\n&lt;div class=&quot;css-18vl9lm e1nkw0yb2&quot;&gt;\n&lt;p cl
 ass=&quot;css-121w9yc e1nkw0yb3&quot; data-testid=&quot;preview-slot__time&quot;&gt;8:00 PM - 8:0
 5 PM&lt;/p&gt;\n&lt;p class=&quot;css-bh5t0l e1nkw0yb4&quot;&gt;Group photo and meeting adjourns
 &lt;/p&gt;\n&lt;/div&gt;\n&lt;/div&gt;
END:VEVENT
END:VCALENDAR

