BEGIN:VCALENDAR
VERSION:2.0
PRODID:IEEE vTools.Events//EN
CALSCALE:GREGORIAN
BEGIN:VTIMEZONE
TZID:America/Mexico_City
BEGIN:STANDARD
DTSTART:20221030T010000
TZOFFSETFROM:-0500
TZOFFSETTO:-0600
TZNAME:CST
END:STANDARD
END:VTIMEZONE
BEGIN:VEVENT
DTSTAMP:20250330T051111Z
UID:64694D30-C5F1-4618-8675-08903BBC29E7
DTSTART;TZID=America/Mexico_City:20240814T120000
DTEND;TZID=America/Mexico_City:20240814T140000
DESCRIPTION:Participación de la rama en la semana de inducción en la Facu
 ltad de Ingeniería Mecánica y Eléctrica de la Universidad Veracruzana r
 egión Xalapa\, Veracruz.\nIntegrantes de la rama darán una plática a lo
 s alumnos de nuevo ingreso de la generación 2024 de la carrera de Ingenie
 ría Mecánica y Eléctrica\, en la cual\, se mencionarán los beneficios 
 y oportunidades que se obtienen al ser miembro de IEEE a parte de dar a co
 nocer todas las actividades que se han realizado por parte de los capítul
 os\, grupo de afinidad y la rama a partir desde que se creó y lo que se e
 spera hacer.\n\nCo-sponsored by: Facultad de Ingeniería Mecánica y Eléc
 trica\, Universidad Veracruzana\n\nAgenda: \n\n\nCircuito\, Universitario 
 Gonzalo Aguirre Beltrán S/N\, Centro\, Col. Zona Universitaria\, Xalapa\,
  Veracruz-Llave\, Mexico\, 91000
LOCATION:Circuito\, Universitario Gonzalo Aguirre Beltrán S/N\, Centro\, C
 ol. Zona Universitaria\, Xalapa\, Veracruz-Llave\, Mexico\, 91000
ORGANIZER:rodriguezpaola036@ieee.org
SEQUENCE:130
SUMMARY:Semana de inducción FIME UV Xalapa 2024
URL;VALUE=URI:https://events.vtools.ieee.org/m/427129
X-ALT-DESC:Description: &lt;br /&gt;&lt;p&gt;Participaci&amp;oacute\;n de la rama en la sem
 ana de inducci&amp;oacute\;n en la Facultad de Ingenier&amp;iacute\;a Mec&amp;aacute\;
 nica y El&amp;eacute\;ctrica de la Universidad Veracruzana regi&amp;oacute\;n Xala
 pa\, Veracruz.&amp;nbsp\;&lt;br&gt;Integrantes de la rama dar&amp;aacute\;n una pl&amp;aacut
 e\;tica a los alumnos de nuevo ingreso de la generaci&amp;oacute\;n 2024 de la
  carrera de Ingenier&amp;iacute\;a Mec&amp;aacute\;nica y El&amp;eacute\;ctrica\, en l
 a cual\, se mencionar&amp;aacute\;n los beneficios y oportunidades que se obti
 enen al ser miembro de IEEE a parte de dar a conocer todas las actividades
  que se han realizado por parte de los cap&amp;iacute\;tulos\, grupo de afinid
 ad y la rama a partir desde que se cre&amp;oacute\; y lo que se espera hacer.&lt;
 /p&gt;\n&lt;p&gt;&lt;img style=&quot;display: block\; margin-left: auto\; margin-right: aut
 o\;&quot; src=&quot;https://events.vtools.ieee.org/vtools_ui/media/display/4bd6644d-
 00b8-48f2-9ffd-4662d926da53&quot; width=&quot;791&quot; height=&quot;445&quot;&gt;&lt;/p&gt;&lt;br /&gt;&lt;br /&gt;Agen
 da: &lt;br /&gt;&lt;p&gt;&lt;img src=&quot;https://events.vtools.ieee.org/vtools_ui/media/disp
 lay/e7cf6706-b8e9-4177-88de-6d92d190b1df&quot; width=&quot;747&quot; height=&quot;423&quot;&gt;&lt;/p&gt;
END:VEVENT
END:VCALENDAR

