BEGIN:VCALENDAR
VERSION:2.0
PRODID:IEEE vTools.Events//EN
CALSCALE:GREGORIAN
BEGIN:VTIMEZONE
TZID:America/Chicago
BEGIN:DAYLIGHT
DTSTART:20240310T030000
TZOFFSETFROM:-0600
TZOFFSETTO:-0500
RRULE:FREQ=YEARLY;BYDAY=2SU;BYMONTH=3
TZNAME:CDT
END:DAYLIGHT
BEGIN:STANDARD
DTSTART:20241103T010000
TZOFFSETFROM:-0500
TZOFFSETTO:-0600
RRULE:FREQ=YEARLY;BYDAY=1SU;BYMONTH=11
TZNAME:CST
END:STANDARD
END:VTIMEZONE
BEGIN:VEVENT
DTSTAMP:20240723T012053Z
UID:744D7905-4453-4D31-90F0-6446CC8172B6
DTSTART;TZID=America/Chicago:20240718T091500
DTEND;TZID=America/Chicago:20240718T113000
DESCRIPTION:IEEE is invited to jump on a bus and visit the Duane Arnold Sol
 ar Projects while hearing a talk about the project. Transportation is limi
 ting us to the first 10 Registrations before July 15.\n\nThe tour is from 
 9:30 am - 11 am. We will meet at the NextEra office and once everyone has 
 arrived and grabbed food/refreshments we will depart for the tour of the f
 acility. The address of the NextEra office is – 606 1st St.\, Palo\, IA 
 52324.\n\nRegister below. Be at the Next Era office in Palo by 9:15am July
  18.\n\nFeatures of Duane Arnold Solar I:\n\n- Photovoltaic (PV) solar arr
 ays capable of generating up to 50 megawatts (MW) of clean\, renewable ene
 rgy with the potential to power up to 10\,000 homes.\n- The project will b
 e sited on an area of approximately 316 acres within an approximately 857-
 acre area.\n- Subject to local and state approvals\, the project is schedu
 led to begin operations by the end of 2024.\n\nFeatures of Duane Arnold So
 lar II:\n\n- Photovoltaic (PV) solar arrays capable of generating up to 15
 0 megawatts (MW) of clean\, renewable energy with the potential to power u
 p to 30\,000 homes.\n- A 75 megawatt (MW)\, 4-hour battery energy storage 
 facility.\n- The project will be sited upon approximately 815 acres within
  an approximately 1\,780-acre area.\n- Subject to local and state approval
 s\, the project is scheduled to begin operations by the end of 2024.\n\nCo
 -sponsored by: Duane Arnold Energy and Alliant Energy\n\nAgenda: \n9:15 Ar
 rive at Next Era Energy - Palo Office 606 1st Street\, Palo Iowa\n9:30 Boa
 rd the bus and begin the tour and talk\n11:00 Return to the Palo office.\n
 \nBldg: Next Era Energy\, 606 1st Street\, Palo\, Iowa\, United States\, 5
 2324
LOCATION:Bldg: Next Era Energy\, 606 1st Street\, Palo\, Iowa\, United Stat
 es\, 52324
ORGANIZER:lindholmbruce@gmail.com
SEQUENCE:36
SUMMARY:On-site Visit with a Talk about the Duane Arnold Solar Plant projec
 ts
URL;VALUE=URI:https://events.vtools.ieee.org/m/427173
X-ALT-DESC:Description: &lt;br /&gt;&lt;p&gt;IEEE is invited to jump on a bus and visit
  the &lt;strong&gt;Duane Arnold Solar Projects&lt;/strong&gt; while hearing a talk abo
 ut the project.&amp;nbsp\; &amp;nbsp\;Transportation is limiting us to &lt;strong&gt;the
  first 10 Registrations&lt;/strong&gt; before July 15.&lt;/p&gt;\n&lt;p&gt;&lt;span style=&quot;text
 -decoration: underline\;&quot;&gt;The tour is from 9:30 am - 11 am&lt;/span&gt;.&amp;nbsp\; 
 We will meet at the NextEra office and once everyone has arrived and grabb
 ed food/refreshments we will depart for the tour of the facility. &lt;strong&gt;
 The address of the NextEra office is &amp;ndash\; 606 1&lt;sup&gt;st&lt;/sup&gt; St.\, Pal
 o\, IA 52324.&lt;/strong&gt;&lt;/p&gt;\n&lt;p&gt;&lt;strong&gt;Register below&lt;/strong&gt;.&amp;nbsp\; &amp;nb
 sp\;Be at the Next Era office in Palo by 9:15am July 18.&amp;nbsp\;&amp;nbsp\;&lt;/p&gt;
 \n&lt;p&gt;&lt;strong&gt;Features of Duane Arnold Solar I:&lt;/strong&gt;&lt;/p&gt;\n&lt;ul&gt;\n&lt;li&gt;Pho
 tovoltaic (PV) solar arrays capable of generating up to 50 megawatts (MW) 
 of clean\, renewable energy with the potential to power up to 10\,000 home
 s.&lt;/li&gt;\n&lt;li&gt;The project will be sited on an area of approximately 316 acr
 es within an approximately 857-acre area.&lt;/li&gt;\n&lt;li&gt;Subject to local and s
 tate approvals\, the project is scheduled to begin operations by the end o
 f 2024.&lt;/li&gt;\n&lt;/ul&gt;\n&lt;p&gt;&lt;strong&gt;Features of Duane Arnold Solar II:&lt;/strong
 &gt;&lt;/p&gt;\n&lt;ul&gt;\n&lt;li&gt;Photovoltaic (PV) solar arrays capable of generating up t
 o 150 megawatts (MW) of clean\, renewable energy with the potential to pow
 er up to 30\,000 homes.&lt;/li&gt;\n&lt;li&gt;A 75 megawatt (MW)\, 4-hour battery ener
 gy storage facility.&lt;/li&gt;\n&lt;li&gt;The project will be sited upon approximatel
 y 815 acres within an approximately 1\,780-acre area.&amp;nbsp\;&lt;/li&gt;\n&lt;li&gt;Sub
 ject to local and state approvals\, the project is scheduled to begin oper
 ations by the end of 2024.&lt;/li&gt;\n&lt;/ul&gt;&lt;br /&gt;&lt;br /&gt;Agenda: &lt;br /&gt;&lt;p&gt;9:15&amp;nb
 sp\; &amp;nbsp\;Arrive at Next Era Energy - Palo Office 606 1st Street\, Palo 
 Iowa&lt;br&gt;9:30&amp;nbsp\; &amp;nbsp\;Board the bus and begin the tour and talk&lt;br&gt;11
 :00 Return to the Palo office.&lt;/p&gt;
END:VEVENT
END:VCALENDAR

