BEGIN:VCALENDAR
VERSION:2.0
PRODID:IEEE vTools.Events//EN
CALSCALE:GREGORIAN
BEGIN:VTIMEZONE
TZID:Australia/Adelaide
BEGIN:DAYLIGHT
DTSTART:20241006T030000
TZOFFSETFROM:+0930
TZOFFSETTO:+1030
RRULE:FREQ=YEARLY;BYDAY=1SU;BYMONTH=10
TZNAME:ACDT
END:DAYLIGHT
BEGIN:STANDARD
DTSTART:20240407T020000
TZOFFSETFROM:+1030
TZOFFSETTO:+0930
RRULE:FREQ=YEARLY;BYDAY=1SU;BYMONTH=4
TZNAME:ACST
END:STANDARD
END:VTIMEZONE
BEGIN:VEVENT
DTSTAMP:20240812T232907Z
UID:2D173CB5-20C2-4D60-B6CB-205403DD9E8D
DTSTART;TZID=Australia/Adelaide:20240807T121500
DTEND;TZID=Australia/Adelaide:20240807T141500
DESCRIPTION:The mostly Australian designed and constructed satellite AMSAT 
 OSCAR 7\, or AO-7\, was launched on 15 November\n1974 and has just reached
  50 years in space. It is the oldest man-made satellite in history to have
  ever worked for as\nlong as that - and it is still working! The primary a
 im of AO7 is to provide earth-satellite-earth radio communications\nbetwee
 n Radio Amateurs within its “foot-print” on the earth below . Using on
 e or more satellites\, Amateur radio\ncommunications can be achieved over 
 very large distances.\n\nRick will describe how an Australian University t
 eam was formed in 1967 with the aim to plan\, design\, and construct an ea
 rth orbiting satellite that was to become known as AO-5 when it was launch
 ed on 23 January 1970. Soon aŌer that\, work commenced on AO-6 and AO-7. 
 Rick will describe the construction of the AO-6 and AO7 satellites. They w
 ere the ﬁrst satellites to use of CMOS logic for their Radio Teletype an
 d Morse coding and decoding functions. Rick was involved in the design of 
 that logic. Other ﬁrsts for the AO satellite series were their unique an
 tennas and magnetic spin stabilisation.\n\nSo\, of all the satellites ever
  launched throughout the Space Age it is AO-7 that is still operating toda
 y after 50 years in space providing Radio Amateur operators throughout the
  world with radio communications even including the Polish Resistance duri
 ng their struggle for independence. And in its long life\, AO-7 has deﬁe
 d all those who said CMOS would never survive in space.\n\nSpeaker(s): \, 
 Rick\n\nRoom: Floor 11\, Bldg: Engineers Australia\, 108 King William St\,
  Adelaide\, South Australia\, Australia\, 5000
LOCATION:Room: Floor 11\, Bldg: Engineers Australia\, 108 King William St\,
  Adelaide\, South Australia\, Australia\, 5000
ORGANIZER:Keith.Kikkert@iinet.net.au
SEQUENCE:16
SUMMARY:AMSAT Oscar 7\, Operating 50 Yr
URL;VALUE=URI:https://events.vtools.ieee.org/m/427183
X-ALT-DESC:Description: &lt;br /&gt;&lt;p&gt;The &amp;nbsp\;mostly &amp;nbsp\;Australian &amp;nbsp\
 ;designed &amp;nbsp\;and &amp;nbsp\;constructed &amp;nbsp\;satellite AMSAT &amp;nbsp\;OSCA
 R &amp;nbsp\;7\, &amp;nbsp\;or &amp;nbsp\;AO-7\, &amp;nbsp\;was &amp;nbsp\;launched &amp;nbsp\;on 
 &amp;nbsp\;15 &amp;nbsp\;November&amp;nbsp\;&lt;br&gt;1974 and has just reached 50 years in 
 space. It is the oldest man-made &amp;nbsp\;satellite &amp;nbsp\;in &amp;nbsp\;history
  &amp;nbsp\;to &amp;nbsp\;have &amp;nbsp\;ever &amp;nbsp\;worked &amp;nbsp\;for &amp;nbsp\;as&amp;nbsp
 \;&lt;br&gt;long as that - and it is still working! The primary aim of AO7 is &amp;n
 bsp\;to &amp;nbsp\;provide &amp;nbsp\;earth-satellite-earth &amp;nbsp\;radio &amp;nbsp\;co
 mmunications&amp;nbsp\;&lt;br&gt;between Radio Amateurs within its &amp;ldquo\;foot-prin
 t&amp;rdquo\; on the earth below &amp;nbsp\;. &amp;nbsp\;Using &amp;nbsp\;one &amp;nbsp\;or &amp;n
 bsp\;more &amp;nbsp\;satellites\, &amp;nbsp\;Amateur &amp;nbsp\;radio&amp;nbsp\;&lt;br&gt;commun
 ications can be achieved over very large distances.&amp;nbsp\;&lt;/p&gt;\n&lt;p&gt;Rick &amp;n
 bsp\;will &amp;nbsp\;describe &amp;nbsp\;how &amp;nbsp\;an &amp;nbsp\;Australian &amp;nbsp\;Un
 iversity &amp;nbsp\;team &amp;nbsp\;was formed in 1967 with the aim to plan\, desi
 gn\, and construct an earth orbiting satellite that was to become known as
  AO-5 when it &amp;nbsp\;was &amp;nbsp\;launched &amp;nbsp\;on &amp;nbsp\;23 &amp;nbsp\;Januar
 y &amp;nbsp\;1970. &amp;nbsp\;Soon &amp;nbsp\;aŌer &amp;nbsp\;that\, &amp;nbsp\;work commence
 d &amp;nbsp\;on &amp;nbsp\;AO-6 &amp;nbsp\;and &amp;nbsp\;AO-7. &amp;nbsp\; &amp;nbsp\;Rick &amp;nbsp\
 ;will &amp;nbsp\;describe &amp;nbsp\;the construction of the AO-6 and AO7 satellit
 es. They were the ﬁrst satellites &amp;nbsp\;to &amp;nbsp\;use &amp;nbsp\;of &amp;nbsp\;
 CMOS &amp;nbsp\;logic &amp;nbsp\;for &amp;nbsp\;their &amp;nbsp\; &amp;nbsp\;Radio &amp;nbsp\;Tele
 type &amp;nbsp\;and Morse coding and decoding functions. Rick was involved in 
 the design of that logic. Other ﬁrsts for the AO satellite series were t
 heir unique antennas and magnetic spin stabilisation.&amp;nbsp\;&lt;/p&gt;\n&lt;p&gt;So\, 
 of all the satellites ever launched throughout the Space Age it is AO-7 th
 at is still operating today after &amp;nbsp\;50 &amp;nbsp\;years &amp;nbsp\;in &amp;nbsp\;
 space &amp;nbsp\;providing &amp;nbsp\;Radio &amp;nbsp\;Amateur &amp;nbsp\;operators &amp;nbsp\
 ;throughout &amp;nbsp\;the &amp;nbsp\;world &amp;nbsp\;with &amp;nbsp\;radio communication
 s even including the Polish Resistance during their struggle for independe
 nce. And in its long life\, AO-7 has deﬁed all those who said CMOS would
  never survive in space. &amp;nbsp\;&lt;/p&gt;
END:VEVENT
END:VCALENDAR

