BEGIN:VCALENDAR
VERSION:2.0
PRODID:IEEE vTools.Events//EN
CALSCALE:GREGORIAN
BEGIN:VTIMEZONE
TZID:America/New_York
BEGIN:DAYLIGHT
DTSTART:20240310T030000
TZOFFSETFROM:-0500
TZOFFSETTO:-0400
RRULE:FREQ=YEARLY;BYDAY=2SU;BYMONTH=3
TZNAME:EDT
END:DAYLIGHT
BEGIN:STANDARD
DTSTART:20241103T010000
TZOFFSETFROM:-0400
TZOFFSETTO:-0500
RRULE:FREQ=YEARLY;BYDAY=1SU;BYMONTH=11
TZNAME:EST
END:STANDARD
END:VTIMEZONE
BEGIN:VEVENT
DTSTAMP:20240730T235936Z
UID:36605F46-93A1-4C27-AD87-F197DEF6571C
DTSTART;TZID=America/New_York:20240726T120000
DTEND;TZID=America/New_York:20240726T130000
DESCRIPTION:Generative Artificial Intelligence has revolutionized various s
 ectors\, from creative arts to complex data analysis. This lecture\, &quot;Intr
 oduction to Generative AI using Diverse Platforms\,&quot; aims to provide a com
 prehensive overview of the capabilities and applications of cutting-edge g
 enerative AI models. We&#39;ll explore the fundamentals of generative AI\, its
  evolution\, and its transformative impact across industries.\n\nThe lectu
 re will delve into the workings of prominent generative AI platforms\, inc
 luding LLAMA\, Gemini\, and others\, highlighting their unique features\, 
 strengths\, and practical applications. Through a comparative analysis\, w
 e will learn how these platforms leverage advanced algorithms and neural n
 etworks to generate human-like text\, images\, and other media.\n\nKey top
 ics to be covered include:\n\n- Understanding Generative AI: An overview o
 f the core principles\, basic concepts and techniques underlying generativ
 e AI\, including neural networks\, deep learning\, and probabilistic model
 s.\n- Platform Dive: Exploration of LLAMA\, Gemini\, Chat-GPT and their ca
 pabilities.\n- Applications and Use Cases: Real-world examples demonstrati
 ng the diverse applications of generative AI.&quot;\n\nSpeaker(s): \, Bhupinder
  Mavi\n\nVirtual: https://events.vtools.ieee.org/m/427201
LOCATION:Virtual: https://events.vtools.ieee.org/m/427201
ORGANIZER:adabaja@ieee.org
SEQUENCE:8
SUMMARY:Introduction to Generative AI Using Diverse Platforms
URL;VALUE=URI:https://events.vtools.ieee.org/m/427201
X-ALT-DESC:Description: &lt;br /&gt;&lt;div&gt;Generative Artificial Intelligence has r
 evolutionized various sectors\, from creative arts to complex data analysi
 s. This lecture\, &quot;Introduction to Generative AI using Diverse Platforms\,
 &quot; aims to provide a comprehensive overview of the capabilities and applica
 tions of cutting-edge generative AI models. We&#39;ll explore the fundamentals
  of generative AI\, its evolution\, and its transformative impact across i
 ndustries.&lt;/div&gt;\n&lt;div&gt;&amp;nbsp\;&lt;/div&gt;\n&lt;div&gt;The lecture will delve into the
  workings of prominent generative AI platforms\, including LLAMA\, Gemini\
 , and others\, highlighting their unique features\, strengths\, and practi
 cal applications. Through a comparative analysis\, we will learn how these
  platforms leverage advanced algorithms and neural networks to generate hu
 man-like text\, images\, and other media.&lt;/div&gt;\n&lt;div&gt;&amp;nbsp\;&lt;/div&gt;\n&lt;div&gt;
 Key topics to be covered include:&lt;/div&gt;\n&lt;div&gt;\n&lt;ul&gt;\n&lt;li&gt;Understanding Ge
 nerative AI: An overview of the core principles\, basic concepts and techn
 iques underlying generative AI\, including neural networks\, deep learning
 \, and probabilistic models.&lt;/li&gt;\n&lt;li&gt;Platform Dive: Exploration of LLAMA
 \, Gemini\, Chat-GPT and their capabilities.&lt;/li&gt;\n&lt;li&gt;Applications and Us
 e Cases: Real-world examples demonstrating the diverse applications of gen
 erative AI.&quot;&lt;/li&gt;\n&lt;/ul&gt;\n&lt;/div&gt;
END:VEVENT
END:VCALENDAR

