BEGIN:VCALENDAR
VERSION:2.0
PRODID:IEEE vTools.Events//EN
CALSCALE:GREGORIAN
BEGIN:VTIMEZONE
TZID:America/Sao_Paulo
BEGIN:DAYLIGHT
DTSTART:20380119T001407
TZOFFSETFROM:-0300
TZOFFSETTO:-0300
RRULE:FREQ=YEARLY;BYDAY=3TU;BYMONTH=1
TZNAME:-03
END:DAYLIGHT
BEGIN:STANDARD
DTSTART:20190216T230000
TZOFFSETFROM:-0200
TZOFFSETTO:-0300
RRULE:FREQ=YEARLY;BYDAY=3SA;BYMONTH=2
TZNAME:-03
END:STANDARD
END:VTIMEZONE
BEGIN:VEVENT
DTSTAMP:20250212T220734Z
UID:DB1B4FD3-38E4-46D3-8337-444BE00F4941
DTSTART;TZID=America/Sao_Paulo:20240717T110000
DTEND;TZID=America/Sao_Paulo:20240717T120000
DESCRIPTION:IEEE Young Professionals CN Event\n\nThe IEEE Young Professiona
 ls of the Centro-Norte Brasil Section is pleased to announce the lecture T
 he Roadmap to Professional Excellence in Chip Making and AI-enhancements\,
  featuring Ms. Rupal Jain\, a accomplished professional in the electrical 
 and electronic engineering\, semiconductor\, and production operations ind
 ustries. With an impressive resume and extensive experience\, Rupal will p
 rovide valuable insights on achieving professional excellence in chip manu
 facturing and AI enhancements.\n\nWhat to Expect from the Lecture:\n\n- In
 novation in Chip Manufacturing: Discover the latest trends and technologie
 s revolutionizing chip manufacturing.\n- AI Enhancements: Understand how a
 dvancements in artificial intelligence are shaping the future of engineeri
 ng and production.\n- Professional Excellence\n\nVirtual: https://events.v
 tools.ieee.org/m/427301
LOCATION:Virtual: https://events.vtools.ieee.org/m/427301
ORGANIZER:gustavo.penido@ieee.org
SEQUENCE:15
SUMMARY:The Roadmap to Professional Excellence in Chip Making and AI-enhanc
 ements
URL;VALUE=URI:https://events.vtools.ieee.org/m/427301
X-ALT-DESC:Description: &lt;br /&gt;&lt;p&gt;&amp;nbsp\;&lt;/p&gt;\n&lt;p&gt;&lt;img src=&quot;https://events.v
 tools.ieee.org/vtools_ui/media/display/a1f8e62d-a0c1-4b3b-ae64-ec991f74254
 3&quot;&gt;&lt;/p&gt;\n&lt;p&gt;&lt;strong&gt;IEEE Young Professionals CN Event&lt;/strong&gt;&lt;/p&gt;\n&lt;p&gt;The
  IEEE Young Professionals of the Centro-Norte Brasil Section is pleased to
  announce the lecture &lt;strong&gt;The Roadmap to Professional Excellence in Ch
 ip Making and AI-enhancements&lt;/strong&gt;\, featuring Ms. Rupal Jain\, a acco
 mplished professional in the electrical and electronic engineering\, semic
 onductor\, and production operations industries. With an impressive resume
  and extensive experience\, Rupal will provide valuable insights on achiev
 ing professional excellence in chip manufacturing and AI enhancements.&lt;/p&gt;
 \n&lt;p&gt;What to Expect from the Lecture:&lt;/p&gt;\n&lt;ul&gt;\n&lt;li&gt;&lt;strong&gt;Innovation in
  Chip Manufacturing&lt;/strong&gt;: Discover the latest trends and technologies 
 revolutionizing chip manufacturing.&lt;/li&gt;\n&lt;li&gt;&lt;strong&gt;AI Enhancements&lt;/str
 ong&gt;: Understand how advancements in artificial intelligence are shaping t
 he future of engineering and production.&lt;/li&gt;\n&lt;li&gt;&lt;strong&gt;Professional Ex
 cellence&lt;/strong&gt;&lt;/li&gt;\n&lt;/ul&gt;
END:VEVENT
END:VCALENDAR

