BEGIN:VCALENDAR
VERSION:2.0
PRODID:IEEE vTools.Events//EN
CALSCALE:GREGORIAN
BEGIN:VTIMEZONE
TZID:America/Chicago
BEGIN:DAYLIGHT
DTSTART:20240310T030000
TZOFFSETFROM:-0600
TZOFFSETTO:-0500
RRULE:FREQ=YEARLY;BYDAY=2SU;BYMONTH=3
TZNAME:CDT
END:DAYLIGHT
BEGIN:STANDARD
DTSTART:20241103T010000
TZOFFSETFROM:-0500
TZOFFSETTO:-0600
RRULE:FREQ=YEARLY;BYDAY=1SU;BYMONTH=11
TZNAME:CST
END:STANDARD
END:VTIMEZONE
BEGIN:VEVENT
DTSTAMP:20241009T024000Z
UID:DE5D7D95-7C62-4FB3-8024-7102246999C1
DTSTART;TZID=America/Chicago:20241008T190000
DTEND;TZID=America/Chicago:20241008T200000
DESCRIPTION:Taking Calculated Risks in your career and finding your niche. 
 A discussion of some early trials of being an engineer when there were ver
 y few engineers and how using Risk Management\, my niche\, helped me navig
 ate through obstacles\, to eventually end up doing what I wanted and lovin
 g it.[]\n\nSpeaker(s): Mercedes &#39;Mercy&#39; Massana\n\nVirtual: https://events
 .vtools.ieee.org/m/427412
LOCATION:Virtual: https://events.vtools.ieee.org/m/427412
ORGANIZER:mpatrick@ieee.org
SEQUENCE:24
SUMMARY:Mercedes Massana - Taking Calculated Risks in Your Career and Findi
 ng Your Niche
URL;VALUE=URI:https://events.vtools.ieee.org/m/427412
X-ALT-DESC:Description: &lt;br /&gt;&lt;p&gt;Taking Calculated Risks in your career and
  finding your niche. A discussion of some early trials of being an enginee
 r when there were very few engineers and how using Risk Management\, my ni
 che\, helped me navigate through obstacles\, to eventually end up doing wh
 at I wanted and loving it.&lt;img src=&quot;https://events.vtools.ieee.org/vtools_
 ui/media/display/38ebd160-fb59-45e9-963c-dce9ae46bfaa&quot; alt=&quot;&quot;&gt;&lt;/p&gt;
END:VEVENT
END:VCALENDAR

