BEGIN:VCALENDAR
VERSION:2.0
PRODID:IEEE vTools.Events//EN
CALSCALE:GREGORIAN
BEGIN:VTIMEZONE
TZID:America/New_York
BEGIN:DAYLIGHT
DTSTART:20240310T030000
TZOFFSETFROM:-0500
TZOFFSETTO:-0400
RRULE:FREQ=YEARLY;BYDAY=2SU;BYMONTH=3
TZNAME:EDT
END:DAYLIGHT
BEGIN:STANDARD
DTSTART:20241103T010000
TZOFFSETFROM:-0400
TZOFFSETTO:-0500
RRULE:FREQ=YEARLY;BYDAY=1SU;BYMONTH=11
TZNAME:EST
END:STANDARD
END:VTIMEZONE
BEGIN:VEVENT
DTSTAMP:20250405T223847Z
UID:5E6C7FC3-D8CF-4AE4-B456-4BAD8F35EE09
DTSTART;TZID=America/New_York:20240927T083000
DTEND;TZID=America/New_York:20240927T163000
DESCRIPTION:[]\n\nThank you to our Corporate Sponsors! https://www.cnf.corn
 ell.edu/events/nys_nano/2024\n\nOn Friday\, Sept 27th\, RIT will host the 
 New York State Nanotechnology Network (NNN) Symposium geared toward connec
 ting NYS undergraduate and graduate students with our NYS industry partner
 s for the purpose of learning about and discussing &quot;Growing the Semiconduc
 tor Workforce.&quot; The day will include a morning session with student\, gove
 rnment\, and industry talks\, and an afternoon Poster Session &amp; Career Fai
 r!\n\nThe goal of this Career Fair-themed symposium is to showcase the NYS
  student workforce talent pipeline and to bring together universities and 
 industries to exchange information and to present technology research acti
 vities in and around NYS. Come and network with us. Find the great employe
 es you were looking to hire -- or find your dream job!\n\nThis event also 
 coincides with the IEEE EDS Activities in Western New York Conference\, ma
 rking the 44th event!\n\nSTUDENTS: Plan to submit a nano-research-related 
 abstract by August 21st to be part of this showcase for New York State stu
 dents.\n\nAbstract submission website: https://www.cnf.cornell.edu/events/
 nys_nano/2024/abstracts  CLOSED\n\nCareer Fair CV/Resume submission: [SECU
 RE BOX LINK](https://cornell.app.box.com/f/e16d751e68104980937403338787e96
 8)\n\nNYS COMPANIES: Become a symposium sponsor to participate in the symp
 osium\, student showcase\, and Career Fair.\n\nSponsor website: https://ww
 w.cnf.cornell.edu/events/nys_nano/2024/sponsorships\n\nFind out what is ne
 w in the Semiconductor Industry\, nanotechnology\, and workforce needs in 
 New York State!\n\nCo-sponsored by: New York State Nanotechnology Network 
 (NNN)\n\nSpeaker(s): Scott Bukofsky\, Nicole Kerness\, Lisa Fritz\, Panel 
 Session on Workforce Development\n\nAgenda: \n2024 NNN Symposium &quot;Growing 
 the NYS Semiconductor Workforce&quot;\n\nStudent Hall for Exploration and Devel
 opment (SHED)\, Room 3350\n\nRochester Institute of Technology\n\nAgenda:\
 n\n8:30-9:00 a.m. Registration &amp; Continental Breakfast\n\n9:00 a.m. Welcom
 e Remarks\n\n- Karl Hirschman\, RIT\n- Ron Olson\, CNF\n\n9:15-10:30 a.m. 
 Invited Keynote Speakers\n\n- Session chair: Ross Goodman\, U Albany\n- 9:
 15 - 9:40 &quot;CHIPS R&amp;D and Workforce Programs for Sustained U.S. Leadership&quot;
 \n- Scott Bukofsky\, Director of Capabilities for the CHIPS National Semic
 onductor Technology Center\, Department of Commerce\n\n- 9:40 - 10:05 &quot;Inv
 enting the Ideal Ohmic Switch&quot;\n- Nicole Kerness\, Senior Director\, Proce
 ss Engineering and Integration\, Menlo Micro\n\n- 10:05 - 10:30 &quot;Silicon C
 arbide – Transforming the Semiconductor and Automotive Industries with t
 he Power to Make it Real&quot;\n- Lisa Fritz\, Senior Vice President of Global 
 Quality\, Wolfspeed\n\n10:30-11:00a.m. Coffee break &amp; poster set-up\n\n11:
 00-12:30p.m. Student oral presentations\n\n- Session chair: Nava Ariel\, C
 olumbia University\n\n12:30-1:15p.m. Lunch + Poster Preview\n\n1:15-1:40p.
 m. Invited talk (Micron) - T.B.D.\n\n1:45-3:15p.m. Workforce Development P
 anel Session\n\n- Michael Jackson\, RIT (moderator)\n- Dan Dechene\, IBM R
 esearch\n- Andrew Seward\, TEL\n- Scott Bukofsky\, Department of Commerce\
 n- Nicole Kerness\, Menlo Micro\n- Ida Habtemichael\, Micron\n- Lisa Fritz
 \, Wolfspeed\n- Keith Tabakman\, GlobalFoundries\n\n3:15-5:00p.m. Poster S
 ession &amp; Sponsor Career Fair\n\n- Note: Poster judging ends at 4:30p.m.\n\
 n5:00p.m. Closing remarks\n\n5:15p.m. Student awards and group photograph\
 n\n5:30p.m. Adjourn\n\nRoom: 3350\, Bldg: Student Hall for Exploration and
  Development (SHED) \, Rochester Institute of Technology\, One Lomb Memori
 al Drive\, Rochester\, New York\, United States\, 14623
LOCATION:Room: 3350\, Bldg: Student Hall for Exploration and Development (S
 HED) \, Rochester Institute of Technology\, One Lomb Memorial Drive\, Roch
 ester\, New York\, United States\, 14623
ORGANIZER:kdhemc@rit.edu
SEQUENCE:53
SUMMARY:2024 New York State Nanotechnology Network (NNN) Symposium / IEEE E
 DS Activities in Western NY
URL;VALUE=URI:https://events.vtools.ieee.org/m/427651
X-ALT-DESC:Description: &lt;br /&gt;&lt;p class=&quot;MsoNormal&quot; style=&quot;margin-bottom: .0
 001pt\; text-align: justify\; line-height: normal\;&quot;&gt;&lt;span style=&quot;font-siz
 e: 12.0pt\;&quot;&gt;&lt;img src=&quot;https://events.vtools.ieee.org/vtools_ui/media/disp
 lay/7fa2c2dc-f44a-4df8-a1fb-607e5a3cf7ee&quot; alt=&quot;&quot; width=&quot;826&quot; height=&quot;194&quot;&gt;
 &lt;/span&gt;&lt;/p&gt;\n&lt;p class=&quot;MsoNormal&quot; style=&quot;margin-bottom: .0001pt\; text-ali
 gn: justify\; line-height: normal\;&quot;&gt;&lt;strong&gt;&lt;span style=&quot;font-size: 12.0p
 t\;&quot;&gt;Thank you to our Corporate Sponsors! &amp;nbsp\;&lt;span style=&quot;color: rgb(8
 8\, 53\, 219)\;&quot;&gt;&lt;a style=&quot;color: rgb(88\, 53\, 219)\;&quot; href=&quot;https://www.
 cnf.cornell.edu/events/nys_nano/2024&quot;&gt;https://www.cnf.cornell.edu/events/n
 ys_nano/2024&lt;/a&gt;&amp;nbsp\;&lt;/span&gt;&lt;/span&gt;&lt;/strong&gt;&lt;/p&gt;\n&lt;p class=&quot;MsoNormal&quot; s
 tyle=&quot;margin-bottom: .0001pt\; text-align: justify\; line-height: normal\;
 &quot;&gt;&amp;nbsp\;&lt;/p&gt;\n&lt;p class=&quot;MsoNormal&quot; style=&quot;margin-bottom: .0001pt\; text-a
 lign: justify\; line-height: normal\;&quot;&gt;&lt;span style=&quot;font-size: 12.0pt\;&quot;&gt;O
 n Friday\, Sept 27th\, RIT will host the New York State Nanotechnology Net
 work (NNN) Symposium geared toward connecting NYS undergraduate and gradua
 te students with our NYS industry partners for the purpose of learning abo
 ut and discussing &quot;Growing the Semiconductor Workforce.&quot; The day will incl
 ude a morning session with student\, government\, and industry talks\, and
  an afternoon Poster Session &amp;amp\; Career Fair!&lt;/span&gt;&lt;/p&gt;\n&lt;p class=&quot;Mso
 Normal&quot; style=&quot;margin-bottom: .0001pt\; text-align: justify\; line-height:
  normal\;&quot;&gt;&amp;nbsp\;&lt;/p&gt;\n&lt;p class=&quot;MsoNormal&quot; style=&quot;margin-bottom: .0001pt
 \; text-align: justify\; line-height: normal\;&quot;&gt;&lt;span style=&quot;font-size: 12
 .0pt\;&quot;&gt;The goal of this Career Fair-themed symposium is to showcase the N
 YS student workforce talent pipeline and to bring together universities an
 d industries to exchange information and to present technology research ac
 tivities in and around NYS. Come and network with us. Find the great emplo
 yees you were looking to hire -- or find your dream job!&lt;/span&gt;&lt;/p&gt;\n&lt;p cl
 ass=&quot;MsoNormal&quot; style=&quot;margin-bottom: .0001pt\; text-align: justify\; line
 -height: normal\;&quot;&gt;&amp;nbsp\;&lt;/p&gt;\n&lt;p class=&quot;MsoNormal&quot; style=&quot;margin-bottom:
  .0001pt\; text-align: justify\; line-height: normal\;&quot;&gt;This event also co
 incides with the&amp;nbsp\;&lt;span style=&quot;color: rgb(224\, 62\, 45)\;&quot;&gt;&lt;strong&gt;I
 EEE EDS Activities in Western New York Conference&lt;/strong&gt;&lt;/span&gt;\, markin
 g the 44th event!&amp;nbsp\;&amp;nbsp\;&lt;/p&gt;\n&lt;p class=&quot;MsoNormal&quot; style=&quot;margin-bo
 ttom: .0001pt\; text-align: justify\; line-height: normal\;&quot;&gt;&amp;nbsp\;&lt;/p&gt;\n
 &lt;p class=&quot;MsoNormal&quot; style=&quot;margin-bottom: 6.0pt\; text-align: justify\; l
 ine-height: normal\;&quot;&gt;&lt;strong style=&quot;mso-bidi-font-weight: normal\;&quot;&gt;&lt;span
  style=&quot;font-size: 12.0pt\;&quot;&gt;STUDENTS:&lt;/span&gt;&lt;/strong&gt;&lt;span style=&quot;font-si
 ze: 12.0pt\;&quot;&gt; Plan to submit a nano-research-related abstract by August 2
 1st to be part of this showcase for New York State students.&amp;nbsp\;&lt;/span&gt;
 &lt;/p&gt;\n&lt;p class=&quot;MsoNormal&quot; style=&quot;margin-bottom: 6.0pt\; text-align: justi
 fy\; line-height: normal\;&quot;&gt;&lt;span style=&quot;font-size: 12.0pt\;&quot;&gt;&amp;nbsp\; &amp;nbs
 p\; &amp;nbsp\; &amp;nbsp\;&lt;strong&gt;Abstract submission website: &amp;nbsp\;&lt;/strong&gt;&lt;/
 span&gt;&lt;strong&gt;&lt;span style=&quot;color: rgb(88\, 53\, 219)\;&quot;&gt;&lt;a style=&quot;color: rg
 b(88\, 53\, 219)\;&quot; href=&quot;https://www.cnf.cornell.edu/events/nys_nano/2024
 /abstracts&quot;&gt;https://www.cnf.cornell.edu/events/nys_nano/2024/abstracts&lt;/a&gt;
 &amp;nbsp\;&lt;/span&gt; &amp;nbsp\; &lt;span style=&quot;color: rgb(224\, 62\, 45)\;&quot;&gt;CLOSED&lt;/s
 pan&gt;&lt;/strong&gt;&lt;/p&gt;\n&lt;p class=&quot;MsoNormal&quot; style=&quot;margin-bottom: 6.0pt\; text
 -align: justify\; line-height: normal\;&quot;&gt;&amp;nbsp\; &amp;nbsp\; &amp;nbsp\; &lt;strong&gt;C
 areer Fair CV/Resume submission:&lt;/strong&gt; &amp;nbsp\;&lt;span style=&quot;color: rgb(8
 8\, 53\, 219)\; font-size: 12pt\;&quot;&gt;&lt;strong&gt;&lt;span style=&quot;font-family: Calib
 ri\, sans-serif\;&quot;&gt;&lt;a style=&quot;color: rgb(88\, 53\, 219)\;&quot; href=&quot;https://co
 rnell.app.box.com/f/e16d751e68104980937403338787e968&quot;&gt;SECURE BOX LINK&lt;/a&gt; 
 &lt;/span&gt;&lt;/strong&gt;&lt;/span&gt;&lt;/p&gt;\n&lt;p class=&quot;MsoNormal&quot; style=&quot;margin-bottom: 6.
 0pt\; text-align: justify\; line-height: normal\;&quot;&gt;&amp;nbsp\;&lt;/p&gt;\n&lt;p class=&quot;
 MsoNormal&quot; style=&quot;margin-bottom: 6.0pt\; text-align: justify\; line-height
 : normal\;&quot;&gt;&lt;strong style=&quot;mso-bidi-font-weight: normal\;&quot;&gt;&lt;span style=&quot;fo
 nt-size: 12.0pt\;&quot;&gt;NYS COMPANIES:&lt;/span&gt;&lt;/strong&gt;&lt;span style=&quot;font-size: 1
 2.0pt\;&quot;&gt; Become a symposium sponsor to participate in the symposium\, stu
 dent showcase\, and Career Fair.&lt;/span&gt;&lt;/p&gt;\n&lt;p class=&quot;MsoNormal&quot;&gt;&lt;span st
 yle=&quot;mso-fareast-font-family: &#39;Times New Roman&#39;\;&quot;&gt;&amp;nbsp\; &amp;nbsp\; &lt;strong
 &gt;&amp;nbsp\; &amp;nbsp\;Sponsor website: &amp;nbsp\;&lt;/strong&gt;&lt;/span&gt;&lt;strong&gt;&lt;span styl
 e=&quot;color: rgb(88\, 53\, 219)\;&quot;&gt;&lt;a style=&quot;color: rgb(88\, 53\, 219)\;&quot; hre
 f=&quot;https://www.cnf.cornell.edu/events/nys_nano/2024/sponsorships&quot;&gt;https://
 www.cnf.cornell.edu/events/nys_nano/2024/sponsorships&lt;/a&gt;&amp;nbsp\;&lt;/span&gt;&lt;/s
 trong&gt;&lt;/p&gt;\n&lt;p class=&quot;MsoNormal&quot; style=&quot;margin-bottom: 6.0pt\; text-align:
  justify\; line-height: normal\;&quot;&gt;&lt;span style=&quot;font-size: 12.0pt\;&quot;&gt;&amp;nbsp\
 ;&lt;/span&gt;&lt;/p&gt;\n&lt;p class=&quot;MsoNormal&quot; style=&quot;margin-bottom: 6.0pt\; text-alig
 n: justify\; line-height: normal\;&quot;&gt;&lt;strong&gt;&lt;span style=&quot;font-size: 12.0pt
 \;&quot;&gt;Find out what is new in the Semiconductor Industry\, nanotechnology\, 
 and workforce needs in New York State!&lt;/span&gt;&lt;/strong&gt;&lt;/p&gt;\n&lt;p class=&quot;MsoN
 ormal&quot; style=&quot;margin-bottom: 6.0pt\; text-align: justify\; line-height: no
 rmal\;&quot;&gt;&amp;nbsp\;&lt;/p&gt;&lt;br /&gt;&lt;br /&gt;Agenda: &lt;br /&gt;&lt;p class=&quot;MsoNormal&quot; style=&quot;m
 argin-top: 6.0pt\; line-height: normal\;&quot;&gt;&lt;strong&gt;2024 NNN Symposium&amp;nbsp\
 ; &amp;nbsp\;&quot;Growing the NYS Semiconductor Workforce&quot;&lt;/strong&gt;&lt;/p&gt;\n&lt;p class=
 &quot;MsoNormal&quot; style=&quot;margin-top: 6.0pt\; line-height: normal\;&quot;&gt;&lt;strong&gt;Stud
 ent Hall for Exploration and Development (SHED)\, Room 3350&lt;/strong&gt;&lt;/p&gt;\n
 &lt;p class=&quot;MsoNormal&quot; style=&quot;margin-top: 6.0pt\; line-height: normal\;&quot;&gt;&lt;st
 rong&gt;Rochester Institute of Technology&lt;/strong&gt;&lt;/p&gt;\n&lt;p class=&quot;MsoNormal&quot; 
 style=&quot;margin-top: 6.0pt\; line-height: normal\;&quot;&gt;&amp;nbsp\;&lt;/p&gt;\n&lt;p class=&quot;M
 soNormal&quot; style=&quot;margin-top: 6.0pt\; line-height: normal\;&quot;&gt;&lt;span style=&quot;f
 ont-size: 12pt\;&quot;&gt;&lt;strong&gt;Agenda:&lt;/strong&gt;&lt;/span&gt;&lt;/p&gt;\n&lt;p class=&quot;MsoNormal
 &quot; style=&quot;margin-top: 6.0pt\; line-height: normal\;&quot;&gt;&lt;span style=&quot;font-size
 : 12pt\;&quot;&gt;&lt;strong&gt;8:30-9:00 a.m.&amp;nbsp\; &amp;nbsp\;Registration &amp;amp\; Contine
 ntal Breakfast&lt;/strong&gt;&lt;/span&gt;&lt;/p&gt;\n&lt;p class=&quot;MsoNormal&quot; style=&quot;margin-top
 : 6.0pt\; line-height: normal\;&quot;&gt;&lt;span style=&quot;font-size: 12pt\;&quot;&gt;&lt;strong&gt;9
 :00 a.m.&amp;nbsp\; &amp;nbsp\;Welcome Remarks&lt;/strong&gt;&lt;strong&gt;&amp;nbsp\;&lt;/strong&gt;&lt;/s
 pan&gt;&lt;/p&gt;\n&lt;ul&gt;\n&lt;li class=&quot;MsoNormal&quot; style=&quot;line-height: normal\;&quot;&gt;&lt;span 
 style=&quot;font-size: 12pt\;&quot;&gt;&lt;strong&gt;Karl Hirschman\, RIT&lt;/strong&gt;&lt;/span&gt;&lt;/li
 &gt;\n&lt;li class=&quot;MsoNormal&quot; style=&quot;line-height: normal\;&quot;&gt;&lt;span style=&quot;font-s
 ize: 12pt\;&quot;&gt;&lt;strong&gt;Ron Olson\, CNF&lt;/strong&gt;&lt;/span&gt;&lt;/li&gt;\n&lt;/ul&gt;\n&lt;p class
 =&quot;MsoNormal&quot; style=&quot;margin-top: 6.0pt\; line-height: normal\;&quot;&gt;&lt;span style
 =&quot;font-size: 12pt\;&quot;&gt;&lt;strong&gt;9:15-10:30 a.m.&amp;nbsp\; &amp;nbsp\;Invited Keynote
  Speakers&lt;/strong&gt;&lt;/span&gt;&lt;/p&gt;\n&lt;ul&gt;\n&lt;li class=&quot;MsoNormal&quot; style=&quot;line-hei
 ght: normal\;&quot;&gt;&lt;span style=&quot;font-size: 12pt\;&quot;&gt;&lt;strong&gt;Session chair:&amp;nbsp
 \; Ross Goodman\, U Albany&lt;/strong&gt;&lt;/span&gt;&lt;span style=&quot;font-size: 12pt\;&quot;&gt;
 &lt;strong&gt;&amp;nbsp\;&lt;/strong&gt;&lt;/span&gt;&lt;/li&gt;\n&lt;li class=&quot;MsoNormal&quot; style=&quot;line-he
 ight: normal\; font-size: 12pt\;&quot;&gt;&lt;span style=&quot;font-size: 12pt\;&quot;&gt;&lt;strong&gt;
 9:15 - 9:40&amp;nbsp\; &lt;em&gt;&quot;CHIPS R&amp;amp\;D and Workforce Programs for Sustaine
 d U.S. Leadership&quot;&lt;/em&gt;&lt;/strong&gt;&lt;/span&gt;\n&lt;ul&gt;\n&lt;li class=&quot;MsoNormal&quot; style
 =&quot;line-height: normal\; font-size: 12pt\;&quot;&gt;&lt;span style=&quot;font-size: 12pt\;&quot;
 &gt;&lt;strong&gt;Scott Bukofsky\, Director of Capabilities for the CHIPS National 
 Semiconductor Technology Center\, Department of Commerce&lt;/strong&gt;&lt;/span&gt;&lt;/
 li&gt;\n&lt;/ul&gt;\n&lt;/li&gt;\n&lt;li class=&quot;MsoNormal&quot; style=&quot;line-height: normal\; font
 -size: 12pt\;&quot;&gt;&lt;span style=&quot;font-size: 12pt\;&quot;&gt;&lt;strong&gt;9:40 - 10:05&amp;nbsp\;
  &lt;em&gt;&quot;Inventing the Ideal Ohmic Switch&quot;&lt;/em&gt;&lt;/strong&gt;&lt;/span&gt;\n&lt;ul&gt;\n&lt;li cl
 ass=&quot;MsoNormal&quot; style=&quot;line-height: normal\; font-size: 12pt\;&quot;&gt;&lt;span styl
 e=&quot;font-size: 12pt\;&quot;&gt;&lt;strong&gt;Nicole Kerness\, Senior Director\, Process E
 ngineering and Integration\, Menlo Micro&lt;/strong&gt;&lt;/span&gt;&lt;/li&gt;\n&lt;/ul&gt;\n&lt;/li
 &gt;\n&lt;li class=&quot;MsoNormal&quot; style=&quot;line-height: normal\; font-size: 12pt\;&quot;&gt;&lt;
 span style=&quot;font-size: 12pt\;&quot;&gt;&lt;strong&gt;10:05 - 10:30&amp;nbsp\; &amp;nbsp\;&lt;em&gt;&quot;Si
 licon Carbide &amp;ndash\; Transforming the Semiconductor and Automotive Indus
 tries with the Power to Make it Real&quot;&lt;/em&gt;&lt;/strong&gt;&lt;/span&gt;\n&lt;ul&gt;\n&lt;li clas
 s=&quot;MsoNormal&quot; style=&quot;line-height: normal\; font-size: 12pt\;&quot;&gt;&lt;span style=
 &quot;font-size: 12pt\;&quot;&gt;&lt;strong&gt;Lisa Fritz\, &lt;/strong&gt;&lt;/span&gt;&lt;strong&gt;&lt;span sty
 le=&quot;font-size: 12pt\;&quot;&gt;Senior Vice President of Global Quality\, &lt;strong&gt;W
 olfspeed&lt;/strong&gt;&lt;/span&gt;&lt;br&gt;&lt;/strong&gt;&lt;/li&gt;\n&lt;/ul&gt;\n&lt;/li&gt;\n&lt;/ul&gt;\n&lt;p class=
 &quot;MsoNormal&quot; style=&quot;margin-top: 6.0pt\; line-height: normal\;&quot;&gt;&lt;span style=
 &quot;font-size: 12pt\;&quot;&gt;&lt;strong&gt;10:30-11:00a.m.&amp;nbsp\; &amp;nbsp\; Coffee break &amp;a
 mp\; poster set-up&lt;/strong&gt;&lt;/span&gt;&lt;/p&gt;\n&lt;p class=&quot;MsoNormal&quot; style=&quot;margin
 -top: 6.0pt\; line-height: normal\;&quot;&gt;&lt;span style=&quot;font-size: 12pt\;&quot;&gt;&lt;stro
 ng&gt;11:00-12:30p.m.&amp;nbsp\; &amp;nbsp\;Student oral presentations&lt;/strong&gt;&lt;/span
 &gt;&lt;/p&gt;\n&lt;ul&gt;\n&lt;li class=&quot;MsoNormal&quot; style=&quot;line-height: normal\;&quot;&gt;&lt;span sty
 le=&quot;font-size: 12pt\;&quot;&gt;&lt;strong&gt;Session chair:&amp;nbsp\; Nava Ariel\, Columbia
  University&lt;/strong&gt;&lt;/span&gt;&lt;/li&gt;\n&lt;/ul&gt;\n&lt;p class=&quot;MsoNormal&quot; style=&quot;margi
 n-top: 6.0pt\; line-height: normal\;&quot;&gt;&lt;span style=&quot;font-size: 12pt\;&quot;&gt;&lt;str
 ong&gt;12:30-1:15p.m.&amp;nbsp\; &amp;nbsp\; Lunch + Poster Preview&amp;nbsp\;&lt;/strong&gt;&lt;/
 span&gt;&lt;/p&gt;\n&lt;p class=&quot;MsoNormal&quot; style=&quot;margin-top: 6.0pt\; line-height: no
 rmal\;&quot;&gt;&lt;span style=&quot;font-size: 12pt\;&quot;&gt;&lt;strong&gt;1:15-1:40p.m.&amp;nbsp\; &amp;nbsp
 \;Invited talk (Micron) - T.B.D.&lt;/strong&gt;&lt;/span&gt;&lt;/p&gt;\n&lt;p class=&quot;MsoNormal&quot;
  style=&quot;margin-top: 6.0pt\; line-height: normal\;&quot;&gt;&lt;span style=&quot;font-size:
  12pt\;&quot;&gt;&lt;strong&gt;1:45-3:15p.m.&amp;nbsp\; Workforce Development Panel Session&lt;
 /strong&gt;&lt;/span&gt;&lt;/p&gt;\n&lt;ul&gt;\n&lt;li class=&quot;MsoNormal&quot; style=&quot;line-height: norma
 l\;&quot;&gt;&lt;span style=&quot;font-size: 12pt\;&quot;&gt;&lt;strong&gt;Michael Jackson\, RIT (modera
 tor)&lt;/strong&gt;&lt;/span&gt;&lt;/li&gt;\n&lt;li class=&quot;MsoNormal&quot; style=&quot;line-height: norma
 l\;&quot;&gt;&lt;span style=&quot;font-size: 12pt\;&quot;&gt;&lt;strong&gt;Dan Dechene\, IBM Research&lt;/s
 trong&gt;&lt;/span&gt;&lt;/li&gt;\n&lt;li class=&quot;MsoNormal&quot; style=&quot;line-height: normal\;&quot;&gt;&lt;s
 pan style=&quot;font-size: 12pt\;&quot;&gt;&lt;strong&gt;Andrew Seward\, TEL&lt;/strong&gt;&lt;/span&gt;&lt;
 /li&gt;\n&lt;li class=&quot;MsoNormal&quot; style=&quot;line-height: normal\;&quot;&gt;&lt;span style=&quot;fon
 t-size: 12pt\;&quot;&gt;&lt;strong&gt;Scott Bukofsky\, Department of Commerce&lt;/strong&gt;&lt;/
 span&gt;&lt;/li&gt;\n&lt;li class=&quot;MsoNormal&quot; style=&quot;line-height: normal\;&quot;&gt;&lt;span styl
 e=&quot;font-size: 12pt\;&quot;&gt;&lt;strong&gt;Nicole Kerness\, Menlo Micro&lt;/strong&gt;&lt;/span&gt;
 &lt;/li&gt;\n&lt;li class=&quot;MsoNormal&quot; style=&quot;line-height: normal\;&quot;&gt;&lt;span style=&quot;fo
 nt-size: 12pt\;&quot;&gt;&lt;strong&gt;Ida Habtemichael\, Micron&lt;/strong&gt;&lt;/span&gt;&lt;/li&gt;\n&lt;
 li class=&quot;MsoNormal&quot; style=&quot;line-height: normal\;&quot;&gt;&lt;span style=&quot;font-size:
  12pt\;&quot;&gt;&lt;strong&gt;Lisa Fritz\, Wolfspeed&lt;/strong&gt;&lt;/span&gt;&lt;/li&gt;\n&lt;li class=&quot;M
 soNormal&quot; style=&quot;line-height: normal\;&quot;&gt;&lt;span style=&quot;font-size: 12pt\;&quot;&gt;&lt;s
 trong&gt;Keith Tabakman\, GlobalFoundries&lt;/strong&gt;&lt;/span&gt;&lt;/li&gt;\n&lt;/ul&gt;\n&lt;p cla
 ss=&quot;MsoNormal&quot; style=&quot;margin-top: 6.0pt\; line-height: normal\;&quot;&gt;&lt;span sty
 le=&quot;font-size: 12pt\;&quot;&gt;&lt;strong&gt;3:15-5:00p.m.&amp;nbsp\; Poster Session &amp;amp\; 
 Sponsor Career Fair&lt;/strong&gt;&lt;/span&gt;&lt;/p&gt;\n&lt;ul&gt;\n&lt;li class=&quot;MsoNormal&quot; style
 =&quot;line-height: normal\;&quot;&gt;&lt;span style=&quot;font-size: 12pt\;&quot;&gt;&lt;strong&gt;Note:&amp;nbs
 p\; Poster judging ends at 4:30p.m.&amp;nbsp\;&lt;/strong&gt;&lt;/span&gt;&lt;/li&gt;\n&lt;/ul&gt;\n&lt;p
  class=&quot;MsoNormal&quot; style=&quot;margin-top: 6.0pt\; line-height: normal\;&quot;&gt;&lt;span
  style=&quot;font-size: 12pt\;&quot;&gt;&lt;strong&gt;5:00p.m.&amp;nbsp\; &amp;nbsp\;Closing remarks&amp;
 nbsp\;&lt;/strong&gt;&lt;/span&gt;&lt;/p&gt;\n&lt;p class=&quot;MsoNormal&quot; style=&quot;margin-top: 6.0pt\
 ; line-height: normal\;&quot;&gt;&lt;span style=&quot;font-size: 12pt\;&quot;&gt;&lt;strong&gt;5:15p.m.&amp;
 nbsp\; &amp;nbsp\;Student awards and group photograph&lt;/strong&gt;&lt;/span&gt;&lt;/p&gt;\n&lt;p 
 class=&quot;MsoNormal&quot; style=&quot;margin-top: 6.0pt\; line-height: normal\;&quot;&gt;&lt;span 
 style=&quot;font-size: 12pt\;&quot;&gt;&lt;strong&gt;5:30p.m.&amp;nbsp\; &amp;nbsp\;Adjourn&amp;nbsp\;&lt;/s
 trong&gt;&lt;/span&gt;&lt;/p&gt;\n&lt;p class=&quot;MsoNormal&quot; style=&quot;margin-top: 6.0pt\; line-he
 ight: normal\;&quot;&gt;&amp;nbsp\;&lt;/p&gt;\n&lt;p class=&quot;MsoNormal&quot; style=&quot;margin-top: 6.0pt
 \; line-height: normal\;&quot;&gt;&amp;nbsp\;&lt;/p&gt;
END:VEVENT
END:VCALENDAR

