BEGIN:VCALENDAR
VERSION:2.0
PRODID:IEEE vTools.Events//EN
CALSCALE:GREGORIAN
BEGIN:VTIMEZONE
TZID:US/Central
BEGIN:DAYLIGHT
DTSTART:20240310T030000
TZOFFSETFROM:-0600
TZOFFSETTO:-0500
RRULE:FREQ=YEARLY;BYDAY=2SU;BYMONTH=3
TZNAME:CDT
END:DAYLIGHT
BEGIN:STANDARD
DTSTART:20241103T010000
TZOFFSETFROM:-0500
TZOFFSETTO:-0600
RRULE:FREQ=YEARLY;BYDAY=1SU;BYMONTH=11
TZNAME:CST
END:STANDARD
END:VTIMEZONE
BEGIN:VEVENT
DTSTAMP:20240824T024629Z
UID:4E431B06-CEDF-4230-90F9-5E6619613502
DTSTART;TZID=US/Central:20240820T183000
DTEND;TZID=US/Central:20240820T200000
DESCRIPTION:This is a technical presentation/tour on 5G from US Cellular.\n
 \nLight dinner will be provided by IEEE - Tulsa Section and a speaker will
  give a short presentation then host a short walking tour to an actual dow
 ntown 5G cell site.\n\nCo-sponsored by: US Cellular - Tulsa Engineering Di
 vision\n\nSpeaker(s): Shawn\, \n\nAgenda: \n6:30 Presentation &amp; Food\n\n7:
 30 Walking Tour with Q&amp;A\n\nBldg: Elgin Park Brewery\, 325 E Mathew Brady 
 St\, Tulsa\, Oklahoma\, United States\, 74120
LOCATION:Bldg: Elgin Park Brewery\, 325 E Mathew Brady St\, Tulsa\, Oklahom
 a\, United States\, 74120
ORGANIZER:zach.s.carpenter@gmail.com
SEQUENCE:27
SUMMARY:5G in Tulsa - Presented by US Cellular
URL;VALUE=URI:https://events.vtools.ieee.org/m/427965
X-ALT-DESC:Description: &lt;br /&gt;&lt;p&gt;This is a technical presentation/tour on 5
 G from US Cellular.&lt;/p&gt;\n&lt;p&gt;Light dinner will be provided by IEEE - Tulsa 
 Section and a speaker will give a short presentation then host a short wal
 king tour to an actual downtown 5G cell site.&lt;/p&gt;&lt;br /&gt;&lt;br /&gt;Agenda: &lt;br /
 &gt;&lt;p&gt;6:30 Presentation &amp;amp\; Food&lt;/p&gt;\n&lt;p&gt;7:30 Walking Tour with Q&amp;amp\;A&lt;
 /p&gt;
END:VEVENT
END:VCALENDAR

