BEGIN:VCALENDAR
VERSION:2.0
PRODID:IEEE vTools.Events//EN
CALSCALE:GREGORIAN
BEGIN:VTIMEZONE
TZID:Asia/Kolkata
BEGIN:STANDARD
DTSTART:19451014T230000
TZOFFSETFROM:+0630
TZOFFSETTO:+0530
TZNAME:IST
END:STANDARD
END:VTIMEZONE
BEGIN:VEVENT
DTSTAMP:20240721T204036Z
UID:C658E336-BE88-45CE-A145-A29EF7764690
DTSTART;TZID=Asia/Kolkata:20240504T100000
DTEND;TZID=Asia/Kolkata:20240722T020000
DESCRIPTION:The IEEE JUIT Student Branch successfully organised its annual 
 flagship event\, RnD Expo 2024\, over a span of three days\, commenced wit
 h a grand inauguration ceremony. Dr. Shruti Jain\, Dr. Hemant Sood\, and D
 r. Ashish Kumar graced the occasion\, infusing the event with prestige and
  setting the stage for an enriching experience.\n\nThis event brought toge
 ther vibrant mix of technical enthusiasts\, gamers\, and movie buffs\, mak
 ing it a memorable experience for all participants. The expo included a va
 riety of events\, such as hack Expo\, coding challenges\, gaming competiti
 ons\, and a movie night\, catering to a wide range of interests and skills
 .\n\nThe expo included a variety of events\, such as Hack Expo\, coding ch
 allenges\, gaming competitions\, and a movie night\, catering to a wide ra
 nge of interests and skills. The event kicked off with Hack Expo\, a hack 
 expo that challenged participants to showcase their innovative solutions t
 o real-world problems. Team presenting projects that showcased creativity\
 , technical skills\, and problem-solving abilities.\n\nJaypee University O
 f Information Technology\, Solan\, Himachal Pradesh\, India\, 173234
LOCATION:Jaypee University Of Information Technology\, Solan\, Himachal Pra
 desh\, India\, 173234
ORGANIZER:ieee.juit@juitsolan.in
SEQUENCE:4
SUMMARY:HACK-EXPO
URL;VALUE=URI:https://events.vtools.ieee.org/m/428240
X-ALT-DESC:Description: &lt;br /&gt;&lt;p dir=&quot;ltr&quot;&gt;The IEEE JUIT Student Branch suc
 cessfully organised its annual flagship event\, RnD Expo 2024\, over a spa
 n of three days\, commenced with a grand inauguration ceremony. Dr. Shruti
  Jain\, Dr. Hemant Sood\, and Dr. Ashish Kumar graced the occasion\, infus
 ing the event with prestige and setting the stage for an enriching experie
 nce.&lt;/p&gt;\n&lt;p dir=&quot;ltr&quot;&gt;&lt;img src=&quot;https://lh7-us.googleusercontent.com/docs
 z/AD_4nXf6_thkyFMRvHJMKiTYZenVPEXmUkcIivNnT4XJFxo6z1QvsR11HYHsoylW7_9q9lHK
 W0ce3KBrn50wEsrTs41fVvxjdpGw5latmPCJ_2fA50Guf1Q0sD-EySPjIAE1a11ksoDEUVq2bO
 QbTrkpm6yOHQDR?key=sTJbcv3IWU2ZH6bK9H5Bzg&quot; width=&quot;602&quot; height=&quot;516&quot;&gt;&lt;/p&gt;\n
 &lt;p dir=&quot;ltr&quot;&gt;This event brought together vibrant mix of technical enthusia
 sts\, gamers\, and movie buffs\, making it a memorable experience for all 
 participants. The expo included a variety of events\, such as hack Expo\, 
 coding challenges\, gaming competitions\, and a movie night\, catering to 
 a wide range of interests and skills.&lt;/p&gt;\n&lt;p dir=&quot;ltr&quot;&gt;The expo included 
 a variety of events\, such as Hack Expo\, coding challenges\, gaming compe
 titions\, and a movie night\, catering to a wide range of interests and sk
 ills. The event kicked off with Hack Expo\, a hack expo that challenged pa
 rticipants to showcase their innovative solutions to real-world problems. 
 Team presenting projects that showcased creativity\, technical skills\, an
 d problem-solving abilities.&lt;/p&gt;
END:VEVENT
END:VCALENDAR

