BEGIN:VCALENDAR
VERSION:2.0
PRODID:IEEE vTools.Events//EN
CALSCALE:GREGORIAN
BEGIN:VTIMEZONE
TZID:America/Los_Angeles
BEGIN:DAYLIGHT
DTSTART:20250309T030000
TZOFFSETFROM:-0800
TZOFFSETTO:-0700
RRULE:FREQ=YEARLY;BYDAY=2SU;BYMONTH=3
TZNAME:PDT
END:DAYLIGHT
BEGIN:STANDARD
DTSTART:20241103T010000
TZOFFSETFROM:-0700
TZOFFSETTO:-0800
RRULE:FREQ=YEARLY;BYDAY=1SU;BYMONTH=11
TZNAME:PST
END:STANDARD
END:VTIMEZONE
BEGIN:VEVENT
DTSTAMP:20241111T160116Z
UID:27305DA5-5B2E-4F8C-9D5E-51133B6E9750
DTSTART;TZID=America/Los_Angeles:20241104T060000
DTEND;TZID=America/Los_Angeles:20241104T120000
DESCRIPTION:[]This is the second year for the IEEE Online Forum on Climate 
 Change Technologies. The Online Forum highlights some of the work that is 
 being done to develop technologies to address climate mitigation and adapt
 ation. https://ieee-ofcct.org/\n\nYou are invited to be a Patron for the O
 nline forum. As a Patron\, you have two options for support.\n\nGiving Gre
 en $500 level - You will have the opportunity to post a 3-minute video\, y
 our logo\, and a weblink on our website. (Ideal for Industry Partners)\n\n
 Good Energy $250 level - You will have the opportunity to post your logo\,
  and a weblink on the event website. (Ideal for Societies and Regions)\n\n
 There will be two sessions\, one before the 2024 COP and the Board Series 
 November 4-7\, and the other session\, after December 2-5. There will be 1
 6 interesting talks and panels. Last year we had over 500 attendees for th
 e inaugural conference.\n\nTo sign up as a Patron\, use the &quot;Register Now&quot;
  button\, and choose your level on this page\n\nIf you would prefer to get
  an invoice\, reach out to the Online Forum treasurer\, sagar@g.ucla.edu\n
 \nWe’ll reach out to you and get the information for the web page\, http
 s://ieee-ofcct.org/sponsors/.\n\nYour support of the IEEE Online Forum on 
 Climate Change Technologies will be greatly appreciated.\n\nVirtual: https
 ://events.vtools.ieee.org/m/428567
LOCATION:Virtual: https://events.vtools.ieee.org/m/428567
ORGANIZER:c.jackson@ieee.org
SEQUENCE:36
SUMMARY:Patron Support for the IEEE Online Forum on Climate Change Technolo
 gies
URL;VALUE=URI:https://events.vtools.ieee.org/m/428567
X-ALT-DESC:Description: &lt;br /&gt;&lt;p class=&quot;MsoNormal&quot; style=&quot;mso-margin-top-al
 t: auto\; mso-margin-bottom-alt: auto\;&quot;&gt;&lt;span style=&quot;font-family: &#39;Verdan
 a&#39;\,sans-serif\;&quot;&gt;&lt;img src=&quot;https://events.vtools.ieee.org/vtools_ui/media
 /display/c2009587-5dbf-45a2-b474-76a44e5d431a&quot; alt=&quot;&quot; width=&quot;1140&quot; height=
 &quot;268&quot;&gt;This is the second year for the IEEE Online Forum on Climate Change 
 Technologies. The Online Forum highlights some of the work that is being d
 one to develop technologies to address climate mitigation and adaptation.&amp;
 nbsp\;&amp;nbsp\;&lt;/span&gt;&lt;a href=&quot;https://ieee-ofcct.org/&quot; target=&quot;_blank&quot; rel=
 &quot;noopener&quot;&gt;&lt;span style=&quot;font-family: &#39;Verdana&#39;\,sans-serif\;&quot;&gt;https://ieee
 -ofcct.org/&lt;/span&gt;&lt;/a&gt;&lt;/p&gt;\n&lt;p class=&quot;MsoNormal&quot; style=&quot;mso-margin-top-alt
 : auto\; mso-margin-bottom-alt: auto\;&quot;&gt;&lt;span style=&quot;font-family: &#39;Verdana
 &#39;\,sans-serif\;&quot;&gt;You are invited to be a Patron for the Online forum.&amp;nbsp
 \; As a Patron\, you have two options for support.&lt;/span&gt;&lt;/p&gt;\n&lt;p class=&quot;M
 soNormal&quot; style=&quot;mso-margin-top-alt: auto\; mso-margin-bottom-alt: auto\;&quot;
 &gt;&lt;strong&gt;&lt;span style=&quot;font-family: &#39;Verdana&#39;\,sans-serif\;&quot;&gt;Giving Green $
 500 level&lt;/span&gt;&lt;/strong&gt;&lt;span style=&quot;font-family: &#39;Verdana&#39;\,sans-serif\;
 &quot;&gt; - You will have the opportunity to post a 3-minute video\, your logo\, 
 and a weblink on our website. (Ideal for Industry Partners)&lt;/span&gt;&lt;/p&gt;\n&lt;p
  class=&quot;MsoNormal&quot; style=&quot;mso-margin-top-alt: auto\; mso-margin-bottom-alt
 : auto\;&quot;&gt;&lt;strong&gt;&lt;span style=&quot;font-family: &#39;Verdana&#39;\,sans-serif\;&quot;&gt;Good 
 Energy $250 level &lt;/span&gt;&lt;/strong&gt;&lt;span style=&quot;font-family: &#39;Verdana&#39;\,san
 s-serif\;&quot;&gt;-&amp;nbsp\; You will have the opportunity to post your logo\, and 
 a weblink on the event website. (Ideal for Societies and Regions)&lt;/span&gt;&lt;/
 p&gt;\n&lt;p class=&quot;MsoNormal&quot; style=&quot;mso-margin-top-alt: auto\; mso-margin-bott
 om-alt: auto\;&quot;&gt;&lt;span style=&quot;font-family: &#39;Verdana&#39;\,sans-serif\;&quot;&gt;There w
 ill be two sessions\, one before the 2024 COP and the Board Series Novembe
 r 4-7\, and the other session\, after December 2-5.&amp;nbsp\; There will be 1
 6 interesting talks and panels.&amp;nbsp\; Last year we had over 500 attendees
  for the inaugural conference.&lt;/span&gt;&lt;/p&gt;\n&lt;p class=&quot;MsoNormal&quot; style=&quot;mso
 -margin-top-alt: auto\; mso-margin-bottom-alt: auto\;&quot;&gt;&lt;span style=&quot;font-f
 amily: &#39;Verdana&#39;\,sans-serif\;&quot;&gt;To sign up as a Patron\, use the &quot;Register
  Now&quot; button\, and choose your level on this page&lt;/span&gt;&lt;/p&gt;\n&lt;p class=&quot;Ms
 oNormal&quot; style=&quot;mso-margin-top-alt: auto\; mso-margin-bottom-alt: auto\;&quot;&gt;
 &lt;span style=&quot;font-family: &#39;Verdana&#39;\,sans-serif\;&quot;&gt;If you would prefer to 
 get an invoice\, reach out to the Online Forum treasurer\, &lt;a href=&quot;mailto
 :sagar@g.ucla.edu&quot;&gt;sagar@g.ucla.edu&lt;/a&gt; &lt;/span&gt;&lt;/p&gt;\n&lt;p class=&quot;MsoNormal&quot; 
 style=&quot;mso-margin-top-alt: auto\; mso-margin-bottom-alt: auto\;&quot;&gt;&lt;span sty
 le=&quot;font-family: &#39;Verdana&#39;\,sans-serif\;&quot;&gt;We&amp;rsquo\;ll reach out to you an
 d get the information for the web page\,&amp;nbsp\;&lt;/span&gt;&lt;a href=&quot;https://iee
 e-ofcct.org/sponsors/&quot; target=&quot;_blank&quot; rel=&quot;noopener&quot;&gt;&lt;span style=&quot;font-fa
 mily: &#39;Verdana&#39;\,sans-serif\;&quot;&gt;https://ieee-ofcct.org/sponsors/&lt;/span&gt;&lt;/a&gt;
 &lt;span style=&quot;font-family: &#39;Verdana&#39;\,sans-serif\;&quot;&gt;.&lt;/span&gt;&lt;/p&gt;\n&lt;p class=
 &quot;MsoNormal&quot; style=&quot;mso-margin-top-alt: auto\; mso-margin-bottom-alt: auto\
 ;&quot;&gt;&lt;span style=&quot;font-family: &#39;Verdana&#39;\,sans-serif\;&quot;&gt;Your support of the 
 IEEE Online Forum on Climate Change Technologies will be greatly appreciat
 ed.&lt;/span&gt;&lt;/p&gt;\n&lt;p class=&quot;MsoNormal&quot;&gt;&amp;nbsp\;&lt;/p&gt;
END:VEVENT
END:VCALENDAR

