BEGIN:VCALENDAR
VERSION:2.0
PRODID:IEEE vTools.Events//EN
CALSCALE:GREGORIAN
BEGIN:VTIMEZONE
TZID:America/New_York
BEGIN:DAYLIGHT
DTSTART:20240310T030000
TZOFFSETFROM:-0500
TZOFFSETTO:-0400
RRULE:FREQ=YEARLY;BYDAY=2SU;BYMONTH=3
TZNAME:EDT
END:DAYLIGHT
BEGIN:STANDARD
DTSTART:20241103T010000
TZOFFSETFROM:-0400
TZOFFSETTO:-0500
RRULE:FREQ=YEARLY;BYDAY=1SU;BYMONTH=11
TZNAME:EST
END:STANDARD
END:VTIMEZONE
BEGIN:VEVENT
DTSTAMP:20240911T190106Z
UID:BB8152EB-33AA-461E-AF3A-B6360B5499C1
DTSTART;TZID=America/New_York:20240904T170000
DTEND;TZID=America/New_York:20240904T190000
DESCRIPTION:The Cleveland chapter of the IEEE Computer Society is gathering
  to meet and talk with peers about what interesting work is going on in th
 e area.\n\nThis is meant to be a conversational setting .\n\nLet’s hear 
 your story and talk about how we should leverage our local IEEE Computer S
 ociety membership .\n\nI’ll have some examples prepared\, but we want to
  know what is interesting to you and how you’d like to structure gatheri
 ngs for our group in the future.\n\nSpace is limited so please register to
  let us know you’re coming.\n\nAgenda: \n10 minute Recap of what the IEE
 E Cleveland Chapter events this year\n\n10 minute overview of resources av
 ailable to IEEE Members\, and specifically the Computer Society\n\n1 hour 
 open discussion of interesting professional projects. (I have some example
 s if needed)\n\n15 minute recap of what we heard and what we&#39;d like gather
 ings to look like going forward.\n\nNotes:\n\nThe lodge has 8 conference s
 ized tables (dining chairs with backs) seating approximately 64 people wit
 h (2) 14 ft. counters.\n\nAlcohol is permitted inside the lodge only. No a
 lcohol in the parking lot\, restrooms or on the trails.\n\nA tabletop whit
 eboard will be provided for illustration.\n\nDrinks and snacks will be pro
 vided.\n\nBldg: Holbrook Hollows Lodge\, 7250 Country Lane\, Chagrin Falls
 \, Ohio\, United States\, 44023
LOCATION:Bldg: Holbrook Hollows Lodge\, 7250 Country Lane\, Chagrin Falls\,
  Ohio\, United States\, 44023
ORGANIZER:ChrisWeber@IEEE.org
SEQUENCE:47
SUMMARY:Gathering of the Cleveland chapter of the IEEE Computer Society
URL;VALUE=URI:https://events.vtools.ieee.org/m/428612
X-ALT-DESC:Description: &lt;br /&gt;&lt;p class=&quot;p1&quot;&gt;The Cleveland chapter of the IE
 EE Computer Society is gathering to meet and talk with peers about what in
 teresting work is going on in the area.&lt;/p&gt;\n&lt;p class=&quot;p2&quot;&gt;&amp;nbsp\;&lt;/p&gt;\n&lt;p
  class=&quot;p1&quot;&gt;This is meant to be a conversational setting .&lt;/p&gt;\n&lt;p class=&quot;
 p1&quot;&gt;Let&amp;rsquo\;s hear your story and talk about how we should leverage our
  local IEEE Computer Society membership .&lt;/p&gt;\n&lt;p class=&quot;p1&quot;&gt;I&amp;rsquo\;ll h
 ave some examples prepared\, but we want to know what is interesting to yo
 u and how you&amp;rsquo\;d like to structure gatherings for our group in the f
 uture.&lt;/p&gt;\n&lt;p class=&quot;p1&quot;&gt;Space is limited so please register to let us kn
 ow you&amp;rsquo\;re coming.&lt;/p&gt;&lt;br /&gt;&lt;br /&gt;Agenda: &lt;br /&gt;&lt;p&gt;10 minute Recap o
 f what the IEEE Cleveland Chapter events this year&lt;/p&gt;\n&lt;p&gt;10 minute overv
 iew of resources available to IEEE Members\, and specifically the Computer
  Society&lt;/p&gt;\n&lt;p&gt;1 hour open discussion of interesting professional projec
 ts. (I have some examples if needed)&amp;nbsp\;&lt;/p&gt;\n&lt;p&gt;15 minute recap of wha
 t we heard and what we&#39;d like gatherings to look like going forward.&lt;/p&gt;\n
 &lt;table border=&quot;0&quot; width=&quot;650&quot; cellspacing=&quot;0&quot; cellpadding=&quot;6&quot;&gt;\n&lt;tbody&gt;\n&lt;
 tr valign=&quot;top&quot;&gt;\n&lt;td width=&quot;350&quot;&gt;\n&lt;p&gt;Notes:&lt;/p&gt;\n&lt;p&gt;The lodge has 8 conf
 erence sized tables (dining chairs with backs) seating approximately 64 pe
 ople with (2) 14 ft. counters.&lt;/p&gt;\n&lt;p&gt;Alcohol is permitted inside the lod
 ge only. No alcohol in the parking lot\, restrooms or on the trails.&lt;/p&gt;\n
 &lt;p class=&quot;p1&quot;&gt;A tabletop whiteboard will be provided for illustration.&lt;/p&gt;
 \n&lt;p class=&quot;p1&quot;&gt;Drinks and snacks will be provided.&lt;/p&gt;\n&lt;/td&gt;\n&lt;/tr&gt;\n&lt;/t
 body&gt;\n&lt;/table&gt;
END:VEVENT
END:VCALENDAR

