BEGIN:VCALENDAR
VERSION:2.0
PRODID:IEEE vTools.Events//EN
CALSCALE:GREGORIAN
BEGIN:VTIMEZONE
TZID:America/Los_Angeles
BEGIN:DAYLIGHT
DTSTART:20240310T030000
TZOFFSETFROM:-0800
TZOFFSETTO:-0700
RRULE:FREQ=YEARLY;BYDAY=2SU;BYMONTH=3
TZNAME:PDT
END:DAYLIGHT
BEGIN:STANDARD
DTSTART:20241103T010000
TZOFFSETFROM:-0700
TZOFFSETTO:-0800
RRULE:FREQ=YEARLY;BYDAY=1SU;BYMONTH=11
TZNAME:PST
END:STANDARD
END:VTIMEZONE
BEGIN:VEVENT
DTSTAMP:20240916T133723Z
UID:EC39EB7C-6F6F-4756-AEAB-046DD44915BD
DTSTART;TZID=America/Los_Angeles:20240913T120000
DTEND;TZID=America/Los_Angeles:20240913T163000
DESCRIPTION:Summary: Built by the Army Corps of Engineers between 1933 and 
 1942\, Grand Coulee Dam was the largest concrete structure in the world fo
 r decades. With the expansion of the third power station in 1974 made it t
 he largest power plant in the world at the time. It still remains the larg
 est power plant in the USA with a capacity of over 6 GW in three power sta
 tions. It also has a large pumped storage facility of several hundred MW t
 hat links to the Columbia Basin Irrigation Project. As the center-piece of
  the Columbia Basin Project\, the dam&#39;s reservoir supplies water for the i
 rrigation of 671\,000 acres.\n\nTour Summary:\n\nThe tour will start at 12
 :00 noon at the Visitor Center where we will receive a safety briefing. We
  will then get into USBR vans and head to the Crown Point Viewing Area\, N
 orth Dam\, Banks Lake Headworks\, Pumping Generating Plant\, 3rd Powerhous
 e and top of dam. Then back to the vans and visitor center by 4:30.\n\nVis
 it Requirements:\n\n· This is a hard hat\, VIP tour of an operating power
  plant so closed toe shoes and sensible clothing is required. Shorts\, dre
 sses\, sleeveless shirts\, tank tops\, high heels are not permitted.\n\n·
  Photo ID is required for this tour. Unfortunately\, US Citizens only due 
 to the time it takes to perform background checks. US citizens will be ask
 ed to provide a copy of their ID sent directly by email or mail to the USB
 R at least one week in advance of the tour and will be required to present
  their driver’s licenses or valid ID the day of the tour.  The email add
 ress of where to send your ID will be provided after registration.\n\n· N
 o backpacks\, fanny pack\, bags\, purses\, etc.\, are allowed. Wallets fit
 ting in a pocket are OK. Water will be provided along the way.\n\n· This 
 is a technical tour for IEEE members and their quests. There is a shorter 
 tour available for the public that may be more appropriate for others such
  as younger children. More info on the public tour can be found at https:/
 /www.usbr.gov/pn/grandcoulee/visit/index.html\n\n· Coming early or stayin
 g late\, the daily nightly laser show starts at 8:30 pm.\n\n· There is a 
 significant amount of standing\, walking and climbing stairs on this tour.
 \n\n· Photos are allowed in most areas of the tour. Restricted areas will
  be pointed out\n\n- To attend this tour\, you will need register by Augus
 t 30th\, 2024.  Registration opens Monday August 5th.\n- There is a $5.00 
 members and their family and $10 non-member registration fee to attend thi
 s tour. If a family member or guest is attending with you\, they will need
  to be registered separately.\n\nAgenda: \nAgenda\n\n12:00 pm – Welcome 
 and Introductions\n\n12:30 pm – 4:30 Tour of the switchyard\, Banks Lake
  Headwork\, Coulee Dam and Powerhouses\n\nHighway 155\, Grand Coulee\, Was
 hington\, United States\, 99116
LOCATION:Highway 155\, Grand Coulee\, Washington\, United States\, 99116
ORGANIZER:memrick@ieee.org
SEQUENCE:38
SUMMARY:Grand Coulee Dam Tour
URL;VALUE=URI:https://events.vtools.ieee.org/m/428810
X-ALT-DESC:Description: &lt;br /&gt;&lt;p&gt;&lt;strong&gt;Summary:&lt;/strong&gt; Built by the Arm
 y Corps of Engineers between 1933 and 1942\, Grand Coulee Dam was the larg
 est concrete structure in the world for decades. With the expansion of the
  third power station in 1974 made it the largest power plant in the world 
 at the time. It still remains the largest power plant in the USA with a ca
 pacity of over 6 GW in three power stations. It also has a large pumped st
 orage facility of several hundred MW that links to the Columbia Basin Irri
 gation Project. As the center-piece of the Columbia Basin Project\, the da
 m&#39;s reservoir supplies water for the irrigation of 671\,000 acres.&lt;/p&gt;\n&lt;p
 &gt;&lt;strong&gt;Tour Summary:&lt;/strong&gt;&lt;/p&gt;\n&lt;p class=&quot;MsoNormal&quot; style=&quot;margin: 1
 .45pt 0in 1.45pt 0in\;&quot;&gt;The tour will start at 12:00 noon at the Visitor C
 enter where we will receive a safety briefing.&amp;nbsp\; We will then get int
 o USBR vans and head to the Crown Point Viewing Area\, North Dam\, Banks L
 ake Headworks\, Pumping Generating Plant\, 3&lt;sup&gt;rd&lt;/sup&gt; Powerhouse and t
 op of dam. Then back to the vans and visitor center by 4:30.&lt;/p&gt;\n&lt;p&gt;&lt;stro
 ng&gt;Visit Requirements:&lt;/strong&gt;&lt;/p&gt;\n&lt;p style=&quot;text-indent: -.25in\; mso-l
 ist: l0 level1 lfo1\; margin: 1.45pt 0in 1.45pt .5in\;&quot;&gt;&lt;!-- [if !supportL
 ists]--&gt;&lt;span style=&quot;font-family: Symbol\; mso-fareast-font-family: Symbol
 \; mso-bidi-font-family: Symbol\; color: black\;&quot;&gt;&lt;span style=&quot;mso-list: I
 gnore\;&quot;&gt;&amp;middot\;&lt;span style=&quot;font: 7.0pt &#39;Times New Roman&#39;\;&quot;&gt;&amp;nbsp\;&amp;nb
 sp\;&amp;nbsp\;&amp;nbsp\;&amp;nbsp\;&amp;nbsp\;&amp;nbsp\;&amp;nbsp\; &lt;/span&gt;&lt;/span&gt;&lt;/span&gt;&lt;!--[e
 ndif]--&gt;&lt;span style=&quot;font-family: &#39;Times New Roman&#39;\,&#39;serif&#39;\; color: blac
 k\;&quot;&gt;This is a hard hat\, VIP tour of an operating power plant so closed t
 oe shoes and sensible clothing is required.&amp;nbsp\;&lt;strong style=&quot;mso-bidi-
 font-weight: normal\;&quot;&gt;Shorts\, dresses\, sleeveless shirts\, tank tops\, 
 high heels are not permitted.&lt;/strong&gt;&lt;/span&gt;&lt;/p&gt;\n&lt;p style=&quot;text-indent: 
 -.25in\; mso-list: l0 level1 lfo1\; margin: 1.45pt 0in 1.45pt .5in\;&quot;&gt;&lt;!--
  [if !supportLists]--&gt;&lt;span style=&quot;font-family: Symbol\; mso-fareast-font-
 family: Symbol\; mso-bidi-font-family: Symbol\; color: black\;&quot;&gt;&lt;span styl
 e=&quot;mso-list: Ignore\;&quot;&gt;&amp;middot\;&lt;span style=&quot;font: 7.0pt &#39;Times New Roman&#39;
 \;&quot;&gt; &amp;nbsp\;&amp;nbsp\;&amp;nbsp\;&amp;nbsp\;&amp;nbsp\;&amp;nbsp\;&amp;nbsp\;&lt;/span&gt;&lt;/span&gt;&lt;/span
 &gt;&lt;span style=&quot;font-family: &#39;Times New Roman&#39;\,&#39;serif&#39;\; color: black\;&quot;&gt;Ph
 oto ID is required for this tour. Unfortunately\, US Citizens only due to 
 the time it takes to perform background checks.&lt;span style=&quot;mso-spacerun: 
 yes\;&quot;&gt;&amp;nbsp\; &lt;/span&gt;US citizens will be asked to provide a copy of their
  ID sent directly by email or mail to the USBR at least one week in advanc
 e of the tour and will be required to present their driver&amp;rsquo\;s licens
 es or valid ID the day of the tour. &lt;span style=&quot;mso-spacerun: yes\;&quot;&gt;&amp;nbs
 p\;&amp;nbsp\;&lt;/span&gt;The email address of where to send your ID will be provid
 ed after registration.&lt;span style=&quot;mso-spacerun: yes\;&quot;&gt;&amp;nbsp\; &lt;/span&gt;&lt;/s
 pan&gt;&lt;/p&gt;\n&lt;p style=&quot;text-indent: -.25in\; mso-list: l0 level1 lfo1\; margi
 n: 1.45pt 0in 1.45pt .5in\;&quot;&gt;&lt;!-- [if !supportLists]--&gt;&lt;span style=&quot;font-f
 amily: Symbol\; mso-fareast-font-family: Symbol\; mso-bidi-font-family: Sy
 mbol\; color: black\;&quot;&gt;&lt;span style=&quot;mso-list: Ignore\;&quot;&gt;&amp;middot\;&lt;span sty
 le=&quot;font: 7.0pt &#39;Times New Roman&#39;\;&quot;&gt;&amp;nbsp\;&amp;nbsp\;&amp;nbsp\;&amp;nbsp\;&amp;nbsp\;&amp;n
 bsp\;&amp;nbsp\;&amp;nbsp\; &lt;/span&gt;&lt;/span&gt;&lt;/span&gt;&lt;!--[endif]--&gt;&lt;span style=&quot;font-f
 amily: &#39;Times New Roman&#39;\,&#39;serif&#39;\; color: black\;&quot;&gt;No backpacks\, fanny p
 ack\, bags\, purses\, etc.\, are allowed.&lt;span style=&quot;mso-spacerun: yes\;&quot;
 &gt;&amp;nbsp\; &lt;/span&gt;Wallets fitting in a pocket are OK.&lt;span style=&quot;mso-spacer
 un: yes\;&quot;&gt;&amp;nbsp\; &lt;/span&gt;Water will be provided along the way.&lt;/span&gt;&lt;/p&gt;
 \n&lt;p style=&quot;text-indent: -.25in\; mso-list: l0 level1 lfo1\; margin: 1.45p
 t 0in 1.45pt .5in\;&quot;&gt;&lt;!-- [if !supportLists]--&gt;&lt;span class=&quot;MsoHyperlink&quot;&gt;
 &lt;span style=&quot;font-family: Symbol\; mso-fareast-font-family: Symbol\; mso-b
 idi-font-family: Symbol\; color: black\; text-decoration: none\; text-unde
 rline: none\;&quot;&gt;&lt;span style=&quot;mso-list: Ignore\;&quot;&gt;&amp;middot\;&lt;span style=&quot;font
 : 7.0pt &#39;Times New Roman&#39;\;&quot;&gt;&amp;nbsp\;&amp;nbsp\;&amp;nbsp\;&amp;nbsp\;&amp;nbsp\;&amp;nbsp\;&amp;nb
 sp\;&amp;nbsp\; &lt;/span&gt;&lt;/span&gt;&lt;/span&gt;&lt;/span&gt;&lt;!--[endif]--&gt;&lt;span style=&quot;font-fa
 mily: &#39;Times New Roman&#39;\,&#39;serif&#39;\; color: black\;&quot;&gt;This is a technical tou
 r for IEEE members and their quests. There is a shorter tour available for
  the public that may be more appropriate for others such as younger childr
 en.&lt;span style=&quot;mso-spacerun: yes\;&quot;&gt;&amp;nbsp\; &lt;/span&gt;More info on the publi
 c tour can be found at &lt;a href=&quot;https://www.usbr.gov/pn/grandcoulee/visit/
 index.html&quot;&gt;https://www.usbr.gov/pn/grandcoulee/visit/index.html&lt;/a&gt;&lt;/span
 &gt;&lt;/p&gt;\n&lt;p style=&quot;text-indent: -.25in\; mso-list: l0 level1 lfo1\; margin: 
 1.45pt 0in 1.45pt .5in\;&quot;&gt;&lt;!-- [if !supportLists]--&gt;&lt;span class=&quot;MsoHyperl
 ink&quot;&gt;&lt;span style=&quot;font-family: Symbol\; mso-fareast-font-family: Symbol\; 
 mso-bidi-font-family: Symbol\; color: windowtext\; text-decoration: none\;
  text-underline: none\;&quot;&gt;&lt;span style=&quot;mso-list: Ignore\;&quot;&gt;&amp;middot\;&lt;span s
 tyle=&quot;font: 7.0pt &#39;Times New Roman&#39;\;&quot;&gt;&amp;nbsp\;&amp;nbsp\;&amp;nbsp\;&amp;nbsp\;&amp;nbsp\;
 &amp;nbsp\;&amp;nbsp\;&amp;nbsp\; &lt;/span&gt;&lt;/span&gt;&lt;/span&gt;&lt;/span&gt;&lt;!--[endif]--&gt;&lt;span clas
 s=&quot;MsoHyperlink&quot;&gt;&lt;span style=&quot;color: windowtext\; text-decoration: none\; 
 text-underline: none\;&quot;&gt;Coming early or staying late\, the daily nightly l
 aser show starts at 8:30 pm.&lt;/span&gt;&lt;/span&gt;&lt;/p&gt;\n&lt;p style=&quot;text-indent: -.2
 5in\; mso-list: l0 level1 lfo1\; margin: 1.45pt 0in 1.45pt .5in\;&quot;&gt;&lt;!-- [i
 f !supportLists]--&gt;&lt;span style=&quot;font-family: Symbol\; mso-fareast-font-fam
 ily: Symbol\; mso-bidi-font-family: Symbol\;&quot;&gt;&lt;span style=&quot;mso-list: Ignor
 e\;&quot;&gt;&amp;middot\;&lt;span style=&quot;font: 7.0pt &#39;Times New Roman&#39;\;&quot;&gt;&amp;nbsp\;&amp;nbsp\;
 &amp;nbsp\;&amp;nbsp\;&amp;nbsp\;&amp;nbsp\;&amp;nbsp\;&amp;nbsp\; &lt;/span&gt;&lt;/span&gt;&lt;/span&gt;&lt;!--[endif
 ]--&gt;&lt;span class=&quot;MsoHyperlink&quot;&gt;&lt;span style=&quot;color: windowtext\; text-decor
 ation: none\; text-underline: none\;&quot;&gt;There is a significant amount of sta
 nding\, walking and climbing stairs on this tour.&lt;/span&gt;&lt;/span&gt;&lt;/p&gt;\n&lt;p st
 yle=&quot;text-indent: -.25in\; mso-list: l0 level1 lfo1\; margin: 1.45pt 0in 1
 .45pt .5in\;&quot;&gt;&lt;!-- [if !supportLists]--&gt;&lt;span style=&quot;font-family: Symbol\;
  mso-fareast-font-family: Symbol\; mso-bidi-font-family: Symbol\; color: b
 lack\;&quot;&gt;&lt;span style=&quot;mso-list: Ignore\;&quot;&gt;&amp;middot\;&lt;span style=&quot;font: 7.0pt
  &#39;Times New Roman&#39;\;&quot;&gt;&amp;nbsp\;&amp;nbsp\;&amp;nbsp\;&amp;nbsp\;&amp;nbsp\;&amp;nbsp\;&amp;nbsp\;&amp;nb
 sp\; &lt;/span&gt;&lt;/span&gt;&lt;/span&gt;&lt;!--[endif]--&gt;&lt;span style=&quot;font-family: &#39;Times N
 ew Roman&#39;\,&#39;serif&#39;\; color: black\;&quot;&gt;Photos are allowed in most areas of t
 he tour. Restricted areas will be pointed out&lt;/span&gt;&lt;/p&gt;\n&lt;ul&gt;\n&lt;li&gt;&lt;!-- [
 if !supportLists]--&gt;&lt;span style=&quot;font-family: &#39;New times roman&#39;\,&#39;serif&#39;\;
 &quot;&gt;To attend this tour\, you will need register&amp;nbsp\;&lt;/span&gt;&lt;span style=&quot;f
 ont-family: &#39;New times roman&#39;\,&#39;serif&#39;\;&quot;&gt;by August 30th\, 2024. &lt;span sty
 le=&quot;mso-spacerun: yes\;&quot;&gt;&amp;nbsp\;&lt;/span&gt;Registration opens Monday August 5t
 h.&lt;/span&gt;&lt;/li&gt;\n&lt;li&gt;&lt;!-- [if !supportLists]--&gt;&lt;span style=&quot;font-family: &#39;N
 ew times roman&#39;\,&#39;serif&#39;\;&quot;&gt;There is a $5.00 members and their family and 
 $10 non-member registration fee to attend this tour. &lt;span style=&quot;color: b
 lack\;&quot;&gt;If a family member or guest is attending with you\, they will need
  to be registered separately.&lt;/span&gt;&lt;/span&gt;&lt;/li&gt;\n&lt;/ul&gt;&lt;br /&gt;&lt;br /&gt;Agenda:
  &lt;br /&gt;&lt;p&gt;Agenda&amp;nbsp\;&amp;nbsp\;&amp;nbsp\;&amp;nbsp\;&amp;nbsp\;&amp;nbsp\;&amp;nbsp\;&amp;nbsp\;&amp;n
 bsp\;&amp;nbsp\;&lt;/p&gt;\n&lt;p&gt;12:00 pm &amp;ndash\; Welcome and Introductions&lt;/p&gt;\n&lt;p&gt;1
 2:30 pm &amp;ndash\; 4:30 Tour of the switchyard\, Banks Lake Headwork\, Coule
 e Dam and Powerhouses&lt;/p&gt;
END:VEVENT
END:VCALENDAR

