BEGIN:VCALENDAR
VERSION:2.0
PRODID:IEEE vTools.Events//EN
CALSCALE:GREGORIAN
BEGIN:VTIMEZONE
TZID:Europe/Madrid
BEGIN:DAYLIGHT
DTSTART:20240331T030000
TZOFFSETFROM:+0100
TZOFFSETTO:+0200
RRULE:FREQ=YEARLY;BYDAY=-1SU;BYMONTH=3
TZNAME:CEST
END:DAYLIGHT
BEGIN:STANDARD
DTSTART:20241027T020000
TZOFFSETFROM:+0200
TZOFFSETTO:+0100
RRULE:FREQ=YEARLY;BYDAY=-1SU;BYMONTH=10
TZNAME:CET
END:STANDARD
END:VTIMEZONE
BEGIN:VEVENT
DTSTAMP:20241011T171814Z
UID:74228926-2A4D-4F8F-8DD5-67969A13DEEA
DTSTART;TZID=Europe/Madrid:20241004T150000
DTEND;TZID=Europe/Madrid:20241004T200000
DESCRIPTION:Sesion de tarde del IEEE Day en España. Evento anual que celeb
 ra la fundación del Institute of Electrical and Electronics Engineers (IE
 EE) y su misión de promover la tecnología para el beneficio de la humani
 dad. Este evento tiene lugar en todo el mundo\, y en España\, se organiza
  con la colaboración de diversas sociedades cientificas del IEEE y ramas 
 estudiantiles.\n\nEs una oportunidad para que profesionales\, académicos 
 y estudiantes compartan conocimientos\, establezcan redes de contactos y d
 iscutan el impacto de la tecnología en la sociedad.\n\nAgenda abajo.\n\nA
 genda: \nPrograma Vespertino\n\nModerador: D. Edgardo D. Castronuovo - Pre
 sidente de la Sección España IEEE\n\n15:00-15:20 Horas: Bienvenida por E
 dgardo D. Castronuovo - Presidente de la Sección España\n\nde IEEE.\n\n1
 5:20-15:50 Horas: Inteligencia Artificial verde: Hacia un futuro sostenibl
 e. Verónica Bolón\n\nCanedo (virtual). Académica de la Academia Joven d
 e España y de la Real Academia de\n\nCiencias\, Profesora e Investigadora
  en la Universidade da Coruña.\n\n15:50-16:20 Horas: Tendencias futuras d
 e la IA generativa en el IoT. Federico Muñoz Babiano\,\n\nMeep\, Minsait\
 , Docente en las Universidades UNIR y Pontificia Comillas.\n\n16:20-16:50 
 Horas: Usando la IA para detectar Deepfakes. Sergio Adrián Falcón López
 \,\n\nInvestigador en la UNED\, Programa de Doctorado en Tecnologías Indu
 striales.\n\n16:50- 17:15 Horas: Intervalo\n\n17:15-17:45 Horas: Sesión W
 IE: Belén Bermejo\, Coordinadora de WIE España.\n\n17:45-18:00 Horas: Se
 sión Estudiantes: Salvador Fernández\, Rama UPM Sur.\n\n18:00-19:20 Hora
 s: Sesión Premios IEEE2024: Andrea Gonzáles Montoro (Coordinadora de\n\n
 Premios de la Sección) y Fernando Manrique (Secretario).\n\n19:20-20:30 H
 oras: Cocktail and Networking\n\nAuditorio Campus Puerta de Toledo\, Unive
 rsidad Carlos III de Madrid\, Ronda de Toledo\, 1\, Centro\, Madrid\, Madr
 id\, Spain\, 28005\, Virtual: https://events.vtools.ieee.org/m/428876
LOCATION:Auditorio Campus Puerta de Toledo\, Universidad Carlos III de Madr
 id\, Ronda de Toledo\, 1\, Centro\, Madrid\, Madrid\, Spain\, 28005\, Virt
 ual: https://events.vtools.ieee.org/m/428876
ORGANIZER:fmmanrique@ieee.org
SEQUENCE:16
SUMMARY:IEEE Day 2024 - Sesión Tarde 4 Octubre - INTELIGENCIA ARTIFICIAL E
 N LA TECNOLOGÍA DE LA DEFENSA Y EL TRANSPORTE
URL;VALUE=URI:https://events.vtools.ieee.org/m/428876
X-ALT-DESC:Description: &lt;br /&gt;&lt;p&gt;&lt;strong id=&quot;docs-internal-guid-6979fe3d-7f
 ff-6594-5b9c-aacd2f9bc449&quot;&gt;&lt;/strong&gt;&lt;/p&gt;\n&lt;p data-pm-slice=&quot;1 1 []&quot;&gt;Sesion
  de tarde del IEEE Day en Espa&amp;ntilde\;a. Evento anual que celebra la fund
 aci&amp;oacute\;n del Institute of Electrical and Electronics Engineers (IEEE)
  y su misi&amp;oacute\;n de promover la tecnolog&amp;iacute\;a para el beneficio d
 e la humanidad. Este evento tiene lugar en todo el mundo\, y en Espa&amp;ntild
 e\;a\, se organiza con la colaboraci&amp;oacute\;n de diversas sociedades cien
 tificas del IEEE y ramas estudiantiles.&lt;/p&gt;\n&lt;p&gt;Es una oportunidad para qu
 e profesionales\, acad&amp;eacute\;micos y estudiantes compartan conocimientos
 \, establezcan redes de contactos y discutan el impacto de la tecnolog&amp;iac
 ute\;a en la sociedad.&lt;/p&gt;\n&lt;p&gt;Agenda abajo.&lt;/p&gt;&lt;br /&gt;&lt;br /&gt;Agenda: &lt;br /&gt;
 &lt;h2 dir=&quot;ltr&quot;&gt;Programa Vespertino&lt;/h2&gt;\n&lt;p dir=&quot;ltr&quot;&gt;Moderador: D. Edgardo
  D. Castronuovo - Presidente de la Secci&amp;oacute\;n Espa&amp;ntilde\;a IEEE&lt;/p&gt;
 \n&lt;p class=&quot;p1&quot;&gt;&lt;strong&gt;15:00-15:20 Horas: Bienvenida por Edgardo D. Castr
 onuovo&lt;/strong&gt; - Presidente de la Secci&amp;oacute\;n Espa&amp;ntilde\;a&lt;/p&gt;\n&lt;p 
 class=&quot;p1&quot;&gt;de IEEE.&lt;/p&gt;\n&lt;p class=&quot;p1&quot;&gt;&lt;strong&gt;15:20-15:50 Horas: Intelige
 ncia Artificial verde: Hacia un futuro sostenible. Ver&amp;oacute\;nica Bol&amp;oa
 cute\;n&lt;/strong&gt;&lt;/p&gt;\n&lt;p class=&quot;p1&quot;&gt;&lt;strong&gt;Canedo&lt;/strong&gt; (virtual). Aca
 d&amp;eacute\;mica de la Academia Joven de Espa&amp;ntilde\;a y de la Real Academi
 a de&lt;/p&gt;\n&lt;p class=&quot;p1&quot;&gt;Ciencias\, Profesora e Investigadora en la Univers
 idade da Coru&amp;ntilde\;a.&lt;/p&gt;\n&lt;p class=&quot;p1&quot;&gt;&lt;strong&gt;15:50-16:20 Horas: Ten
 dencias futuras de la IA generativa en el IoT. Federico Mu&amp;ntilde\;oz Babi
 ano\,&lt;/strong&gt;&lt;/p&gt;\n&lt;p class=&quot;p1&quot;&gt;Meep\, Minsait\, Docente en las Universi
 dades UNIR y Pontificia Comillas.&lt;/p&gt;\n&lt;p class=&quot;p1&quot;&gt;&lt;strong&gt;16:20-16:50 H
 oras: Usando la IA para detectar Deepfakes. Sergio Adri&amp;aacute\;n Falc&amp;oac
 ute\;n L&amp;oacute\;pez&lt;/strong&gt;\,&lt;/p&gt;\n&lt;p class=&quot;p1&quot;&gt;Investigador en la UNED
 \, Programa de Doctorado en Tecnolog&amp;iacute\;as Industriales.&lt;/p&gt;\n&lt;p clas
 s=&quot;p1&quot;&gt;&lt;strong&gt;16:50- 17:15 Horas: Intervalo&lt;/strong&gt;&lt;/p&gt;\n&lt;p class=&quot;p1&quot;&gt;&lt;
 strong&gt;17:15-17:45 Horas: Sesi&amp;oacute\;n WIE: Bel&amp;eacute\;n Bermejo\,&lt;/str
 ong&gt; Coordinadora de WIE Espa&amp;ntilde\;a.&lt;/p&gt;\n&lt;p class=&quot;p1&quot;&gt;&lt;strong&gt;17:45-
 18:00 Horas: &lt;/strong&gt;Sesi&amp;oacute\;n Estudiantes: Salvador Fern&amp;aacute\;nd
 ez\, Rama UPM Sur.&lt;/p&gt;\n&lt;p class=&quot;p1&quot;&gt;&lt;strong&gt;18:00-19:20 Horas: Sesi&amp;oacu
 te\;n Premios IEEE2024:&lt;/strong&gt; &lt;strong&gt;Andrea Gonz&amp;aacute\;les Montoro&lt;/
 strong&gt; (Coordinadora de&lt;/p&gt;\n&lt;p class=&quot;p1&quot;&gt;Premios de la Secci&amp;oacute\;n)
  &lt;strong&gt;y Fernando Manrique&lt;/strong&gt; (Secretario).&lt;/p&gt;\n&lt;p class=&quot;p1&quot;&gt;&lt;st
 rong&gt;19:20-20:30 Horas: Cocktail and Networking&lt;/strong&gt;&lt;/p&gt;
END:VEVENT
END:VCALENDAR

