BEGIN:VCALENDAR
VERSION:2.0
PRODID:IEEE vTools.Events//EN
CALSCALE:GREGORIAN
BEGIN:VTIMEZONE
TZID:America/Guatemala
BEGIN:STANDARD
DTSTART:20060930T230000
TZOFFSETFROM:-0500
TZOFFSETTO:-0600
TZNAME:CST
END:STANDARD
END:VTIMEZONE
BEGIN:VEVENT
DTSTAMP:20250224T041437Z
UID:01FE1A3C-E372-4C31-93A6-07AD3DF1E6AF
DTSTART;TZID=America/Guatemala:20240827T160000
DTEND;TZID=America/Guatemala:20240830T200000
DESCRIPTION:METODOLOGÍA DE ENSEÑANZA:\n\nLa metodología de la enseñanza
  se basa en las clásicas clases teóricas virtuales\, con el auxilio de p
 lacas de Power Point. Complementada con el análisis de casos prácticos r
 eales\n\nSpeaker(s): Dr. Juan Carlos Gomez\, \n\nAgenda: \n• CONTENIDOS:
 \n\nCAPÍTULO 1.\n\nIntroducción. Calidad de la Potencia y electrónica d
 e potencia. Principales perturbaciones e irregularidades. Evolución tempo
 ral. Sensibilidad o debilidad del equipamiento moderno. Aumento del númer
 o y nivel de las perturbaciones. Nuevos criterios de mantenimiento del ser
 vicio.\n\nCAPÍTULO 2.\n\nTerminología y definiciones. Principales térmi
 nos y definiciones dadas en las Normas Nacionales\, Internacionales (Norte
 americanas y Europeas) y de uso común. Interrupciones cortas\, transitori
 as y momentáneas. Abatimientos y aumentos de tensión\, distorsión por a
 rmónicas (THD)\, notches\, impulsos\, flicker\, etc.\n\nCAPÍTULO 3.\n\nN
 ormas sobre calidad de potencia. Reglamentaciones vigentes sobre calidad\,
  Leyes y Reglamentaciones Salvadoreñas.\n\nCAPÍTULO 4.\n\nInterrupciones
  y abatimientos de tensión. Curvas CBEMA-ITIC. Equipamiento sensible. Med
 idas de atenuación. Interacción con el esquema de protección. Recierre 
 rápido y modificación del ciclo de reconectadores. Eventos repetitivos. 
 Salto del ángulo de fase. Relación de la capacidad de soportar transitor
 ios con la energía almacenada. Relación con el número de fallas y torme
 ntas eléctricas. Costos según tipo de usuario. Aplicaciones y procesos c
 ríticos.\n\nCAPÍTULO 5.\n\nSobretensiones. Clasificación en base a su d
 uración. Impulsos. Orígenes de las sobretensiones y sus efectos en el si
 stema.\n\nCAPÍTULO 6.\n\nArmónicas. Generadores y causas. Variación dia
 ria\, semanal y estacional. Efecto sobre transformadores\, conductores\, c
 apacitores\, dispositivos de protección\, etc. Interferencia telefónica.
  Límites de contaminación armónica. Tendencia y medidas de control. Apl
 icaciones emergentes.\n\nCAPÍTULO 7.\n\nParpadeo (flicker). Característi
 cas generales. Confusión con abatimiento de tensión. Historia resumida. 
 Efecto psicológico y sobre la visión. Medición de parpadeo: magnitudes 
 y medidores. Normas Nacionales e internacionales. Principales causas. Efec
 to sobre lámparas: incandescentes y de descarga gaseosa. Productores de f
 licker. Medidas de atenuación\, compensación reactiva dinámica y estát
 ica.\n\nCAPÍTULO 8.\n\nVariaciones de tensión de régimen permanente. So
 bre y sub-tensiones. Límites aconsejable y tolerable. Desbalances. Efecto
 s sobre el equipamiento de los sistemas eléctricos. Variación de la sens
 ibilidad con la tensión de alimentación. Blackout - Brownout. Shedding.\
 n\nCAPÍTULO 9.\n\nMonitoreo de la calidad de potencia. Metodologías y eq
 uipos. Filtrado y procesado de los datos. Resultados de relevamientos en e
 l exterior y en nuestro medio. Nivel de información requerida para result
 ados representativos. Valores considerados “normales” y apartamientos 
 típicos.\n\nVirtual: https://events.vtools.ieee.org/m/429104
LOCATION:Virtual: https://events.vtools.ieee.org/m/429104
ORGANIZER:elsalvador@ieee.org
SEQUENCE:5
SUMMARY:Power Quality\, Normativas y Revisión de Casos Prácticos
URL;VALUE=URI:https://events.vtools.ieee.org/m/429104
X-ALT-DESC:Description: &lt;br /&gt;&lt;p class=&quot;MsoNormal&quot; style=&quot;text-align: justi
 fy\;&quot;&gt;&lt;strong&gt;&lt;u&gt;&lt;span lang=&quot;ES-AR&quot; style=&quot;font-size: 12.0pt\; line-height
 : 107%\; font-family: &#39;Times New Roman&#39;\,serif\;&quot;&gt;METODOLOG&amp;Iacute\;A DE E
 NSE&amp;Ntilde\;ANZA:&lt;/span&gt;&lt;/u&gt;&lt;/strong&gt;&lt;/p&gt;\n&lt;p&gt;&lt;span lang=&quot;ES-AR&quot; style=&quot;fo
 nt-size: 12.0pt\; line-height: 107%\; font-family: &#39;Times New Roman&#39;\,seri
 f\; mso-fareast-font-family: Calibri\; mso-fareast-theme-font: minor-latin
 \; mso-ansi-language: ES-AR\; mso-fareast-language: EN-US\; mso-bidi-langu
 age: AR-SA\;&quot;&gt;La metodolog&amp;iacute\;a de la ense&amp;ntilde\;anza se basa en la
 s cl&amp;aacute\;sicas clases te&amp;oacute\;ricas virtuales\, con el auxilio de p
 lacas de Power Point. Complementada con el an&amp;aacute\;lisis de casos pr&amp;aa
 cute\;cticos reales&lt;/span&gt;&lt;/p&gt;&lt;br /&gt;&lt;br /&gt;Agenda: &lt;br /&gt;&lt;p&gt;&amp;bull\;&amp;nbsp\;&lt;
 strong&gt;&lt;u&gt;&lt;span lang=&quot;ES-AR&quot; style=&quot;font-size: 12.0pt\; line-height: 107%\
 ; font-family: &#39;Times New Roman&#39;\,serif\;&quot;&gt;CONTENIDOS:&lt;/span&gt;&lt;/u&gt;&lt;/strong&gt;
 &lt;/p&gt;\n&lt;p class=&quot;MsoNormal&quot; style=&quot;margin-right: 42.2pt\; text-align: justi
 fy\;&quot;&gt;&lt;span lang=&quot;ES-AR&quot; style=&quot;font-size: 12.0pt\; line-height: 107%\; fo
 nt-family: &#39;Times New Roman&#39;\,serif\;&quot;&gt;CAP&amp;Iacute\;TULO 1.&lt;/span&gt;&lt;/p&gt;\n&lt;p 
 class=&quot;MsoBodyText&quot; style=&quot;text-align: justify\;&quot;&gt;&lt;span lang=&quot;ES-AR&quot;&gt;Intro
 ducci&amp;oacute\;n. Calidad de la Potencia y electr&amp;oacute\;nica de potencia.
  Principales perturbaciones e irregularidades. Evoluci&amp;oacute\;n temporal.
  Sensibilidad o debilidad del equipamiento moderno. Aumento del n&amp;uacute\;
 mero y nivel de las perturbaciones. Nuevos criterios de mantenimiento del 
 servicio.&lt;/span&gt;&lt;/p&gt;\n&lt;p class=&quot;MsoNormal&quot;&gt;&lt;span lang=&quot;ES-AR&quot; style=&quot;font-
 size: 12.0pt\; line-height: 107%\; font-family: &#39;Times New Roman&#39;\,serif\;
 &quot;&gt;&amp;nbsp\;&lt;/span&gt;&lt;span lang=&quot;ES-AR&quot; style=&quot;font-size: 12.0pt\; line-height:
  107%\; font-family: &#39;Times New Roman&#39;\,serif\;&quot;&gt;CAP&amp;Iacute\;TULO 2.&lt;/span
 &gt;&lt;/p&gt;\n&lt;p class=&quot;MsoNormal&quot; style=&quot;text-align: justify\;&quot;&gt;&lt;span lang=&quot;ES-A
 R&quot; style=&quot;font-size: 12.0pt\; line-height: 107%\; font-family: &#39;Times New 
 Roman&#39;\,serif\;&quot;&gt;Terminolog&amp;iacute\;a y definiciones. Principales t&amp;eacute
 \;rminos y definiciones dadas en las Normas Nacionales\, Internacionales (
 Norteamericanas y Europeas) y de uso com&amp;uacute\;n. Interrupciones cortas\
 , transitorias y moment&amp;aacute\;neas. Abatimientos y aumentos de tensi&amp;oac
 ute\;n\, distorsi&amp;oacute\;n por arm&amp;oacute\;nicas (THD)\, notches\, impuls
 os\, flicker\, etc.&lt;/span&gt;&lt;/p&gt;\n&lt;p class=&quot;MsoNormal&quot; style=&quot;margin-right: 
 42.2pt\; text-align: justify\;&quot;&gt;&lt;span lang=&quot;ES-AR&quot; style=&quot;font-size: 12.0p
 t\; line-height: 107%\; font-family: &#39;Times New Roman&#39;\,serif\;&quot;&gt;&amp;nbsp\;&lt;/
 span&gt;&lt;span lang=&quot;ES-AR&quot; style=&quot;font-size: 12.0pt\; line-height: 107%\; fon
 t-family: &#39;Times New Roman&#39;\,serif\;&quot;&gt;CAP&amp;Iacute\;TULO 3.&lt;/span&gt;&lt;/p&gt;\n&lt;p c
 lass=&quot;MsoNormal&quot; style=&quot;text-align: justify\;&quot;&gt;&lt;span lang=&quot;ES-AR&quot; style=&quot;f
 ont-size: 12.0pt\; line-height: 107%\; font-family: &#39;Times New Roman&#39;\,ser
 if\;&quot;&gt;Normas sobre calidad de potencia. Reglamentaciones vigentes sobre ca
 lidad\, Leyes y Reglamentaciones Salvadore&amp;ntilde\;as.&lt;/span&gt;&lt;/p&gt;\n&lt;p clas
 s=&quot;MsoNormal&quot; style=&quot;margin-right: 42.2pt\; text-align: justify\;&quot;&gt;&lt;span l
 ang=&quot;ES-AR&quot; style=&quot;font-size: 12.0pt\; line-height: 107%\; font-family: &#39;T
 imes New Roman&#39;\,serif\;&quot;&gt;&amp;nbsp\;&lt;/span&gt;&lt;span lang=&quot;ES-AR&quot; style=&quot;font-siz
 e: 12.0pt\; line-height: 107%\; font-family: &#39;Times New Roman&#39;\,serif\;&quot;&gt;C
 AP&amp;Iacute\;TULO 4.&lt;/span&gt;&lt;/p&gt;\n&lt;p class=&quot;MsoNormal&quot; style=&quot;text-align: jus
 tify\;&quot;&gt;&lt;span lang=&quot;ES-AR&quot; style=&quot;font-size: 12.0pt\; line-height: 107%\; 
 font-family: &#39;Times New Roman&#39;\,serif\;&quot;&gt;Interrupciones y abatimientos de 
 tensi&amp;oacute\;n. Curvas CBEMA-ITIC. Equipamiento sensible. Medidas de aten
 uaci&amp;oacute\;n. Interacci&amp;oacute\;n con el esquema de protecci&amp;oacute\;n. 
 Recierre r&amp;aacute\;pido y modificaci&amp;oacute\;n del ciclo de reconectadores
 . Eventos repetitivos. Salto del &amp;aacute\;ngulo de fase. Relaci&amp;oacute\;n 
 de la capacidad de soportar transitorios con la energ&amp;iacute\;a almacenada
 . Relaci&amp;oacute\;n con el n&amp;uacute\;mero de fallas y tormentas el&amp;eacute\;
 ctricas. Costos seg&amp;uacute\;n tipo de usuario. Aplicaciones y procesos cr&amp;
 iacute\;ticos.&amp;nbsp\;&lt;br&gt;&lt;/span&gt;&lt;/p&gt;\n&lt;p class=&quot;MsoNormal&quot; style=&quot;text-ali
 gn: justify\; margin: 12.0pt 42.2pt 8.0pt 0cm\;&quot;&gt;&lt;span lang=&quot;ES-AR&quot; style=
 &quot;font-size: 12.0pt\; line-height: 107%\; font-family: &#39;Times New Roman&#39;\,s
 erif\;&quot;&gt;&amp;nbsp\;&lt;/span&gt;&lt;span lang=&quot;ES-AR&quot; style=&quot;font-size: 12.0pt\; line-h
 eight: 107%\; font-family: &#39;Times New Roman&#39;\,serif\;&quot;&gt;CAP&amp;Iacute\;TULO 5.
 &lt;/span&gt;&lt;/p&gt;\n&lt;p class=&quot;MsoNormal&quot; style=&quot;text-align: justify\;&quot;&gt;&lt;span lang
 =&quot;ES-AR&quot; style=&quot;font-size: 12.0pt\; line-height: 107%\; font-family: &#39;Time
 s New Roman&#39;\,serif\;&quot;&gt;Sobretensiones. Clasificaci&amp;oacute\;n en base a su 
 duraci&amp;oacute\;n. Impulsos. Or&amp;iacute\;genes de las sobretensiones y sus e
 fectos en el sistema.&amp;nbsp\;&lt;br&gt;&lt;/span&gt;&lt;/p&gt;\n&lt;p class=&quot;MsoNormal&quot;&gt;&lt;span la
 ng=&quot;ES-AR&quot; style=&quot;font-size: 12.0pt\; line-height: 107%\; font-family: &#39;Ti
 mes New Roman&#39;\,serif\;&quot;&gt;&amp;nbsp\;&lt;/span&gt;&lt;span lang=&quot;ES-AR&quot; style=&quot;font-size
 : 12.0pt\; line-height: 107%\; font-family: &#39;Times New Roman&#39;\,serif\;&quot;&gt;CA
 P&amp;Iacute\;TULO 6.&lt;/span&gt;&lt;/p&gt;\n&lt;p class=&quot;MsoNormal&quot; style=&quot;text-align: just
 ify\;&quot;&gt;&lt;span lang=&quot;ES-AR&quot; style=&quot;font-size: 12.0pt\; line-height: 107%\; f
 ont-family: &#39;Times New Roman&#39;\,serif\;&quot;&gt;Arm&amp;oacute\;nicas. Generadores y c
 ausas. Variaci&amp;oacute\;n diaria\, semanal y estacional. Efecto sobre trans
 formadores\, conductores\, capacitores\, dispositivos de protecci&amp;oacute\;
 n\, etc. Interferencia telef&amp;oacute\;nica. L&amp;iacute\;mites de contaminaci&amp;
 oacute\;n arm&amp;oacute\;nica. Tendencia y medidas de control. Aplicaciones e
 mergentes.&amp;nbsp\;&lt;br&gt;&lt;/span&gt;&lt;/p&gt;\n&lt;p class=&quot;MsoNormal&quot; style=&quot;margin-right
 : 42.2pt\; text-align: justify\;&quot;&gt;&lt;span lang=&quot;ES-AR&quot; style=&quot;font-size: 12.
 0pt\; line-height: 107%\; font-family: &#39;Times New Roman&#39;\,serif\;&quot;&gt;&amp;nbsp\;
 &lt;/span&gt;&lt;span lang=&quot;ES-AR&quot; style=&quot;font-size: 12.0pt\; line-height: 107%\; f
 ont-family: &#39;Times New Roman&#39;\,serif\;&quot;&gt;CAP&amp;Iacute\;TULO 7.&lt;/span&gt;&lt;/p&gt;\n&lt;p
  class=&quot;MsoNormal&quot; style=&quot;text-align: justify\;&quot;&gt;&lt;span lang=&quot;ES-AR&quot; style=
 &quot;font-size: 12.0pt\; line-height: 107%\; font-family: &#39;Times New Roman&#39;\,s
 erif\;&quot;&gt;Parpadeo (flicker). Caracter&amp;iacute\;sticas generales. Confusi&amp;oac
 ute\;n con abatimiento de tensi&amp;oacute\;n. Historia resumida. Efecto psico
 l&amp;oacute\;gico y sobre la visi&amp;oacute\;n. Medici&amp;oacute\;n de parpadeo: ma
 gnitudes y medidores. Normas Nacionales e internacionales. Principales cau
 sas. Efecto sobre l&amp;aacute\;mparas: incandescentes y de descarga gaseosa. 
 Productores de flicker.&amp;nbsp\; Medidas de atenuaci&amp;oacute\;n\, compensaci&amp;
 oacute\;n reactiva din&amp;aacute\;mica y est&amp;aacute\;tica.&lt;/span&gt;&lt;/p&gt;\n&lt;p cla
 ss=&quot;MsoNormal&quot; style=&quot;text-align: justify\;&quot;&gt;&lt;span lang=&quot;ES-AR&quot; style=&quot;fon
 t-size: 12.0pt\; line-height: 107%\; font-family: &#39;Times New Roman&#39;\,serif
 \;&quot;&gt;&amp;nbsp\;&lt;/span&gt;&lt;span lang=&quot;ES-AR&quot; style=&quot;font-size: 12.0pt\; line-heigh
 t: 107%\; font-family: &#39;Times New Roman&#39;\,serif\;&quot;&gt;CAP&amp;Iacute\;TULO 8.&lt;/sp
 an&gt;&lt;/p&gt;\n&lt;p class=&quot;MsoNormal&quot; style=&quot;text-align: justify\;&quot;&gt;&lt;span lang=&quot;ES
 -AR&quot; style=&quot;font-size: 12.0pt\; line-height: 107%\; font-family: &#39;Times Ne
 w Roman&#39;\,serif\;&quot;&gt;Variaciones de tensi&amp;oacute\;n de r&amp;eacute\;gimen perma
 nente. Sobre y sub-tensiones. L&amp;iacute\;mites aconsejable y tolerable. Des
 balances. Efectos sobre el equipamiento de los sistemas el&amp;eacute\;ctricos
 . Variaci&amp;oacute\;n de la sensibilidad con la tensi&amp;oacute\;n de alimentac
 i&amp;oacute\;n. Blackout - Brownout. &lt;/span&gt;&lt;span lang=&quot;ES&quot; style=&quot;font-size:
  12.0pt\; line-height: 107%\; font-family: &#39;Times New Roman&#39;\,serif\; mso-
 ansi-language: ES\;&quot;&gt;Shedding.&lt;/span&gt;&lt;/p&gt;\n&lt;p class=&quot;MsoNormal&quot; style=&quot;mar
 gin-right: 42.2pt\; text-align: justify\;&quot;&gt;&lt;span lang=&quot;ES-AR&quot; style=&quot;font-
 size: 12.0pt\; line-height: 107%\; font-family: &#39;Times New Roman&#39;\,serif\;
 &quot;&gt;CAP&amp;Iacute\;TULO 9.&lt;/span&gt;&lt;/p&gt;\n&lt;p class=&quot;MsoNormal&quot; style=&quot;margin-right
 : 1.55pt\; text-align: justify\;&quot;&gt;&lt;span lang=&quot;ES-AR&quot; style=&quot;font-size: 12.
 0pt\; line-height: 107%\; font-family: &#39;Times New Roman&#39;\,serif\;&quot;&gt;Monitor
 eo de la calidad de potencia. Metodolog&amp;iacute\;as y equipos. Filtrado y p
 rocesado de los datos. Resultados de relevamientos en el exterior y en nue
 stro medio. Nivel de informaci&amp;oacute\;n requerida para resultados represe
 ntativos. Valores considerados &amp;ldquo\;normales&amp;rdquo\; y apartamientos t&amp;
 iacute\;picos.&amp;nbsp\;&lt;br&gt;&lt;/span&gt;&lt;/p&gt;
END:VEVENT
END:VCALENDAR

