BEGIN:VCALENDAR
VERSION:2.0
PRODID:IEEE vTools.Events//EN
CALSCALE:GREGORIAN
BEGIN:VTIMEZONE
TZID:America/Denver
BEGIN:DAYLIGHT
DTSTART:20240310T030000
TZOFFSETFROM:-0700
TZOFFSETTO:-0600
RRULE:FREQ=YEARLY;BYDAY=2SU;BYMONTH=3
TZNAME:MDT
END:DAYLIGHT
BEGIN:STANDARD
DTSTART:20241103T010000
TZOFFSETFROM:-0600
TZOFFSETTO:-0700
RRULE:FREQ=YEARLY;BYDAY=1SU;BYMONTH=11
TZNAME:MST
END:STANDARD
END:VTIMEZONE
BEGIN:VEVENT
DTSTAMP:20240908T163617Z
UID:4AC64C70-B79F-49CC-AC96-00A147BB99E8
DTSTART;TZID=America/Denver:20240812T110000
DTEND;TZID=America/Denver:20240812T120000
DESCRIPTION:Talk Announcement:\n\nMagnon Bose-Einstein Condensates for Data
  Processing\n\nSponsored by: IEEE Rocky Mountain Magnetics Society\, NIST 
 Magnetic Imaging and Spin Electronics Groups\n\n(IEEE-sponsored Free Lunch
  with speaker for Students and Postdocs*)\n\nDate\, Time\, Place: 11:00AM\
 , Mon. Aug. 12\, 2024\, room: 81-A-116\n\nhttps://nist.zoomgov.com/j/16077
 48767?pwd=KEujevCYeNlp6DlPBu8tezQStxyN6d.1\n\nMeeting ID: 160 774 8767\n\n
 Passcode: 140875\n\nMagnon Bose-Einstein condensates for data processing\n
 \nBurkard Hillebrands\n\nFachbereich Physik and Landesforschungszentrum OP
 TIMAS\n\nRheinland-Pfälzische Technische Universität (RPTU) Kaiserslaute
 rn-Landau\n\n67663\, Kaiserslautern\, Germany\n\nThere is a growing need f
 or faster and more efficient information processing. The field of magnonic
 s is seen as a path to better information processing technology\, especial
 ly with regard to computing power and scaling properties. The basic idea i
 s to use magnons\, the quanta of spin waves\, as information carriers.\n\n
 Macroscopic quantum states of matter such as magnon Bose-Einstein condensa
 tes (BECs) are excellent candidates for classical and quantum information 
 processing\, in particular due to their inherent coherency. The wavefuncti
 ons of the magnon BECs describe highly populated boson states and thus jus
 tify a semiclassical approach. They can be generated at room temperature\,
  allowing both wave-based BEC data processing and quantum-classical qubit 
 computation.\n\nMagnon Bose-Einstein condensates in in-plane magnetized ma
 gnetic films are spatially localized due to their zero group velocity. The
 refore\, the ability to control the transport properties of magnon BECs pl
 ays an essential role in their practical use for data processing.\n\nI wil
 l discuss the transport properties of magnon BECs via the excitation of ma
 gnon supercurrents and address the enabling of room-temperature quantum co
 mputing functionalities using a two-wavevector component magnon BEC.\n\nCo
 -sponsored by: NIST Magnetic Imaging Group\n\nSpeaker(s): Burkard Hillebra
 nds\n\nRoom: 81-1A116\, Bldg: 81\, NIST \, 325 Broadway\, Boulder\, Colora
 do\, United States\, 80305
LOCATION:Room: 81-1A116\, Bldg: 81\, NIST \, 325 Broadway\, Boulder\, Color
 ado\, United States\, 80305
ORGANIZER:stephen.russek@nist.gov
SEQUENCE:15
SUMMARY:Magnon Bose-Einstein Condensates for Data Processing
URL;VALUE=URI:https://events.vtools.ieee.org/m/429149
X-ALT-DESC:Description: &lt;br /&gt;&lt;p class=&quot;MsoNormal&quot; style=&quot;text-align: cente
 r\;&quot; align=&quot;center&quot;&gt;&lt;br style=&quot;mso-ignore: vglayout\;&quot; clear=&quot;ALL&quot;&gt;&lt;strong
 &gt;&lt;span style=&quot;font-size: 18.0pt\; font-family: &#39;Times New Roman&#39;\,serif\; 
 color: #0070c0\;&quot;&gt;Talk Announcement:&lt;/span&gt;&lt;/strong&gt;&lt;/p&gt;\n&lt;p class=&quot;MsoNor
 mal&quot; style=&quot;text-align: center\;&quot; align=&quot;center&quot;&gt;&lt;strong&gt;&lt;span style=&quot;font
 -size: 18.0pt\; font-family: &#39;Times New Roman&#39;\,serif\; color: #0070c0\;&quot;&gt;
 &amp;nbsp\;&lt;/span&gt;&lt;/strong&gt;&lt;/p&gt;\n&lt;p class=&quot;SMM19title&quot;&gt;&lt;span style=&quot;font-size:
  18.0pt\; mso-ansi-language: EN-US\;&quot;&gt;Magnon Bose-Einstein Condensates for
  Data Processing&lt;/span&gt;&lt;/p&gt;\n&lt;p class=&quot;MsoNormal&quot; style=&quot;text-align: cente
 r\;&quot; align=&quot;center&quot;&gt;&lt;strong&gt;&lt;span style=&quot;font-size: 12.0pt\; font-family: 
 &#39;Times New Roman&#39;\,serif\; color: #0070c0\;&quot;&gt;Sponsored by: IEEE Rocky Moun
 tain Magnetics Society\, NIST Magnetic Imaging and Spin Electronics Groups
 &lt;/span&gt;&lt;/strong&gt;&lt;/p&gt;\n&lt;p class=&quot;MsoNormal&quot; style=&quot;text-align: center\;&quot; al
 ign=&quot;center&quot;&gt;&lt;strong&gt;&lt;span style=&quot;font-size: 12.0pt\; font-family: &#39;Times 
 New Roman&#39;\,serif\; color: #0070c0\;&quot;&gt;(IEEE-sponsored &lt;/span&gt;&lt;/strong&gt;&lt;str
 ong&gt;&lt;span style=&quot;font-size: 12.0pt\; font-family: &#39;Times New Roman&#39;\,serif
 \; color: #c00000\;&quot;&gt;Free Lunch &lt;/span&gt;&lt;/strong&gt;&lt;strong&gt;&lt;span style=&quot;font-
 size: 12.0pt\; font-family: &#39;Times New Roman&#39;\,serif\; color: #0070c0\;&quot;&gt;w
 ith speaker &lt;/span&gt;&lt;/strong&gt;&lt;strong&gt;&lt;span style=&quot;font-size: 12.0pt\; font-
 family: &#39;Times New Roman&#39;\,serif\; color: #c00000\;&quot;&gt;for Students and Post
 docs*&lt;/span&gt;&lt;/strong&gt;&lt;strong&gt;&lt;span style=&quot;font-size: 12.0pt\; font-family:
  &#39;Times New Roman&#39;\,serif\; color: #0070c0\;&quot;&gt;)&lt;/span&gt;&lt;/strong&gt;&lt;/p&gt;\n&lt;p cl
 ass=&quot;MsoNormal&quot; style=&quot;text-align: center\;&quot; align=&quot;center&quot;&gt;&lt;strong&gt;&lt;span 
 style=&quot;font-family: &#39;Times New Roman&#39;\,serif\;&quot;&gt;&amp;nbsp\;&lt;/span&gt;&lt;/strong&gt;&lt;/p
 &gt;\n&lt;p class=&quot;MsoNormal&quot; style=&quot;text-align: center\;&quot; align=&quot;center&quot;&gt;&lt;stron
 g&gt;&lt;span style=&quot;font-size: 16.0pt\; font-family: &#39;Times New Roman&#39;\,serif\;
 &quot;&gt;&amp;nbsp\;&lt;/span&gt;&lt;/strong&gt;&lt;/p&gt;\n&lt;p class=&quot;MsoNormal&quot; style=&quot;text-align: cen
 ter\;&quot; align=&quot;center&quot;&gt;&lt;strong&gt;&lt;span style=&quot;font-size: 14.0pt\; font-family
 : &#39;Times New Roman&#39;\,serif\;&quot;&gt;Date\, Time\, Place:&lt;span style=&quot;mso-spaceru
 n: yes\;&quot;&gt;&amp;nbsp\; &lt;/span&gt;11:00AM\,&lt;span style=&quot;mso-spacerun: yes\;&quot;&gt;&amp;nbsp\
 ; &lt;/span&gt;Mon. Aug. 12\, 2024\, room: 81-A-116&lt;/span&gt;&lt;/strong&gt;&lt;/p&gt;\n&lt;p clas
 s=&quot;MsoNormal&quot; style=&quot;text-align: center\;&quot; align=&quot;center&quot;&gt;&lt;a href=&quot;https:/
 /nist.zoomgov.com/j/1607748767?pwd=KEujevCYeNlp6DlPBu8tezQStxyN6d.1&quot;&gt;&lt;span
  style=&quot;font-family: &#39;Times New Roman&#39;\,serif\;&quot;&gt;https://nist.zoomgov.com/
 j/1607748767?pwd=KEujevCYeNlp6DlPBu8tezQStxyN6d.1&lt;/span&gt;&lt;/a&gt;&lt;span style=&quot;f
 ont-family: &#39;Times New Roman&#39;\,serif\;&quot;&gt;&lt;span style=&quot;mso-spacerun: yes\;&quot;&gt;
 &amp;nbsp\; &lt;/span&gt;&lt;/span&gt;&lt;/p&gt;\n&lt;p class=&quot;MsoNormal&quot; style=&quot;text-align: center
 \;&quot; align=&quot;center&quot;&gt;&lt;span style=&quot;font-family: &#39;Times New Roman&#39;\,serif\;&quot;&gt;M
 eeting ID: 160 774 8767 &lt;/span&gt;&lt;/p&gt;\n&lt;p class=&quot;MsoNormal&quot; style=&quot;text-alig
 n: center\;&quot; align=&quot;center&quot;&gt;&lt;span style=&quot;font-family: &#39;Times New Roman&#39;\,s
 erif\;&quot;&gt;Passcode: 140875&lt;/span&gt;&lt;/p&gt;\n&lt;p class=&quot;MsoNormal&quot;&gt;&lt;strong&gt;&lt;span st
 yle=&quot;font-family: &#39;Times New Roman&#39;\,serif\;&quot;&gt;&amp;nbsp\;&lt;/span&gt;&lt;/strong&gt;&lt;/p&gt;\
 n&lt;p class=&quot;SMM19title&quot;&gt;&lt;span style=&quot;mso-ansi-language: EN-US\;&quot;&gt;Magnon Bos
 e-Einstein condensates for data processing&lt;/span&gt;&lt;/p&gt;\n&lt;p class=&quot;SMM19auth
 ors&quot;&gt;&lt;span style=&quot;mso-ansi-language: EN-US\;&quot;&gt;Burkard Hillebrands&lt;/span&gt;&lt;/
 p&gt;\n&lt;p class=&quot;SMM19affiliations&quot;&gt;&lt;span style=&quot;font-size: 12.0pt\; mso-ansi
 -language: EN-US\;&quot;&gt;Fachbereich Physik and Landesforschungszentrum OPTIMAS
 &lt;/span&gt;&lt;/p&gt;\n&lt;p class=&quot;SMM19affiliations&quot;&gt;&lt;span style=&quot;font-size: 12.0pt\;
  mso-ansi-language: EN-US\;&quot;&gt;Rheinland-Pf&amp;auml\;lzische Technische Univers
 it&amp;auml\;t (RPTU) Kaiserslautern-Landau&lt;/span&gt;&lt;/p&gt;\n&lt;p class=&quot;SMM19affilia
 tions&quot;&gt;&lt;span style=&quot;font-size: 12.0pt\; mso-ansi-language: EN-US\;&quot;&gt;67663\
 , Kaiserslautern\, Germany&lt;/span&gt;&lt;/p&gt;\n&lt;p class=&quot;SMM19bodyfirstparagraph&quot;&gt;
 &lt;span style=&quot;font-size: 12.0pt\; mso-ansi-language: EN-US\;&quot;&gt;There is a gr
 owing need for faster and more efficient information processing. The field
  of magnonics is seen as a path to better information processing technolog
 y\, especially with regard to computing power and scaling properties. The 
 basic idea is to use magnons\, the quanta of spin waves\, as information c
 arriers.&lt;/span&gt;&lt;/p&gt;\n&lt;p class=&quot;SMM19bodyfirstparagraph&quot; style=&quot;margin-top:
  0in\;&quot;&gt;&lt;span style=&quot;font-size: 12.0pt\; mso-ansi-language: EN-US\;&quot;&gt;Macro
 scopic quantum states of matter such as magnon Bose-Einstein condensates (
 BECs) are excellent candidates for classical and quantum information proce
 ssing\, in particular due to their inherent coherency. The wavefunctions o
 f the magnon BECs describe highly populated boson states and thus justify 
 a semiclassical approach. They can be generated at room temperature\, allo
 wing both wave-based BEC data processing and quantum-classical qubit compu
 tation.&lt;/span&gt;&lt;/p&gt;\n&lt;p class=&quot;SMM19bodyfirstparagraph&quot; style=&quot;margin-top: 
 0in\;&quot;&gt;&lt;span style=&quot;font-size: 12.0pt\; mso-ansi-language: EN-US\;&quot;&gt;Magnon
  Bose-Einstein condensates in in-plane magnetized magnetic films are spati
 ally localized due to their zero group velocity. Therefore\, the ability t
 o control the transport properties of magnon BECs plays an essential role 
 in their practical use for data processing.&lt;/span&gt;&lt;/p&gt;\n&lt;p class=&quot;SMM19bod
 y&quot;&gt;&lt;span style=&quot;font-size: 12.0pt\; mso-ansi-language: EN-US\;&quot;&gt;I will dis
 cuss the transport properties of magnon BECs via the excitation of magnon 
 supercurrents and address the enabling of room-temperature quantum computi
 ng functionalities using a two-wavevector component magnon BEC.&lt;/span&gt;&lt;/p&gt;
END:VEVENT
END:VCALENDAR

