BEGIN:VCALENDAR
VERSION:2.0
PRODID:IEEE vTools.Events//EN
CALSCALE:GREGORIAN
BEGIN:VTIMEZONE
TZID:America/New_York
BEGIN:DAYLIGHT
DTSTART:20240310T030000
TZOFFSETFROM:-0500
TZOFFSETTO:-0400
RRULE:FREQ=YEARLY;BYDAY=2SU;BYMONTH=3
TZNAME:EDT
END:DAYLIGHT
BEGIN:STANDARD
DTSTART:20241103T010000
TZOFFSETFROM:-0400
TZOFFSETTO:-0500
RRULE:FREQ=YEARLY;BYDAY=1SU;BYMONTH=11
TZNAME:EST
END:STANDARD
END:VTIMEZONE
BEGIN:VEVENT
DTSTAMP:20240812T170300Z
UID:D5EB4120-0A13-479B-92BC-D4B1DFB08C1E
DTSTART;TZID=America/New_York:20240808T180000
DTEND;TZID=America/New_York:20240808T193000
DESCRIPTION:We are excited to invite you to the IEEE Atlanta Young Professi
 onals Affinity Group planning meeting!\n\nAre you ready to make a differen
 ce and take your career to the next level? IEEE Atlanta Young Professional
 s (YP) is on the lookout for volunteers to join our dynamic team! This is 
 an incredible opportunity to network\, develop new skills\, and make a mea
 ningful impact in our professional community.\n\nOur YP group welcomes eve
 ryone—from students to senior professionals—who are dedicated to provi
 ding top-notch professional development opportunities for graduating stude
 nts and young professionals\, and to building lifelong\, diverse professio
 nal networks. There are no age or membership type limits—everyone is wel
 come!\n\nWhy Volunteer with IEEE YP?\n\n- Professional Development: Boost 
 your leadership skills by organizing and participating in exciting events\
 , and mentoring the next generation.\n- Networking Opportunities: Connect 
 with industry leaders\, mentors\, and peers. Build relationships that can 
 last a lifetime!\n- Community Engagement: Make a positive impact by suppor
 ting initiatives that promote a smooth student-to-professional transition\
 , professional growth\, and STEM education.\n\nWe have various volunteer r
 oles available\, including student outreach\, event planning\, marketing\,
  member engagement\, and more. The time commitment is flexible—whether y
 ou can spare a few hours or commit to regular involvement\, your contribut
 ion will be valued and appreciated.\n\nThis is an in person meeting with d
 inner. We will meet at 771 Ferst Drive\, J. Erskine Love Bldg Room 185\, o
 n Georgia Tech campus.\n\nFor directions and parking information\, click [
 here](https://www.mse.gatech.edu/about/mapsinfo).\n\nAgenda: \n6-6:30pm: D
 inner &amp; Networking\n6:30 - 7:30pm: Meeting\n\nRoom: 185\, Bldg: J. Erskine
  Love Building\, 771 Ferst Drive \, Georgia Institute of Technology\, ATLA
 NTA\, Georgia\, United States\, 30332
LOCATION:Room: 185\, Bldg: J. Erskine Love Building\, 771 Ferst Drive \, Ge
 orgia Institute of Technology\, ATLANTA\, Georgia\, United States\, 30332
ORGANIZER:yusuf.yaras@ieee.org
SEQUENCE:36
SUMMARY:IEEE Atlanta Young Professionals Meeting and Volunteering
URL;VALUE=URI:https://events.vtools.ieee.org/m/429150
X-ALT-DESC:Description: &lt;br /&gt;&lt;p&gt;We are excited to invite you to the IEEE A
 tlanta Young Professionals Affinity Group planning meeting!&lt;/p&gt;\n&lt;p&gt;Are yo
 u ready to make a difference and take your career to the next level? IEEE 
 Atlanta Young Professionals (YP) is on the lookout for volunteers to join 
 our dynamic team! This is an incredible opportunity to network\, develop n
 ew skills\, and make a meaningful impact in our professional community.&lt;/p
 &gt;\n&lt;p&gt;Our YP group welcomes everyone&amp;mdash\;from students to senior profes
 sionals&amp;mdash\;who are dedicated to providing top-notch professional devel
 opment opportunities for graduating students and young professionals\, and
  to building lifelong\, diverse professional networks. There are no age or
  membership type limits&amp;mdash\;&lt;strong&gt;everyone is welcome&lt;/strong&gt;!&lt;/p&gt;\n
 &lt;h4&gt;Why Volunteer with IEEE YP?&lt;/h4&gt;\n&lt;ul&gt;\n&lt;li&gt;&lt;strong&gt;Professional Devel
 opment:&lt;/strong&gt; Boost your leadership skills by organizing and participat
 ing in exciting events\, and mentoring the next generation.&lt;/li&gt;\n&lt;li&gt;&lt;str
 ong&gt;Networking Opportunities:&lt;/strong&gt; Connect with industry leaders\, men
 tors\, and peers. Build relationships that can last a lifetime!&lt;/li&gt;\n&lt;li&gt;
 &lt;strong&gt;Community Engagement:&lt;/strong&gt; Make a positive impact by supportin
 g initiatives that promote a smooth student-to-professional transition\, p
 rofessional growth\, and STEM education.&lt;/li&gt;\n&lt;/ul&gt;\n&lt;p&gt;We have various v
 olunteer roles available\, including student outreach\, event planning\, m
 arketing\, member engagement\, and more. The time commitment is flexible&amp;m
 dash\;whether you can spare a few hours or commit to regular involvement\,
  your contribution will be valued and appreciated.&lt;/p&gt;\n&lt;p&gt;This is an in p
 erson meeting with dinner. We will meet at 771 Ferst Drive\, J. Erskine Lo
 ve Bldg Room 185\, on Georgia Tech campus.&amp;nbsp\;&lt;/p&gt;\n&lt;p&gt;For directions a
 nd parking information\, click &lt;a href=&quot;https://www.mse.gatech.edu/about/m
 apsinfo&quot;&gt;here&lt;/a&gt;.&amp;nbsp\;&lt;/p&gt;\n&lt;p&gt;&amp;nbsp\;&lt;/p&gt;\n&lt;p&gt;&amp;nbsp\;&lt;/p&gt;&lt;br /&gt;&lt;br /&gt;A
 genda: &lt;br /&gt;&lt;p&gt;6-6:30pm: Dinner &amp;amp\; Networking&lt;br&gt;6:30 - 7:30pm: Meeti
 ng&lt;/p&gt;
END:VEVENT
END:VCALENDAR

