BEGIN:VCALENDAR
VERSION:2.0
PRODID:IEEE vTools.Events//EN
CALSCALE:GREGORIAN
BEGIN:VTIMEZONE
TZID:US/Central
BEGIN:DAYLIGHT
DTSTART:20240310T030000
TZOFFSETFROM:-0600
TZOFFSETTO:-0500
RRULE:FREQ=YEARLY;BYDAY=2SU;BYMONTH=3
TZNAME:CDT
END:DAYLIGHT
BEGIN:STANDARD
DTSTART:20241103T010000
TZOFFSETFROM:-0500
TZOFFSETTO:-0600
RRULE:FREQ=YEARLY;BYDAY=1SU;BYMONTH=11
TZNAME:CST
END:STANDARD
END:VTIMEZONE
BEGIN:VEVENT
DTSTAMP:20241010T221530Z
UID:493E45AA-870D-4C9A-AE87-EC05DFD97E15
DTSTART;TZID=US/Central:20241005T090000
DTEND;TZID=US/Central:20241005T160000
DESCRIPTION:This year the Children of The CornCon: Kids&#39; Hacker Camp and ST
 EM Festival is held on Saturday\, October 5\, 2024\n\nCornCon is a Cyberse
 curity Conference held annually in conjunction with the IEEE Computer Soci
 ety Chapter and other regional societies and run by Docent Institute. This
  event is held adjacent to the main conference and it is intended for stud
 ents in K-12 grades.\n\nAGENDA\n\n- $35 first K-12 student / $15 additiona
 l K-12 students\n- Includes Electronics Kit &amp; T-Shirt\n- Lockpicking\, Ele
 ctronics\, Coding\, AI\, Cryptography\, Build a Computer\, Biohacking\, Mo
 re!\n- Hacker Jeopardy for Kids • Contests • Games • Prizes • Lunc
 h/Beverages\n- H.S. “Intro to Cybersecurity” on Friday\, Oct 4\, 2024 
 (invite only for 150 HS students)\n- Scholarships available!\n\n[]\n\nCo-s
 ponsored by: Docent Institute\n\nAgenda: \nAll attendees are invited to Co
 ntests\, Music\, Games and More! All badge holders and their parents are i
 nvited to the Saturday Bill Murray After Party w/food and drinks -- Family
  Friendly Fun. All activities are held at or nearby the RiverCenter Conven
 tion Center. More info can be found on website\, [www.corncon.net](https:/
 /corncon.net).\n\n136 E 3rd St\, RiverCenter Convention Center - South\, D
 avenport\, Iowa\, United States\, 52801
LOCATION:136 E 3rd St\, RiverCenter Convention Center - South\, Davenport\,
  Iowa\, United States\, 52801
ORGANIZER:j.johnson@ieee.org
SEQUENCE:22
SUMMARY:CornCon Kids&#39; Hacker Camp &amp; STEM Festival
URL;VALUE=URI:https://events.vtools.ieee.org/m/429398
X-ALT-DESC:Description: &lt;br /&gt;&lt;p&gt;This year the Children of The CornCon: Kid
 s&#39; Hacker Camp and STEM Festival is held on Saturday\, October 5\, 2024&lt;/p
 &gt;\n&lt;p&gt;CornCon is a Cybersecurity Conference held annually in conjunction w
 ith the IEEE Computer Society Chapter and other regional societies and run
  by Docent Institute. This event is held adjacent to the main conference a
 nd it is intended for students in K-12 grades.&lt;/p&gt;\n&lt;p&gt;&lt;strong&gt;AGENDA&lt;/str
 ong&gt;&lt;/p&gt;\n&lt;ul&gt;\n&lt;li&gt;$35 first K-12 student / $15 additional K-12 students&lt;
 /li&gt;\n&lt;li&gt;Includes Electronics Kit &amp;amp\; T-Shirt&lt;/li&gt;\n&lt;li&gt;Lockpicking\, 
 Electronics\, Coding\, AI\, Cryptography\, Build a Computer\, Biohacking\,
  More!&lt;/li&gt;\n&lt;li&gt;Hacker Jeopardy for Kids &amp;bull\; Contests &amp;bull\;&amp;nbsp\;G
 ames &amp;bull\;&amp;nbsp\;Prizes &amp;bull\; Lunch/Beverages&lt;/li&gt;\n&lt;li&gt;H.S. &amp;ldquo\;I
 ntro to Cybersecurity&amp;rdquo\; on Friday\, Oct 4\, 2024 (invite only for 15
 0 HS students)&lt;/li&gt;\n&lt;li&gt;Scholarships available!&lt;/li&gt;\n&lt;/ul&gt;\n&lt;p style=&quot;te
 xt-align: center\;&quot;&gt;&lt;img src=&quot;https://events.vtools.ieee.org/vtools_ui/med
 ia/display/2399b4db-fdf7-49c7-bf62-31befaef23fd&quot; alt=&quot;&quot; width=&quot;512&quot; height
 =&quot;512&quot;&gt;&lt;/p&gt;&lt;br /&gt;&lt;br /&gt;Agenda: &lt;br /&gt;&lt;p&gt;All attendees are invited to Conte
 sts\, Music\, Games and More! All badge holders and their parents are invi
 ted to the Saturday Bill Murray After Party w/food and drinks -- Family Fr
 iendly Fun. All activities are held at or nearby the RiverCenter Conventio
 n Center. More info can be found on website\, &lt;a href=&quot;https://corncon.net
 &quot;&gt;&lt;strong&gt;www.corncon.net&lt;/strong&gt;&lt;/a&gt;.&lt;/p&gt;
END:VEVENT
END:VCALENDAR

