BEGIN:VCALENDAR
VERSION:2.0
PRODID:IEEE vTools.Events//EN
CALSCALE:GREGORIAN
BEGIN:VTIMEZONE
TZID:America/Bogota
BEGIN:DAYLIGHT
DTSTART:20380118T221407
TZOFFSETFROM:-0500
TZOFFSETTO:-0500
RRULE:FREQ=YEARLY;BYDAY=3MO;BYMONTH=1
TZNAME:-05
END:DAYLIGHT
BEGIN:STANDARD
DTSTART:19930206T230000
TZOFFSETFROM:-0400
TZOFFSETTO:-0500
RRULE:FREQ=YEARLY;BYDAY=1SA;BYMONTH=2
TZNAME:-05
END:STANDARD
END:VTIMEZONE
BEGIN:VEVENT
DTSTAMP:20241012T170624Z
UID:B9DDE7CC-28E2-4362-A60C-2C8D6D0847A1
DTSTART;TZID=America/Bogota:20240823T090000
DTEND;TZID=America/Bogota:20240823T130000
DESCRIPTION:&quot;Conectando con el Futuro: Encuentro Estudiantil sobre el Auge 
 de las Carreras Tecnológicas en Telecomunicaciones&quot; es un evento educativ
 o y de divulgación tecnológica organizado por el grupo estudiantil ComSo
 c de la Universidad Tecnológica de Panamá (UTP). Este evento tiene como 
 objetivo principal inspirar y motivar a los estudiantes de secundaria y un
 iversitarios a explorar las vastas oportunidades que ofrecen las carreras 
 en el campo de las telecomunicaciones.\n\nEl encuentro se enfoca en resalt
 ar la creciente importancia y el impacto de las telecomunicaciones en la s
 ociedad moderna\, abordando temas como la digitalización\, la automatizac
 ión\, la conectividad global\, y las innovaciones en infraestructura y te
 cnología. Además\, brinda una plataforma para que expertos de la industr
 ia\, académicos y estudiantes discutan y compartan conocimientos sobre la
 s últimas tendencias y desarrollos en el sector.\n\nA través de charlas\
 , los participantes podrán obtener una visión clara de cómo las telecom
 unicaciones están moldeando el futuro y la manera en que estas carreras o
 frecen oportunidades emocionantes y desafiantes. El evento también busca 
 fortalecer la relación entre la academia y la industria\, ofreciendo a lo
 s asistentes la posibilidad de interactuar con profesionales y empresas l
 íderes en el ámbito tecnológico.\n\n&quot;Conectando con el Futuro&quot; es una c
 elebración del ingenio y la innovación en telecomunicaciones\, diseñada
  para inspirar a la próxima generación de ingenieros y tecnólogos a seg
 uir una carrera en un campo que es fundamental para el progreso y el biene
 star global.\n\nExplora oportunidades\, conoce a expertos del sector y des
 cubre cómo las telecomunicaciones están transformando el mundo. No te pi
 erdas la oportunidad de ser parte del futuro.\n\n¡Te esperamos!\n\n[]\n\n
 Co-sponsored by: UNIVERSIDAD TECNOLÓGICA DE PANAMÁ\n\nRoom: Auditorio \,
  Bldg: Edificio de Postgrado\, Av. Centenario\, Universidad Tecnológica d
 e Panamá\, Panama\, Panama\, Panama
LOCATION:Room: Auditorio \, Bldg: Edificio de Postgrado\, Av. Centenario\, 
 Universidad Tecnológica de Panamá\, Panama\, Panama\, Panama
ORGANIZER:ANABEL.CASTRO@IEEE.ORG
SEQUENCE:23
SUMMARY:Conectando con el Futuro: Encuentro Estudiantil sobre el Auge de la
 s Carreras Tecnológicas en Telecomunicaciones
URL;VALUE=URI:https://events.vtools.ieee.org/m/429542
X-ALT-DESC:Description: &lt;br /&gt;&lt;p&gt;&quot;Conectando con el Futuro: Encuentro Estud
 iantil sobre el Auge de las Carreras Tecnol&amp;oacute\;gicas en Telecomunicac
 iones&quot; es un evento educativo y de divulgaci&amp;oacute\;n tecnol&amp;oacute\;gica
  organizado por el grupo estudiantil ComSoc de la Universidad Tecnol&amp;oacut
 e\;gica de Panam&amp;aacute\; (UTP). Este evento tiene como objetivo principal
  inspirar y motivar a los estudiantes de secundaria y universitarios a exp
 lorar las vastas oportunidades que ofrecen las carreras en el campo de las
  telecomunicaciones.&lt;/p&gt;\n&lt;p&gt;El encuentro se enfoca en resaltar la crecien
 te importancia y el impacto de las telecomunicaciones en la sociedad moder
 na\, abordando temas como la digitalizaci&amp;oacute\;n\, la automatizaci&amp;oacu
 te\;n\, la conectividad global\, y las innovaciones en infraestructura y t
 ecnolog&amp;iacute\;a. Adem&amp;aacute\;s\, brinda una plataforma para que experto
 s de la industria\, acad&amp;eacute\;micos y estudiantes discutan y compartan 
 conocimientos sobre las &amp;uacute\;ltimas tendencias y desarrollos en el sec
 tor.&lt;/p&gt;\n&lt;p&gt;A trav&amp;eacute\;s de charlas\, los participantes podr&amp;aacute\;
 n obtener una visi&amp;oacute\;n clara de c&amp;oacute\;mo las telecomunicaciones 
 est&amp;aacute\;n moldeando el futuro y la manera en que estas carreras ofrece
 n oportunidades emocionantes y desafiantes. El evento tambi&amp;eacute\;n busc
 a fortalecer la relaci&amp;oacute\;n entre la academia y la industria\, ofreci
 endo a los asistentes la posibilidad de interactuar con profesionales y em
 presas l&amp;iacute\;deres en el &amp;aacute\;mbito tecnol&amp;oacute\;gico.&lt;/p&gt;\n&lt;p&gt;&quot;
 Conectando con el Futuro&quot; es una celebraci&amp;oacute\;n del ingenio y la inno
 vaci&amp;oacute\;n en telecomunicaciones\, dise&amp;ntilde\;ada para inspirar a la
  pr&amp;oacute\;xima generaci&amp;oacute\;n de ingenieros y tecn&amp;oacute\;logos a s
 eguir una carrera en un campo que es fundamental para el progreso y el bie
 nestar global.&lt;/p&gt;\n&lt;p class=&quot;cvGsUA direction-ltr align-start para-style-
 body&quot;&gt;&lt;span class=&quot;OYPEnA font-feature-liga-off font-feature-clig-off font
 -feature-calt-off text-decoration-none text-strikethrough-none&quot;&gt;Explora op
 ortunidades\, conoce a expertos del sector y descubre c&amp;oacute\;mo las tel
 ecomunicaciones est&amp;aacute\;n transformando el mundo. No te pierdas la opo
 rtunidad de ser parte del futuro.&lt;/span&gt;&lt;/p&gt;\n&lt;p class=&quot;cvGsUA direction-l
 tr align-start para-style-body&quot;&gt;&lt;span class=&quot;OYPEnA font-feature-liga-off 
 font-feature-clig-off font-feature-calt-off text-decoration-none text-stri
 kethrough-none&quot;&gt;&amp;iexcl\;&lt;/span&gt;&lt;span class=&quot;OYPEnA font-feature-liga-off f
 ont-feature-clig-off font-feature-calt-off text-decoration-none text-strik
 ethrough-none&quot;&gt;Te esperamos!&lt;/span&gt;&lt;/p&gt;\n&lt;p class=&quot;cvGsUA direction-ltr al
 ign-start para-style-body&quot;&gt;&lt;img src=&quot;https://events.vtools.ieee.org/vtools
 _ui/media/display/300cfbb9-b0ee-4b8a-b283-97974dc31277&quot; alt=&quot;&quot; width=&quot;770&quot;
  height=&quot;1089&quot;&gt;&lt;/p&gt;
END:VEVENT
END:VCALENDAR

