BEGIN:VCALENDAR
VERSION:2.0
PRODID:IEEE vTools.Events//EN
CALSCALE:GREGORIAN
BEGIN:VTIMEZONE
TZID:Asia/Kolkata
BEGIN:STANDARD
DTSTART:19451014T230000
TZOFFSETFROM:+0630
TZOFFSETTO:+0530
TZNAME:IST
END:STANDARD
END:VTIMEZONE
BEGIN:VEVENT
DTSTAMP:20240806T180126Z
UID:654705B7-E44A-4406-AC28-3BA167596EC3
DTSTART;TZID=Asia/Kolkata:20240724T110000
DTEND;TZID=Asia/Kolkata:20240725T140000
DESCRIPTION:The Institute of Electrical and Electronics Engineers (IEEE) Ja
 ypee University of Information Technology (JUIT) Student Branch (IEEE JUIT
  SB) in collaboration with Membership Development Committee (MDC)\, IEEE D
 elhi Section\, IEEE WIE JUIT SB an IEEE SIGHT JUIT SB organized an engagin
 g event titled &quot;Induction Program- First year” on July 24 2024.\n\nAn in
 duction program for first-year students in IEEE aimed to familiarize them 
 with the organization&#39;s offerings\, connect them with peers and profession
 als\, and encourage active participation. Prof. Shruti Jain\, Branch Couns
 ellor\, IEEE JUIT SB\, Member SIGHT Delhi Section\, Member MDC Delhi Secti
 on\, Member SAC\, Delhi Section and Treasurer WIE AG Delhi Section was the
  speaker of the event.\n\nDr. Shruti Jain is an Associate Dean (Innovation
 ) and Professor in the Department of Electronics and Communication Enginee
 ring at the Jaypee University of Information Technology\, Waknaghat\, H.P\
 , India. She has received her Doctor of Science (D.Sc.) in Electronics and
  Communication Engineering. She has teaching experience of around 19\n\nye
 ars. She has filed ten patents\, of which three have been granted and seve
 n are published. She has published more than 30 book chapters and 130 rese
 arch papers in reputed indexed journals (with IF ~ 70) and in internationa
 l conferences. She has also published 14 books. She has completed two gove
 rnment-sponsored projects. She has guided 07 PhD students and now has 05 r
 egistered students. She has also guided 11 M. Tech scholars and more than 
 110 B. Tech undergrads. She has organized 12 conferences of IEEE and Sprin
 ger as Conference General Chair. Her research interests are Image and Sign
 al Processing\, Soft Computing\, Internet-of-things\, Pattern Recognition\
 , Bio-inspired Computing\, and Computer-Aided Design of FPGA and VLSI circ
 uits. She is a senior member of IEEE\, an Executive member of the IEEE Del
 hi Section\, a life member and Executive member of the Biomedical Engineer
 ing Society of India\, and a member of IAENG. She is a member of the Edito
 rial Board of many reputed journals. She is also a reviewer of many journa
 ls and a member of TPC of different conferences. She was awarded the Natio
 n Builder Award in 2018-19 and enlisted in 2% of scientists of world ranki
 ngs of 2021 and 2023 published by Elsevier\, data compiled by Stanford Uni
 versity.\n\nInitially\, she provided a brief history of IEEE\, its global 
 impact\, and its mission. She explained the organizational structure\, inc
 luding global headquarters\, regional sections\, local chapters\, and stud
 ent branches. She described various technical societies (e.g.\, IEEE Commu
 nications Society\, IEEE Power &amp; Energy Society) and their roles. She high
 lighted Membership Benefits like Professional Development\, Networking Opp
 ortunities\, Skills Development\, Career Guidance\, Publications and Resou
 rces.\n\nShe also informed students about the role and working of the WIE 
 Affinity group and the SIGHT Chapter of JUIT. Approximately 225 students a
 ttended the event by the first year of B.Tech. students. The feedback from
  the students was very positive. Many first-year students appreciated the 
 detailed information about IEEE&#39;s structure and benefits. They found Dr. S
 hruti Jain&#39;s talk inspiring and helpful\, especially the parts about netwo
 rking opportunities and resources for professional growth.\n\nRoom: Audtor
 ium\, Bldg: Academic Block\, Jaypee University Of Information Technology\,
  Solan\, Himachal Pradesh\, India\, 173234
LOCATION:Room: Audtorium\, Bldg: Academic Block\, Jaypee University Of Info
 rmation Technology\, Solan\, Himachal Pradesh\, India\, 173234
ORGANIZER:ieee.juit@juitsolan.in
SEQUENCE:0
SUMMARY:Induction Program - First year
URL;VALUE=URI:https://events.vtools.ieee.org/m/429816
X-ALT-DESC:Description: &lt;br /&gt;&lt;p class=&quot;MsoNormal&quot; style=&quot;text-align: justi
 fy\; line-height: 150%\;&quot;&gt;&lt;span style=&quot;font-size: 12.0pt\; line-height: 15
 0%\; font-family: &#39;Times New Roman&#39;\,&#39;serif&#39;\; mso-fareast-font-family: &#39;T
 imes New Roman&#39;\;&quot;&gt;The Institute of Electrical and Electronics Engineers (
 IEEE) Jaypee University of Information Technology (JUIT) Student Branch (I
 EEE JUIT SB) in collaboration with Membership Development Committee (MDC)\
 , IEEE Delhi Section\, IEEE WIE JUIT SB an IEEE SIGHT JUIT SB organized an
  engaging event titled &quot;&lt;strong style=&quot;mso-bidi-font-weight: normal\;&quot;&gt;Ind
 uction Program- First year&lt;/strong&gt;&amp;rdquo\; on July 24&lt;span style=&quot;mso-spa
 cerun: yes\;&quot;&gt;&amp;nbsp\; &lt;/span&gt;2024.&lt;/span&gt;&lt;/p&gt;\n&lt;p class=&quot;MsoNormal&quot; style=
 &quot;text-align: justify\; line-height: 150%\;&quot;&gt;&lt;span style=&quot;font-size: 12.0pt
 \; line-height: 150%\; font-family: &#39;Times New Roman&#39;\,&#39;serif&#39;\; mso-farea
 st-font-family: &#39;Times New Roman&#39;\;&quot;&gt;&amp;nbsp\;&lt;/span&gt;&lt;img src=&quot;https://event
 s.vtools.ieee.org/vtools_ui/media/display/eeca86b0-325b-4baa-9bd6-e29f0e6b
 e63d&quot; width=&quot;296&quot; height=&quot;239&quot;&gt;&lt;/p&gt;\n&lt;p class=&quot;MsoNormal&quot; style=&quot;text-alig
 n: justify\; line-height: 150%\;&quot;&gt;&lt;span style=&quot;font-size: 12.0pt\; line-he
 ight: 150%\; font-family: &#39;Times New Roman&#39;\,&#39;serif&#39;\; mso-fareast-font-fa
 mily: &#39;Times New Roman&#39;\;&quot;&gt;An induction program for first-year students in
  IEEE aimed to familiarize them with the organization&#39;s offerings\, connec
 t them with peers and professionals\, and encourage active participation. 
 Prof. Shruti Jain\, Branch Counsellor\, IEEE JUIT SB\, Member SIGHT Delhi 
 Section\, Member MDC Delhi Section\, Member SAC\, Delhi Section and Treasu
 rer WIE AG Delhi Section was the speaker of the event.&lt;/span&gt;&lt;/p&gt;\n&lt;p clas
 s=&quot;MsoNormal&quot; style=&quot;text-align: justify\; line-height: 150%\;&quot;&gt;&lt;span styl
 e=&quot;font-size: 12.0pt\; line-height: 107%\; font-family: &#39;Times New Roman&#39;\
 ,&#39;serif&#39;\; mso-fareast-font-family: &#39;Times New Roman&#39;\; mso-ansi-language:
  EN-IN\; mso-fareast-language: EN-IN\; mso-bidi-language: HI\;&quot;&gt;Dr. Shruti
  Jain is an Associate Dean (Innovation) and Professor in the Department of
  Electronics and Communication Engineering at the Jaypee University of Inf
 ormation Technology\, Waknaghat\, H.P\, India. She has received her Doctor
  of Science (D.Sc.) in Electronics and Communication Engineering. She has 
 teaching experience of around 19 &lt;/span&gt;&lt;/p&gt;\n&lt;p class=&quot;MsoNormal&quot; style=&quot;
 text-align: justify\; line-height: 150%\;&quot;&gt;&lt;span style=&quot;font-size: 12.0pt\
 ; line-height: 150%\; font-family: &#39;Times New Roman&#39;\,&#39;serif&#39;\; mso-fareas
 t-font-family: &#39;Times New Roman&#39;\;&quot;&gt;years. She has filed ten patents\, of 
 which three have been granted and seven are published. She has published m
 ore than 30 book chapters and 130 research papers in reputed indexed journ
 als (with IF ~ 70) and in international conferences. She has also publishe
 d 14 books. She has completed two government-sponsored projects. She has g
 uided 07 PhD students and now has 05 registered students. She has also gui
 ded 11 M. Tech scholars and more than 110 B. Tech undergrads. She has orga
 nized 12 conferences of IEEE and Springer as Conference General Chair. Her
  research interests are Image and Signal Processing\, Soft Computing\, Int
 ernet-of-things\, Pattern Recognition\, Bio-inspired Computing\, and Compu
 ter-Aided Design of FPGA and VLSI circuits. She is a senior member of IEEE
 \, an Executive member of the IEEE Delhi Section\, a life member and Execu
 tive member of the Biomedical Engineering Society of India\, and a member 
 of IAENG. She is a member of the Editorial Board of many reputed journals.
  She is also a reviewer of many journals and a member of TPC of different 
 conferences. She was awarded the Nation Builder Award in 2018-19 and enlis
 ted in 2% of scientists of world rankings of 2021 and 2023 published by El
 sevier\, data compiled by Stanford University.&lt;/span&gt;&lt;/p&gt;\n&lt;p class=&quot;MsoNo
 rmal&quot; style=&quot;text-align: justify\; line-height: 150%\;&quot;&gt;&lt;span style=&quot;font-
 size: 12.0pt\; line-height: 150%\; font-family: &#39;Times New Roman&#39;\,&#39;serif&#39;
 \; mso-fareast-font-family: &#39;Times New Roman&#39;\;&quot;&gt;&lt;img src=&quot;https://events.
 vtools.ieee.org/vtools_ui/media/display/dcef98a6-5d4a-4366-bacf-237b74bee9
 6c&quot;&gt;&lt;/span&gt;&lt;/p&gt;\n&lt;p class=&quot;MsoNormal&quot; style=&quot;text-align: justify\; line-he
 ight: 150%\;&quot;&gt;&lt;span style=&quot;font-size: 12.0pt\; line-height: 150%\; font-fa
 mily: &#39;Times New Roman&#39;\,&#39;serif&#39;\; mso-fareast-font-family: &#39;Times New Rom
 an&#39;\;&quot;&gt;&lt;img src=&quot;https://events.vtools.ieee.org/vtools_ui/media/display/c5
 ae64d2-2b70-4bb4-9a35-c00f3552a9de&quot;&gt;&lt;/span&gt;&lt;/p&gt;\n&lt;p class=&quot;MsoNormal&quot; styl
 e=&quot;text-align: justify\; line-height: 150%\;&quot;&gt;&lt;span style=&quot;font-size: 12.0
 pt\; line-height: 150%\; font-family: &#39;Times New Roman&#39;\,&#39;serif&#39;\; mso-far
 east-font-family: &#39;Times New Roman&#39;\;&quot;&gt;&lt;span style=&quot;font-size: 12.0pt\; li
 ne-height: 107%\; font-family: &#39;Times New Roman&#39;\,&#39;serif&#39;\; mso-fareast-fo
 nt-family: &#39;Times New Roman&#39;\; mso-ansi-language: EN-IN\; mso-fareast-lang
 uage: EN-IN\; mso-bidi-language: HI\;&quot;&gt;Initially\, she provided a brief hi
 story of IEEE\, its global impact\, and its mission. She explained the org
 anizational structure\, including global headquarters\, regional sections\
 , local chapters\, and student branches. She described various technical s
 ocieties (e.g.\, IEEE Communications Society\, IEEE Power &amp;amp\; Energy So
 ciety) and their roles. She highlighted Membership Benefits like Professio
 nal Development\, Networking Opportunities\, Skills Development\, Career G
 uidance\, Publications and Resources.&lt;/span&gt;&lt;/span&gt;&lt;/p&gt;\n&lt;p class=&quot;MsoNorm
 al&quot; style=&quot;text-align: justify\; line-height: 150%\;&quot;&gt;&lt;span style=&quot;font-si
 ze: 12.0pt\; line-height: 150%\; font-family: &#39;Times New Roman&#39;\,&#39;serif&#39;\;
  mso-fareast-font-family: &#39;Times New Roman&#39;\;&quot;&gt;&lt;span style=&quot;font-size: 12.
 0pt\; line-height: 107%\; font-family: &#39;Times New Roman&#39;\,&#39;serif&#39;\; mso-fa
 reast-font-family: &#39;Times New Roman&#39;\; mso-ansi-language: EN-IN\; mso-fare
 ast-language: EN-IN\; mso-bidi-language: HI\;&quot;&gt;&lt;img src=&quot;https://events.vt
 ools.ieee.org/vtools_ui/media/display/c1c76bf2-4019-40b9-9e00-65b5c36b4529
 &quot;&gt;&lt;/span&gt;&lt;/span&gt;&lt;/p&gt;\n&lt;p class=&quot;MsoNormal&quot; style=&quot;text-align: justify\; li
 ne-height: 150%\;&quot;&gt;&lt;span style=&quot;font-size: 12.0pt\; line-height: 150%\; fo
 nt-family: &#39;Times New Roman&#39;\,&#39;serif&#39;\; mso-fareast-font-family: &#39;Times Ne
 w Roman&#39;\;&quot;&gt;&lt;span style=&quot;font-size: 12.0pt\; line-height: 107%\; font-fami
 ly: &#39;Times New Roman&#39;\,&#39;serif&#39;\; mso-fareast-font-family: &#39;Times New Roman
 &#39;\; mso-ansi-language: EN-IN\; mso-fareast-language: EN-IN\; mso-bidi-lang
 uage: HI\;&quot;&gt;&lt;img src=&quot;https://events.vtools.ieee.org/vtools_ui/media/displ
 ay/fe99abb8-e3b0-42e9-b93d-9c1bf4ad0b17&quot;&gt;&lt;/span&gt;&lt;/span&gt;&lt;/p&gt;\n&lt;p class=&quot;Mso
 Normal&quot; style=&quot;text-align: justify\; line-height: 150%\;&quot;&gt;&lt;span style=&quot;fon
 t-size: 12.0pt\; line-height: 150%\; font-family: &#39;Times New Roman&#39;\,&#39;seri
 f&#39;\; mso-fareast-font-family: &#39;Times New Roman&#39;\;&quot;&gt;She also informed stude
 nts about the role and working of the WIE Affinity group and the SIGHT Cha
 pter of JUIT.&lt;span style=&quot;mso-spacerun: yes\;&quot;&gt;&amp;nbsp\; &lt;/span&gt;Approximatel
 y 225 students attended the event by the first year of B.Tech. students. T
 he feedback from the students was very positive. Many first-year students 
 appreciated the detailed information about IEEE&#39;s structure and benefits. 
 They found Dr. Shruti Jain&#39;s talk inspiring and helpful\, especially the p
 arts about networking opportunities and resources for professional growth.
  &lt;/span&gt;&lt;/p&gt;\n&lt;p class=&quot;MsoNormal&quot; style=&quot;text-align: justify\; line-heigh
 t: 150%\;&quot;&gt;&amp;nbsp\;&lt;/p&gt;
END:VEVENT
END:VCALENDAR

