BEGIN:VCALENDAR
VERSION:2.0
PRODID:IEEE vTools.Events//EN
CALSCALE:GREGORIAN
BEGIN:VTIMEZONE
TZID:America/Los_Angeles
BEGIN:DAYLIGHT
DTSTART:20240310T030000
TZOFFSETFROM:-0800
TZOFFSETTO:-0700
RRULE:FREQ=YEARLY;BYDAY=2SU;BYMONTH=3
TZNAME:PDT
END:DAYLIGHT
BEGIN:STANDARD
DTSTART:20241103T010000
TZOFFSETFROM:-0700
TZOFFSETTO:-0800
RRULE:FREQ=YEARLY;BYDAY=1SU;BYMONTH=11
TZNAME:PST
END:STANDARD
END:VTIMEZONE
BEGIN:VEVENT
DTSTAMP:20240906T042703Z
UID:33973754-744A-4492-B81F-D49692E83BD0
DTSTART;TZID=America/Los_Angeles:20240905T183000
DTEND;TZID=America/Los_Angeles:20240905T200000
DESCRIPTION:In this talk\, we will explore five essential habits that can s
 ignificantly accelerate product development cycles. Drawing from transform
 ative prior work as a senior executive at Fortune 500 firm Agilent Technol
 ogies\, John Sadler emphasizes the importance of continuous customer conta
 ct\, prioritizing quality and cadence over scope\, maintaining integration
  throughout the development process\, fostering psychological safety and a
  growth mindset\, and leveraging evidence-based decision-making.\n\nWe wil
 l discuss these five habits:\n\n- Releasing at a high quality\, fixed cade
 nce by means of a variable rather than fixed scope\n- Engaging customers d
 irectly and developing data sources on customer behavior\n- Starting integ
 rated and staying integrated\n- Developing psychological safety in your te
 am\n- Becoming evidence-guided\, developing sources of evidence\n\nTogethe
 r\, these practices enhance effectiveness\, innovation\, and cross-functio
 nal collaboration\, leading to faster and more reliable product developmen
 t.\n\nSpeaker(s): John Sadler\n\nRoom: 225\, Bldg: Heafey\, Santa Clara Un
 iversity\, Santa Clara\, California\, United States\, Virtual: https://eve
 nts.vtools.ieee.org/m/429841
LOCATION:Room: 225\, Bldg: Heafey\, Santa Clara University\, Santa Clara\, 
 California\, United States\, Virtual: https://events.vtools.ieee.org/m/429
 841
ORGANIZER:edcheng@ieee.org
SEQUENCE:25
SUMMARY:Five key habits that accelerate your product delivery
URL;VALUE=URI:https://events.vtools.ieee.org/m/429841
X-ALT-DESC:Description: &lt;br /&gt;&lt;p&gt;In this talk\, we will explore five essent
 ial habits that can significantly accelerate product development cycles. D
 rawing from transformative prior work as a senior executive at Fortune 500
  firm Agilent Technologies\, John Sadler emphasizes the importance of cont
 inuous customer contact\, prioritizing quality and cadence over scope\, ma
 intaining integration throughout the development process\, fostering psych
 ological safety and a growth mindset\, and leveraging evidence-based decis
 ion-making.&lt;/p&gt;\n&lt;p&gt;We will discuss these five habits:&lt;/p&gt;\n&lt;ul&gt;\n&lt;li&gt;Rele
 asing at a high quality\, fixed cadence by means of a variable rather than
  fixed scope&lt;/li&gt;\n&lt;li&gt;Engaging customers directly and developing data sou
 rces on customer behavior&lt;/li&gt;\n&lt;li&gt;Starting integrated and staying integr
 ated&lt;/li&gt;\n&lt;li&gt;Developing psychological safety in your team&lt;/li&gt;\n&lt;li&gt;Beco
 ming evidence-guided\, developing sources of evidence&lt;/li&gt;\n&lt;/ul&gt;\n&lt;p&gt;Toge
 ther\, these practices enhance effectiveness\, innovation\, and cross-func
 tional collaboration\, leading to faster and more reliable product develop
 ment.&lt;/p&gt;
END:VEVENT
END:VCALENDAR

