BEGIN:VCALENDAR
VERSION:2.0
PRODID:IEEE vTools.Events//EN
CALSCALE:GREGORIAN
BEGIN:VTIMEZONE
TZID:America/New_York
BEGIN:DAYLIGHT
DTSTART:20240310T030000
TZOFFSETFROM:-0500
TZOFFSETTO:-0400
RRULE:FREQ=YEARLY;BYDAY=2SU;BYMONTH=3
TZNAME:EDT
END:DAYLIGHT
BEGIN:STANDARD
DTSTART:20241103T010000
TZOFFSETFROM:-0400
TZOFFSETTO:-0500
RRULE:FREQ=YEARLY;BYDAY=1SU;BYMONTH=11
TZNAME:EST
END:STANDARD
END:VTIMEZONE
BEGIN:VEVENT
DTSTAMP:20240821T233005Z
UID:FA0A72EE-B1A5-408F-905E-7B2A56528D11
DTSTART;TZID=America/New_York:20240818T080000
DTEND;TZID=America/New_York:20240818T110000
DESCRIPTION:Come out and join in for another Social Event\, the Big Bang Mi
 le at one of our favorite locations in Holmdel\, Bell Works. There are boo
 ths and tables\, and many events for participation or for cheering.\n\nAge
 nda: \n[L](https://d368g9lw5ileu7.cloudfront.net/races/results_1ouprtm6jtd
 hgpjjrkwigomrpea.html)OCATION\n\nPicture\n\n101 Crawfords Corner Rd\nHolmd
 el\, NJ US 07733\n\n- Sunday\, August 18\, 8:00 – 11:00 am: [Big Bang Mi
 le and Science Festival](https://www.shoreac.org/big-bang-mile.html#/)\, C
 lick the link to register for the Race. Bell Works\, Holmdel.\n\nSunday’
 s event is free for spectators but does require a registration fee to part
 icipate in one of the 1-mile races. People of all abilities are welcome to
  race. Schedule of events for Sunday:\n\n7:00 am: Packet pick-up opens\n\n
 8:00 am: Science Avenue booths open\n8:20 am: Mary and John Saarmann Commu
 nity Run/Walk &amp; Youth Mile\n8:50 am: [Logo\, company name\n\nDescription a
 utomatically generated] Masters Men ages 60+ Mile\n9:10 am: [Logo\, compan
 y name\n\nDescription automatically generated] Hackensack Meridian Health 
 Masters Women ages 40+ Mile\n9:30 am: [Logo\, company name\n\nDescription 
 automatically generated] Masters Men ages 50-59 Mile\n9:45 am: [Logo\, com
 pany name\n\nDescription automatically generated] Masters Men ages 40-49 M
 ile\n10:00 am: Coach Bob Andrews High School &amp; Middle School (ages 12-18) 
 Mile\n\n10:15 am: Fun Team Mile\n10:40 am: [Logo\, company name\n\nDescrip
 tion automatically generated] Open Women Mile\n\n10:55 am: [Logo\, company
  name\n\nDescription automatically generated] 361 Degrees Open Men Mile\n\
 n- Designates a USATF-NJ Open Team Championship race within a race.\n\n11:
 15 am: Awards Ceremony\n\n11:30 am Science Avenue booth close\n\nBell Work
 s\, 101 Crawfords Corner Road\, Holmdel\, New Jersey\, United States\, 077
 33
LOCATION:Bell Works\, 101 Crawfords Corner Road\, Holmdel\, New Jersey\, Un
 ited States\, 07733
ORGANIZER:tksieee@gmail.com
SEQUENCE:25
SUMMARY:Big Bang Mile 18 August at Bell Works in Holmdel
URL;VALUE=URI:https://events.vtools.ieee.org/m/430157
X-ALT-DESC:Description: &lt;br /&gt;&lt;div&gt;Come out and join in for another Social 
 Event\, the Big Bang Mile at one of our favorite locations in Holmdel\, Be
 ll Works. There are booths and tables\, and many events for participation 
 or for cheering.&lt;/div&gt;\n&lt;div&gt;&amp;nbsp\;&lt;/div&gt;\n&lt;div&gt;&amp;nbsp\;&lt;/div&gt;\n&lt;div&gt;&lt;img 
 src=&quot;https://events.vtools.ieee.org/vtools_ui/media/display/4a4c1a23-77b1-
 45f9-9ae6-bca6dac9e0b0&quot;&gt;&lt;/div&gt;\n&lt;div&gt;&amp;nbsp\;&lt;/div&gt;\n&lt;div&gt;&lt;img src=&quot;https:/
 /events.vtools.ieee.org/vtools_ui/media/display/16f34594-2288-406b-80f3-b0
 b9b7037326&quot;&gt;&lt;/div&gt;&lt;br /&gt;&lt;br /&gt;Agenda: &lt;br /&gt;&lt;div&gt;\n&lt;h2&gt;&lt;a href=&quot;https://d3
 68g9lw5ileu7.cloudfront.net/races/results_1ouprtm6jtdhgpjjrkwigomrpea.html
 &quot; target=&quot;_blank&quot; rel=&quot;noopener&quot; data-saferedirecturl=&quot;https://www.google.
 com/url?q=https://d368g9lw5ileu7.cloudfront.net/races/results_1ouprtm6jtdh
 gpjjrkwigomrpea.html&amp;amp\;source=gmail&amp;amp\;ust=1723343694204000&amp;amp\;usg=
 AOvVaw05LX_5dKroWYCyq6CnWOpE&quot;&gt;&lt;strong&gt;&lt;u&gt;L&lt;/u&gt;&lt;/strong&gt;&lt;/a&gt;&lt;u&gt;&lt;strong&gt;OCAT
 ION&lt;/strong&gt;&lt;/u&gt;&lt;/h2&gt;\n&lt;div&gt;\n&lt;div&gt;&lt;a&gt;&lt;img class=&quot;CToWUd&quot; src=&quot;https://ci3
 .googleusercontent.com/meips/ADKq_NaixwDtPGqYBB7PCDVmnklQrJ7KjN6HptOU7Uu2b
 BAGeodW8BHizsjlcfZwrOHX9KnWqW-z4fu9RRfu4cre5T28noM_wf-fs5bMklfcUfMMznMAVGl
 YOYBHMoNlHAe-0F2wu7S71ZFR5oZPvHz5wYNiueZlr1Umn3vuOH1YZw=s0-d-e1-ft#https:/
 /www.shoreac.org/uploads/1/1/5/0/115007939/editor/bell-works-logo-white-ba
 ckground.png?1685650653&quot; alt=&quot;Picture&quot; data-bit=&quot;iit&quot;&gt;&lt;/a&gt;\n&lt;div&gt;&amp;nbsp\;&lt;/
 div&gt;\n&lt;/div&gt;\n&lt;/div&gt;\n&lt;h2&gt;&lt;span style=&quot;color: #2a2a2a\;&quot;&gt;101 Crawfords Cor
 ner Rd&lt;br&gt;Holmdel\, NJ US 07733&lt;/span&gt;&lt;/h2&gt;\n&lt;/div&gt;\n&lt;ul type=&quot;disc&quot;&gt;\n&lt;li
  class=&quot;MsoNormal&quot;&gt;Sunday\, August 18\, 8:00 &amp;ndash\; 11:00 am:&amp;nbsp\;&lt;str
 ong&gt;&lt;a href=&quot;https://www.shoreac.org/big-bang-mile.html#/&quot; target=&quot;_blank&quot;
  rel=&quot;noopener&quot; data-saferedirecturl=&quot;https://www.google.com/url?q=https:/
 /www.shoreac.org/big-bang-mile.html%23/&amp;amp\;source=gmail&amp;amp\;ust=1723343
 694204000&amp;amp\;usg=AOvVaw0mNziPGpFuYRVCFrodHIju&quot;&gt;Big Bang Mile and Science
  Festival&lt;/a&gt;&lt;/strong&gt;\, Click the link to register for the Race. Bell Wor
 ks\, Holmdel.&lt;/li&gt;\n&lt;/ul&gt;\n&lt;p class=&quot;MsoNormal&quot;&gt;Sunday&amp;rsquo\;s event is f
 ree for spectators but does require a registration fee to participate in o
 ne of the 1-mile races.&amp;nbsp\; People of all abilities are welcome to race
 .&amp;nbsp\; Schedule of events for Sunday:&lt;/p&gt;\n&lt;p class=&quot;MsoNormal&quot;&gt;&lt;strong&gt;
 &amp;nbsp\; 7:00 am:&amp;nbsp\; Packet pick-up opens&lt;/strong&gt;&lt;/p&gt;\n&lt;p class=&quot;MsoNo
 rmal&quot;&gt;&lt;strong&gt;&amp;nbsp\; 8:00 am:&amp;nbsp\; Science Avenue booths open&lt;/strong&gt;&lt;
 strong&gt;&lt;br&gt;&amp;nbsp\; 8:20 am:&amp;nbsp\;&amp;nbsp\;&lt;em&gt;Mary and John Saarmann&lt;/em&gt;&amp;n
 bsp\;Community Run/Walk &amp;amp\; Youth Mile&lt;br&gt;&amp;nbsp\;&amp;nbsp\;8:50 am: &amp;nbsp\
 ;&lt;/strong&gt;&lt;strong&gt;&lt;img id=&quot;m_-8552509678203283611m_-4210688656408294237m_-
 4442036592690951627Picture_x0020_12&quot; alt=&quot;Logo\, company name\n\nDescripti
 on automatically generated&quot; width=&quot;10&quot; height=&quot;14&quot; border=&quot;0&quot;&gt;&lt;/strong&gt;&lt;st
 rong&gt;&amp;nbsp\; Masters Men ages 60+ Mile&lt;br&gt;&amp;nbsp\; 9:10 am: &amp;nbsp\;&lt;/strong
 &gt;&lt;strong&gt;&lt;img id=&quot;m_-8552509678203283611m_-4210688656408294237m_-444203659
 2690951627Picture_x0020_11&quot; alt=&quot;Logo\, company name\n\nDescription automa
 tically generated&quot; width=&quot;10&quot; height=&quot;14&quot; border=&quot;0&quot;&gt;&lt;/strong&gt;&lt;strong&gt;&amp;nbs
 p\;&amp;nbsp\;&lt;em&gt;Hackensack Meridian Health&lt;/em&gt;&amp;nbsp\;Masters Women ages 40+
  Mile&lt;br&gt;&amp;nbsp\; 9:30 am: &amp;nbsp\;&lt;/strong&gt;&lt;strong&gt;&lt;img id=&quot;m_-855250967820
 3283611m_-4210688656408294237m_-4442036592690951627Picture_x0020_10&quot; alt=&quot;
 Logo\, company name\n\nDescription automatically generated&quot; width=&quot;10&quot; hei
 ght=&quot;14&quot; border=&quot;0&quot;&gt;&lt;/strong&gt;&lt;strong&gt;&amp;nbsp\;&amp;nbsp\;Masters Men ages 50-59 
 Mile&lt;br&gt;&amp;nbsp\; 9:45 am: &amp;nbsp\;&lt;/strong&gt;&lt;strong&gt;&lt;img id=&quot;m_-8552509678203
 283611m_-4210688656408294237m_-4442036592690951627Picture_x0020_9&quot; alt=&quot;Lo
 go\, company name\n\nDescription automatically generated&quot; width=&quot;10&quot; heigh
 t=&quot;14&quot; border=&quot;0&quot;&gt;&lt;/strong&gt;&lt;strong&gt;&amp;nbsp\; Masters Men ages 40-49 Mile&lt;br&gt;
 10:00 am:&amp;nbsp\;&amp;nbsp\;&lt;em&gt;Coach Bob Andrews&lt;/em&gt;&amp;nbsp\;High School &amp;amp\;
  Middle School (ages 12-18) Mile&lt;/strong&gt;&lt;/p&gt;\n&lt;p class=&quot;MsoNormal&quot;&gt;&lt;stron
 g&gt;10:15 am:&amp;nbsp\; Fun Team Mile&lt;br&gt;10:40 am: &amp;nbsp\;&lt;/strong&gt;&lt;strong&gt;&lt;img
  id=&quot;m_-8552509678203283611m_-4210688656408294237m_-4442036592690951627Pic
 ture_x0020_8&quot; alt=&quot;Logo\, company name\n\nDescription automatically genera
 ted&quot; width=&quot;10&quot; height=&quot;14&quot; border=&quot;0&quot;&gt;&lt;/strong&gt;&lt;strong&gt;&amp;nbsp\; Open Women
  Mile&lt;/strong&gt;&lt;/p&gt;\n&lt;p class=&quot;MsoNormal&quot;&gt;&lt;strong&gt;10:55 am:&amp;nbsp\;&amp;nbsp\;&lt;/
 strong&gt;&lt;strong&gt;&lt;img id=&quot;m_-8552509678203283611m_-4210688656408294237m_-444
 2036592690951627Picture_x0020_7&quot; alt=&quot;Logo\, company name\n\nDescription a
 utomatically generated&quot; width=&quot;10&quot; height=&quot;14&quot; border=&quot;0&quot;&gt;&lt;/strong&gt;&lt;strong
 &gt;&amp;nbsp\;&amp;nbsp\;&lt;em&gt;361 Degrees&lt;/em&gt;&amp;nbsp\;Open Men Mile&lt;/strong&gt;&lt;/p&gt;\n&lt;ul 
 type=&quot;disc&quot;&gt;\n&lt;li class=&quot;MsoNormal&quot;&gt;&lt;strong&gt;Designates a USATF-NJ Open Tea
 m Championship race within a race.&lt;/strong&gt;&lt;/li&gt;\n&lt;/ul&gt;\n&lt;p class=&quot;MsoNorm
 al&quot;&gt;&lt;strong&gt;11:15 am:&amp;nbsp\; Awards Ceremony&lt;/strong&gt;&lt;/p&gt;\n&lt;p class=&quot;MsoNo
 rmal&quot;&gt;&lt;strong&gt;11:30 am&amp;nbsp\; Science Avenue booth close&lt;/strong&gt;&lt;/p&gt;
END:VEVENT
END:VCALENDAR

