BEGIN:VCALENDAR
VERSION:2.0
PRODID:IEEE vTools.Events//EN
CALSCALE:GREGORIAN
BEGIN:VTIMEZONE
TZID:Asia/Kolkata
BEGIN:STANDARD
DTSTART:19451014T230000
TZOFFSETFROM:+0630
TZOFFSETTO:+0530
TZNAME:IST
END:STANDARD
END:VTIMEZONE
BEGIN:VEVENT
DTSTAMP:20240816T061201Z
UID:CB52483F-9EF2-4F68-83AA-CFC72D8A018F
DTSTART;TZID=Asia/Kolkata:20240816T103000
DTEND;TZID=Asia/Kolkata:20240816T113200
DESCRIPTION:Webinar by Joint SBC NITM\n\n10:30 – 11:30 pm\n\nTime zone: A
 sia/Kolkata Google\n\nMeet joining info Video call link: [https://meet.goo
 gle.com/gwq-jukx-zfa](https://www.google.com/url?q=https://meet.google.com
 /gwq-jukx-zfa&amp;sa=D&amp;source=calendar&amp;usd=2&amp;usg=AOvVaw2ZlAOIb8hd4KUWxX0ejvgX)
 \n\nSpeaker(s): Prof. Ravi\, \n\nCTEL\, Bijni Complex\, Shillong\, Assam\,
  India\, 793003\, Virtual: https://events.vtools.ieee.org/m/430473
LOCATION:CTEL\, Bijni Complex\, Shillong\, Assam\, India\, 793003\, Virtual
 : https://events.vtools.ieee.org/m/430473
ORGANIZER:jintub64@gmail.com
SEQUENCE:13
SUMMARY:Open-Source Solutions for Advanced Electromagnetic Simulations
URL;VALUE=URI:https://events.vtools.ieee.org/m/430473
X-ALT-DESC:Description: &lt;br /&gt;&lt;p&gt;Webinar by Joint SBC NITM&lt;/p&gt;\n&lt;p&gt;10:30 &amp;n
 dash\; 11:30 pm&lt;/p&gt;\n&lt;p&gt;Time zone: Asia/Kolkata Google&lt;/p&gt;\n&lt;p&gt;Meet joinin
 g info Video call link:&amp;nbsp\;&lt;a href=&quot;https://www.google.com/url?q=https:
 //meet.google.com/gwq-jukx-zfa&amp;amp\;sa=D&amp;amp\;source=calendar&amp;amp\;usd=2&amp;a
 mp\;usg=AOvVaw2ZlAOIb8hd4KUWxX0ejvgX&quot; target=&quot;_blank&quot; rel=&quot;noopener&quot;&gt;https
 ://meet.google.com/gwq-jukx-zfa&lt;/a&gt;&lt;/p&gt;
END:VEVENT
END:VCALENDAR

