BEGIN:VCALENDAR
VERSION:2.0
PRODID:IEEE vTools.Events//EN
CALSCALE:GREGORIAN
BEGIN:VTIMEZONE
TZID:America/Los_Angeles
BEGIN:DAYLIGHT
DTSTART:20240310T030000
TZOFFSETFROM:-0800
TZOFFSETTO:-0700
RRULE:FREQ=YEARLY;BYDAY=2SU;BYMONTH=3
TZNAME:PDT
END:DAYLIGHT
BEGIN:STANDARD
DTSTART:20241103T010000
TZOFFSETFROM:-0700
TZOFFSETTO:-0800
RRULE:FREQ=YEARLY;BYDAY=1SU;BYMONTH=11
TZNAME:PST
END:STANDARD
END:VTIMEZONE
BEGIN:VEVENT
DTSTAMP:20240910T070230Z
UID:687131FA-8D96-4E86-B582-9C879364F80D
DTSTART;TZID=America/Los_Angeles:20240821T180000
DTEND;TZID=America/Los_Angeles:20240821T203000
DESCRIPTION:Location - Rusty’s Pizza ­­\n\n5934 Calle Real\, Goleta\, C
 A 93117\n\n6:00 PM – Complimentary Pizza\, Salad\, Beverage­\n\n6:25 PM
  – Central Coast Status\n\n6:30 PM – Dr. Parhami Presents\n\nPlease jo
 in us for the 21 August 2024 IEEE Central Coast Event. UCSB Professor Behr
 ooz Parhami\, IEEE Distinguished Lecturer\, will honor us with his very in
 teresting talk on the future of Green Energy Storage.  I look forward to s
 eeing you all on the 21st and know you will all enjoy this talk. The Abstr
 act and Professor Parhami&#39;s short Bio follow. Best regards\, Ruth Franklin
  IEEE Central Coast Chair\n\nPlease Register yourself and guests Below\n\n
 Speaker(s): Behrooz Parhami\, \n\nRoom: Event Room\, Rusty&#39;s Pizza\, 5934 
 Calle Real\, Goleta\, California\, United States\, 93117\, Virtual: https:
 //events.vtools.ieee.org/m/430474
LOCATION:Room: Event Room\, Rusty&#39;s Pizza\, 5934 Calle Real\, Goleta\, Cali
 fornia\, United States\, 93117\, Virtual: https://events.vtools.ieee.org/m
 /430474
ORGANIZER:rfranklin.ieee@gmail.com
SEQUENCE:90
SUMMARY:IEEE CENTRAL COAST FREE EVENT - 21 AUGUST 6PM @ RUSTY&#39;S PIZZA &quot;Ener
 gy Storage Technologies to Facilitate the Use of Renewable Energy&quot; Disting
 uished Professor Behrooz Parhami (UCSB-ECE)
URL;VALUE=URI:https://events.vtools.ieee.org/m/430474
X-ALT-DESC:Description: &lt;br /&gt;&lt;p class=&quot;MsoNormal&quot; style=&quot;margin-bottom: 2.
 0pt\; line-height: normal\; background: white\;&quot;&gt;&lt;strong&gt;&lt;span style=&quot;font
 -family: &#39;Arial&#39;\,sans-serif\; mso-fareast-font-family: &#39;Times New Roman&#39;\
 ; color: #c00000\;&quot;&gt;Location - Rusty&amp;rsquo\;s Pizza &amp;shy\;&amp;shy\;&amp;nbsp\;&amp;nb
 sp\;&amp;nbsp\;&amp;nbsp\;&amp;nbsp\;&amp;nbsp\;&amp;nbsp\;&amp;nbsp\;&amp;nbsp\;&amp;nbsp\;&amp;nbsp\;&amp;nbsp\;
 &amp;nbsp\;&amp;nbsp\;&amp;nbsp\;&amp;nbsp\;&amp;nbsp\;&amp;nbsp\;&amp;nbsp\;&amp;nbsp\;&amp;nbsp\;&amp;nbsp\;&amp;nbs
 p\;&amp;nbsp\;&amp;nbsp\;&amp;nbsp\;&amp;nbsp\;&amp;nbsp\;&amp;nbsp\;&amp;nbsp\;&amp;nbsp\;&amp;nbsp\;&amp;nbsp\;&amp;
 nbsp\;&amp;nbsp\;&amp;nbsp\;&amp;nbsp\;&amp;nbsp\;&amp;nbsp\;&amp;nbsp\;&amp;nbsp\;&amp;nbsp\;&amp;nbsp\;&amp;nbsp
 \;&amp;nbsp\;&amp;nbsp\;&amp;nbsp\;&amp;nbsp\;&amp;nbsp\;&amp;nbsp\;&amp;nbsp\;&amp;nbsp\;&amp;nbsp\;&amp;nbsp\;&amp;n
 bsp\;&amp;nbsp\;&amp;nbsp\;&amp;nbsp\;&amp;nbsp\;&amp;nbsp\;&amp;nbsp\;&amp;nbsp\;&amp;nbsp\;&amp;nbsp\;&amp;nbsp\
 ;&amp;nbsp\;&amp;nbsp\;&amp;nbsp\;&amp;nbsp\;&amp;nbsp\;&amp;nbsp\;&amp;nbsp\;&amp;nbsp\;&amp;nbsp\;&amp;nbsp\;&amp;nb
 sp\;&amp;nbsp\;&amp;nbsp\;&amp;nbsp\;&amp;nbsp\;&amp;nbsp\;&amp;nbsp\;&amp;nbsp\;&amp;nbsp\;&lt;/span&gt;&lt;/stron
 g&gt;&lt;/p&gt;\n&lt;p class=&quot;MsoNormal&quot; style=&quot;margin-bottom: 2.0pt\; line-height: no
 rmal\; background: white\;&quot;&gt;&lt;!-- [if gte vml 1]&gt;&lt;v:shapetype id=&quot;_x0000_t7
 5&quot; coordsize=&quot;21600\,21600&quot;\n o:spt=&quot;75&quot; o:preferrelative=&quot;t&quot; path=&quot;m@4@5l
 @4@11@9@11@9@5xe&quot; filled=&quot;f&quot;\n stroked=&quot;f&quot;&gt;\n &lt;v:stroke joinstyle=&quot;miter&quot;/
 &gt;\n &lt;v:formulas&gt;\n  &lt;v:f eqn=&quot;if lineDrawn pixelLineWidth 0&quot;/&gt;\n  &lt;v:f eqn
 =&quot;sum @0 1 0&quot;/&gt;\n  &lt;v:f eqn=&quot;sum 0 0 @1&quot;/&gt;\n  &lt;v:f eqn=&quot;prod @2 1 2&quot;/&gt;\n  
 &lt;v:f eqn=&quot;prod @3 21600 pixelWidth&quot;/&gt;\n  &lt;v:f eqn=&quot;prod @3 21600 pixelHeig
 ht&quot;/&gt;\n  &lt;v:f eqn=&quot;sum @0 0 1&quot;/&gt;\n  &lt;v:f eqn=&quot;prod @6 1 2&quot;/&gt;\n  &lt;v:f eqn=&quot;
 prod @7 21600 pixelWidth&quot;/&gt;\n  &lt;v:f eqn=&quot;sum @8 21600 0&quot;/&gt;\n  &lt;v:f eqn=&quot;pr
 od @7 21600 pixelHeight&quot;/&gt;\n  &lt;v:f eqn=&quot;sum @10 21600 0&quot;/&gt;\n &lt;/v:formulas&gt;
 \n &lt;v:path o:extrusionok=&quot;f&quot; gradientshapeok=&quot;t&quot; o:connecttype=&quot;rect&quot;/&gt;\n 
 &lt;o:lock v:ext=&quot;edit&quot; aspectratio=&quot;t&quot;/&gt;\n&lt;/v:shapetype&gt;&lt;v:shape id=&quot;Picture
 _x0020_3&quot; o:spid=&quot;_x0000_s1026&quot; type=&quot;#_x0000_t75&quot;\n style=&#39;position:absol
 ute\;margin-left:0\;margin-top:14.5pt\;width:181.35pt\;\n height:135.8pt\;
 z-index:-251657216\;visibility:visible\;mso-wrap-style:square\;\n mso-widt
 h-percent:0\;mso-height-percent:0\;mso-wrap-distance-left:9pt\;\n mso-wrap
 -distance-top:0\;mso-wrap-distance-right:9pt\;\n mso-wrap-distance-bottom:
 0\;mso-position-horizontal:left\;\n mso-position-horizontal-relative:margi
 n\;mso-position-vertical:absolute\;\n mso-position-vertical-relative:text\
 ;mso-width-percent:0\;mso-height-percent:0\;\n mso-width-relative:margin\;
 mso-height-relative:margin&#39;&gt;\n &lt;v:imagedata src=&quot;file:///C:/Users/Ruth/App
 Data/Local/Temp/msohtmlclip1/01/clip_image001.jpg&quot;\n  o:title=&quot;&quot;/&gt;\n &lt;w:wr
 ap type=&quot;tight&quot; anchorx=&quot;margin&quot;/&gt;\n&lt;/v:shape&gt;&lt;![endif]--&gt;&lt;!-- [if !vml]--
 &gt;&lt;img src=&quot;https://events.vtools.ieee.org/vtools_ui/media/display/fb696db3
 -1006-4b42-be73-b2bf3212e410&quot; width=&quot;211&quot; height=&quot;158&quot; align=&quot;left&quot; hspace
 =&quot;12&quot;&gt;&lt;span style=&quot;font-size: 12pt\;&quot;&gt;&lt;!--[endif]--&gt;&lt;span style=&quot;color: rg
 b(0\, 0\, 0)\;&quot;&gt;&lt;strong&gt;&lt;span style=&quot;font-family: Arial\, sans-serif\;&quot;&gt;59
 34 Calle Real\, Goleta\, CA 93117&amp;nbsp\;&lt;/span&gt;&lt;/strong&gt;&lt;/span&gt;&lt;/span&gt;&lt;/p&gt;
 \n&lt;p class=&quot;MsoNormal&quot; style=&quot;margin-bottom: 2.0pt\; line-height: normal\;
  background: white\;&quot;&gt;&lt;span style=&quot;font-family: Arial\, sans-serif\; color
 : rgb(34\, 34\, 34)\; font-size: 12pt\;&quot;&gt;6:00 PM &amp;ndash\; Complimentary Pi
 zza\, Salad\, Beverage&amp;shy\;&lt;/span&gt;&lt;/p&gt;\n&lt;p class=&quot;MsoNormal&quot; style=&quot;margi
 n-bottom: 2.0pt\; line-height: normal\; background: white\;&quot;&gt;&lt;span style=&quot;
 font-family: Arial\, sans-serif\; color: rgb(34\, 34\, 34)\; font-size: 12
 pt\;&quot;&gt;6:25 PM &amp;ndash\; Central Coast Status&lt;/span&gt;&lt;/p&gt;\n&lt;p class=&quot;MsoNorma
 l&quot; style=&quot;margin-bottom: 2.0pt\; line-height: normal\; background: white\;
 &quot;&gt;&lt;span style=&quot;font-family: Arial\, sans-serif\; color: rgb(34\, 34\, 34)\
 ; font-size: 12pt\;&quot;&gt;6:30 PM &amp;ndash\; Dr. Parhami Presents&lt;/span&gt;&lt;/p&gt;\n&lt;p 
 style=&quot;background: white\; margin: 0in 0in 12.0pt 0in\;&quot;&gt;&lt;span style=&quot;font
 -size: 11.0pt\; font-family: &#39;Arial&#39;\,sans-serif\; color: black\;&quot;&gt;Please 
 join us for the 21 August 2024 IEEE Central Coast Event. UCSB Professor Be
 hrooz Parhami\, IEEE Distinguished Lecturer\, will honor us with his very 
 interesting talk on the future of Green Energy Storage. &lt;span style=&quot;mso-s
 pacerun: yes\;&quot;&gt;&amp;nbsp\;&lt;/span&gt;I look forward to seeing you all on the 21st
  and know you will all enjoy this talk. The Abstract and Professor Parhami
 &#39;s short Bio follow. &lt;/span&gt;&lt;span style=&quot;font-size: 11.0pt\; font-family: 
 &#39;Arial&#39;\,sans-serif\; color: black\;&quot;&gt;Best regards\, Ruth Franklin IEEE Ce
 ntral Coast Chair&lt;/span&gt;&lt;/p&gt;\n&lt;p style=&quot;background: white\; margin: 0in 0i
 n 12.0pt 0in\;&quot;&gt;&lt;strong&gt;&lt;span style=&quot;font-size: 12.0pt\; line-height: 107%
 \; font-family: &#39;Arial&#39;\,sans-serif\; mso-fareast-font-family: &#39;Times New 
 Roman&#39;\; color: #ba372a\; mso-ansi-language: EN-US\; mso-fareast-language:
  EN-US\; mso-bidi-language: AR-SA\;&quot;&gt;&lt;span style=&quot;mso-spacerun: yes\;&quot;&gt;&amp;nb
 sp\;Please &lt;/span&gt;Register yourself and guests Below&lt;/span&gt;&lt;/strong&gt;&lt;/p&gt;
END:VEVENT
END:VCALENDAR

