BEGIN:VCALENDAR
VERSION:2.0
PRODID:IEEE vTools.Events//EN
CALSCALE:GREGORIAN
BEGIN:VTIMEZONE
TZID:America/Los_Angeles
BEGIN:DAYLIGHT
DTSTART:20240310T030000
TZOFFSETFROM:-0800
TZOFFSETTO:-0700
RRULE:FREQ=YEARLY;BYDAY=2SU;BYMONTH=3
TZNAME:PDT
END:DAYLIGHT
BEGIN:STANDARD
DTSTART:20241103T010000
TZOFFSETFROM:-0700
TZOFFSETTO:-0800
RRULE:FREQ=YEARLY;BYDAY=1SU;BYMONTH=11
TZNAME:PST
END:STANDARD
END:VTIMEZONE
BEGIN:VEVENT
DTSTAMP:20240911T162713Z
UID:234912ED-519B-4F1B-9F43-9208A1028C10
DTSTART;TZID=America/Los_Angeles:20240910T153000
DTEND;TZID=America/Los_Angeles:20240910T173000
DESCRIPTION:*Hybrid event but in-person attendance encouraged - opportunity
  to meet and greet the experts from Dispatch Tech which is a company that 
 specializes in network security\, IT services\, and compliance with a long
  list of standards.\n\nCybersecurity Today is a rapidly evolving field tha
 t encompasses the technologies\, practices\, and processes designed to pro
 tect networks\, devices\, programs\, and data from attack\, damage\, or un
 authorized access. With the increasing reliance on digital systems across 
 industries\, cybersecurity has become a critical concern for organizations
  and individuals alike. We will be addressing some key trends and issues i
 n cybersecurity today. The Rise of AI (Artificial Intelligence) is one of 
 the most transformative trends in technology today\, impacting a wide rang
 e of industries and aspects of daily life. AI refers to the development of
  computer systems that can perform tasks typically requiring human intelli
 gence\, such as visual perception\, speech recognition\, decision-making\,
  and language translation. We will review how AI is shaping the present an
 d future\, its benefits and pitfalls.\n\nCo-sponsored by: Open Research In
 stitute\n\nSpeaker(s): Raven Antiquiera\n\nAgenda: \n- 3:30pm - 4:00pm: Co
 ffee + Meet and Greet with the guest.\n- 4:00pm-5:00pm:\n-\n1.Cybersecurit
 y in the News\nRecent current events and stories. MGM &amp; Colonial Pipeline 
 compromise\, CloudStrike outage\, etc. etc.\n\n2.CybersecurityAwareness &amp; 
 Training\nPassword management\, 2FA\, clicking on unknown links\, social e
 ngineering &amp; phishing\, ransomware and short stories of victims and the re
 sulting negative impact on their business etc. etc.\n\n3.The Rise of AI (a
 rtificial intelligence)\nWhat is AI? Current events pertaining to AI relat
 ing to cybersecurity. Future potential and pitfalls of AI\n\n4.Questions a
 nd Answers.\n- Q/A Session\n\n- 5:00pm-5:30pm: More coffee\, snacks and so
 cialization :)\n\nRoom: Auditorium\, Bldg: Building Q\, 6455 Lusk Blvd\, S
 an Diego\, California\, United States\, 92121\, Virtual: https://events.vt
 ools.ieee.org/m/430685
LOCATION:Room: Auditorium\, Bldg: Building Q\, 6455 Lusk Blvd\, San Diego\,
  California\, United States\, 92121\, Virtual: https://events.vtools.ieee.
 org/m/430685
ORGANIZER:mountain.michelle@gmail.com
SEQUENCE:52
SUMMARY:Cybersecurity Today and The Rise of AI
URL;VALUE=URI:https://events.vtools.ieee.org/m/430685
X-ALT-DESC:Description: &lt;br /&gt;&lt;p&gt;*Hybrid event but in-person attendance enc
 ouraged - opportunity to meet and greet the experts from Dispatch Tech whi
 ch is a company that specializes in network security\, IT services\, and c
 ompliance with a long list of standards.&lt;/p&gt;\n&lt;p&gt;&lt;strong&gt;Cybersecurity Tod
 ay&lt;/strong&gt; is a rapidly evolving field that encompasses the technologies\
 , practices\, and processes designed to protect networks\, devices\, progr
 ams\, and data from attack\, damage\, or unauthorized access. With the inc
 reasing reliance on digital systems across industries\, cybersecurity has 
 become a critical concern for organizations and individuals alike. We will
  be addressing some key trends and issues in cybersecurity today. &lt;strong&gt;
 The Rise of AI (Artificial Intelligence)&lt;/strong&gt; is one of the most trans
 formative trends in technology today\, impacting a wide range of industrie
 s and aspects of daily life. AI refers to the development of computer syst
 ems that can perform tasks typically requiring human intelligence\, such a
 s visual perception\, speech recognition\, decision-making\, and language 
 translation. We will review how AI is shaping the present and future\, its
  benefits and pitfalls.&lt;/p&gt;&lt;br /&gt;&lt;br /&gt;Agenda: &lt;br /&gt;&lt;ul&gt;\n&lt;li&gt;3:30pm - 4:
 00pm: Coffee + Meet and Greet with the guest.&lt;/li&gt;\n&lt;li&gt;4:00pm-5:00pm:&amp;nbs
 p\;\n&lt;ul&gt;\n&lt;li&gt;\n&lt;div&gt;1.Cybersecurity in the News&lt;/div&gt;\n&lt;div&gt;Recent curre
 nt events and stories. MGM &amp;amp\; Colonial Pipeline compromise\, CloudStri
 ke outage\, etc. etc.&lt;/div&gt;\n&lt;div&gt;&amp;nbsp\;&lt;/div&gt;\n&lt;div&gt;2.CybersecurityAware
 ness &amp;amp\; Training&lt;/div&gt;\n&lt;div&gt;Password management\, 2FA\, clicking on u
 nknown links\, social engineering &amp;amp\; phishing\, ransomware and short s
 tories of victims and the resulting negative impact on their business etc.
  etc.&lt;/div&gt;\n&lt;div&gt;&amp;nbsp\;&lt;/div&gt;\n&lt;div&gt;3.The Rise of AI (artificial intelli
 gence)&lt;/div&gt;\n&lt;div&gt;What is AI? Current events pertaining to AI relating to
  cybersecurity. Future potential and pitfalls of AI&lt;/div&gt;\n&lt;div&gt;&amp;nbsp\;&lt;/d
 iv&gt;\n&lt;div&gt;4.Questions and Answers.&lt;/div&gt;\n&lt;/li&gt;\n&lt;li&gt;Q/A Session&lt;/li&gt;\n&lt;/u
 l&gt;\n&lt;/li&gt;\n&lt;li&gt;5:00pm-5:30pm: More coffee\, snacks and socialization :)&lt;/l
 i&gt;\n&lt;/ul&gt;
END:VEVENT
END:VCALENDAR

