BEGIN:VCALENDAR
VERSION:2.0
PRODID:IEEE vTools.Events//EN
CALSCALE:GREGORIAN
BEGIN:VTIMEZONE
TZID:America/Chicago
BEGIN:DAYLIGHT
DTSTART:20250309T030000
TZOFFSETFROM:-0600
TZOFFSETTO:-0500
RRULE:FREQ=YEARLY;BYDAY=2SU;BYMONTH=3
TZNAME:CDT
END:DAYLIGHT
BEGIN:STANDARD
DTSTART:20241103T010000
TZOFFSETFROM:-0500
TZOFFSETTO:-0600
RRULE:FREQ=YEARLY;BYDAY=1SU;BYMONTH=11
TZNAME:CST
END:STANDARD
END:VTIMEZONE
BEGIN:VEVENT
DTSTAMP:20241207T145016Z
UID:563F2004-D29B-45D2-AAA8-957D47481E5F
DTSTART;TZID=America/Chicago:20241206T083000
DTEND;TZID=America/Chicago:20241206T150000
DESCRIPTION:IEEE Lone Star Section EMBS Chapter and the Life Members Affini
 ty Group will host a daylong workshop on AI and Healthcare. Event will be 
 held in conjunction with the Computer Sciences Department&#39;s Research Day a
 nd Poster Presentations. The website for the event is as follows:\n\nhttps
 ://r5.ieee.org/lss-embs/workshop/\n\nThe purpose of the workshop is to ass
 emble engineers and scientists with an interest in Artificial Intelligence
  (AI) as applied to the field of healthcare. The workshop is expected to a
 lso expand interest in EMB activities across several technical chapters\, 
 affinity groups and Section members. Additionally\, the event will focus o
 n expanding interest in EMB for students and faculty at the many academic 
 institutions within the Lone Star Section. In addition the event will incl
 ude Texas State University in San Marcos (Central Texas Section)\, with em
 phasis on its very active IEEE faculty and student branch.\n\nThe workshop
  will featuring a Keynote\, Panel Discussion\, and Poster session at the [
 Texas State University STAR Park](https://www.txst.edu/starpark/conference
 -center.html) Conference facility in San Marcos\, Texas on December 6\, 20
 24. (Room 173 and 174)\n\nStudents:  Please submit a title and abstracts (
 less than 500 words) to https://forms.gle/NaLgLeW8aypNwFqz8 by 30 November
  2024.\n\nThe best 5 posters abstracts will be published in IEEE Pulse Mag
 azine.\n\nSpeaker(s): Dr. Stephen T.C. Wong\n\nAgenda: \nSchedule\n8:30 AM
 : Registration and breakfast\n9:00-9:15 AM: Introduction and Welcome by TX
 ST\n9:15-10:15 AM: Keynote\n10:15-11:15 AM: Panel Discussion – Ethics in
  AI\n\n-\nDr. Jose Salinas\, Research Scientist\, U.S. Army Institute of S
 urgical Research\n-\nHakima Ibaroudene\, Research and Development Manager\
 , Southwest Research Institute\n-\nBrett Bowman\, Research Physicist\, Air
  Force Research Laboratory\n-\nDr. Robert Teague\, Chief Medical Officer\,
  Green Room Technologies\n11:15-11:45 PM: IEEE Lone Star Section Presentat
 ion – Dr. Walt Downing\, Section Chairman\n11:45-12:45 PM: Lunch (BBQ)\n
 12:45-2:15 PM: Poster presentations\n2:15 PM: Wrap up and closing remarks\
 n2:30 PM: Workshop Adjourn\n\nSTAR One Conference Center\, 3055 Hunter Roa
 d\, San Marcos\, Texas\, United States\, 78666
LOCATION:STAR One Conference Center\, 3055 Hunter Road\, San Marcos\, Texas
 \, United States\, 78666
ORGANIZER:heena.rathore@ieee.org
SEQUENCE:47
SUMMARY:IEEE LSS EMB Workshop on AI and Healthcare
URL;VALUE=URI:https://events.vtools.ieee.org/m/430801
X-ALT-DESC:Description: &lt;br /&gt;&lt;p&gt;IEEE Lone Star Section EMBS Chapter and th
 e Life Members Affinity Group will host a daylong workshop on AI and Healt
 hcare. &amp;nbsp\;Event will be held in conjunction with the Computer Sciences
  Department&#39;s Research Day and Poster Presentations. The website for the e
 vent is as follows:&lt;/p&gt;\n&lt;p&gt;&lt;a href=&quot;https://r5.ieee.org/lss-embs/workshop
 /&quot;&gt;https://r5.ieee.org/lss-embs/workshop/&lt;/a&gt;&lt;/p&gt;\n&lt;p&gt;The purpose of the w
 orkshop is to assemble engineers and scientists with an interest in Artifi
 cial Intelligence (AI) as applied to the field of&lt;span class=&quot;Apple-conver
 ted-space&quot;&gt;&amp;nbsp\; &lt;/span&gt;healthcare. The workshop is expected to also exp
 and interest in EMB activities across several technical&amp;nbsp\;chapters\, a
 ffinity groups and Section members.&lt;span class=&quot;Apple-converted-space&quot;&gt;&amp;nb
 sp\; &lt;/span&gt;Additionally\, the event will focus on expanding interest in E
 MB for students and faculty at the many academic institutions within the L
 one Star Section. In addition the event will include Texas State Universit
 y in San Marcos (Central Texas Section)\, with emphasis on its very active
  IEEE faculty and student branch.&lt;span class=&quot;Apple-converted-space&quot;&gt; &amp;nbs
 p\;&lt;/span&gt;&lt;/p&gt;\n&lt;p&gt;The workshop will featuring a Keynote\, Panel Discussio
 n\, and Poster session at the &lt;a href=&quot;https://www.txst.edu/starpark/confe
 rence-center.html&quot; target=&quot;_blank&quot; rel=&quot;noreferrer noopener&quot;&gt;Texas State U
 niversity STAR Park&lt;/a&gt; Conference facility in San Marcos\, Texas on Decem
 ber 6\, 2024.&amp;nbsp\; &amp;nbsp\; (Room 173 and 174)&lt;/p&gt;\n&lt;p&gt;&lt;strong&gt;Students:&amp;
 nbsp\;&lt;/strong&gt; Please submit a title and abstracts (less than 500 words) 
 to &lt;a href=&quot;https://forms.gle/NaLgLeW8aypNwFqz8&quot;&gt;https://forms.gle/NaLgLeW
 8aypNwFqz8&lt;/a&gt; by 30 November 2024.&lt;/p&gt;\n&lt;p&gt;The best 5 posters abstracts w
 ill be published in IEEE Pulse Magazine.&lt;/p&gt;&lt;br /&gt;&lt;br /&gt;Agenda: &lt;br /&gt;&lt;p c
 lass=&quot;cvGsUA direction-ltr align-start para-style-body&quot;&gt;&lt;span class=&quot;OYPEn
 A font-feature-liga-off font-feature-clig-off font-feature-calt-off text-d
 ecoration-underline text-strikethrough-none&quot;&gt;Schedule&lt;/span&gt;&lt;/p&gt;\n&lt;div cla
 ss=&quot;gmail_default&quot;&gt;&lt;span class=&quot;im&quot;&gt;8:30 AM: Registration and breakfast&lt;br
 &gt;&lt;/span&gt;9:00-9:15 AM: Introduction and Welcome by TXST&lt;/div&gt;\n&lt;div class=&quot;
 gmail_default&quot;&gt;9:15-10:15 AM: Keynote&lt;/div&gt;\n&lt;div class=&quot;gmail_default&quot;&gt;10
 :15-11:15 AM: Panel Discussion &amp;ndash\; Ethics in AI&lt;/div&gt;\n&lt;div class=&quot;gm
 ail_default&quot;&gt;\n&lt;ol start=&quot;1&quot; data-editing-info=&quot;{&amp;quot\;applyListStyleFrom
 Level&amp;quot\;:false\,&amp;quot\;orderedStyleType&amp;quot\;:1}&quot;&gt;\n&lt;li&gt;\n&lt;div data-o
 lk-copy-source=&quot;MessageBody&quot;&gt;Dr. Jose Salinas\, Research Scientist\, U.S. 
 Army Institute of Surgical Research&lt;/div&gt;\n&lt;/li&gt;\n&lt;li&gt;\n&lt;div&gt;Hakima Ibarou
 dene\, Research and Development Manager\, Southwest Research Institute&lt;/di
 v&gt;\n&lt;/li&gt;\n&lt;li&gt;\n&lt;div&gt;Brett Bowman\, Research Physicist\, Air Force Resear
 ch Laboratory&lt;/div&gt;\n&lt;/li&gt;\n&lt;li&gt;\n&lt;div&gt;Dr. Robert Teague\, Chief Medical O
 fficer\, Green Room Technologies&lt;/div&gt;\n&lt;/li&gt;\n&lt;/ol&gt;\n11:15-11:45 PM: IEEE
  Lone Star Section Presentation &amp;ndash\; Dr. Walt Downing\, Section Chairm
 an&lt;br&gt;11:45-12:45 PM: Lunch (BBQ)&lt;br&gt;12:45-2:15 PM: Poster presentations&lt;b
 r&gt;2:15 PM: Wrap up and closing remarks&lt;span class=&quot;im&quot;&gt;&lt;br&gt;2:30 PM: Worksh
 op Adjourn&lt;/span&gt;&lt;/div&gt;\n&lt;p&gt;&amp;nbsp\;&lt;/p&gt;
END:VEVENT
END:VCALENDAR

