BEGIN:VCALENDAR
VERSION:2.0
PRODID:IEEE vTools.Events//EN
CALSCALE:GREGORIAN
BEGIN:VTIMEZONE
TZID:America/Chicago
BEGIN:DAYLIGHT
DTSTART:20240310T030000
TZOFFSETFROM:-0600
TZOFFSETTO:-0500
RRULE:FREQ=YEARLY;BYDAY=2SU;BYMONTH=3
TZNAME:CDT
END:DAYLIGHT
BEGIN:STANDARD
DTSTART:20241103T010000
TZOFFSETFROM:-0500
TZOFFSETTO:-0600
RRULE:FREQ=YEARLY;BYDAY=1SU;BYMONTH=11
TZNAME:CST
END:STANDARD
END:VTIMEZONE
BEGIN:VEVENT
DTSTAMP:20250314T162558Z
UID:32B00FB3-5857-498F-9EA9-33AE110E2AEF
DTSTART;TZID=America/Chicago:20241012T120000
DTEND;TZID=America/Chicago:20241012T163000
DESCRIPTION:Join us at the UWL IEEE Innovators Summit on October 12th!\n\nT
 his is your chance to dive into a day packed with innovation\, learning\, 
 and networking. From inspiring keynotes by industry leaders to student exh
 ibitions showcasing cutting-edge projects\, this event is designed to igni
 te your passion for technology and engineering. Participate in our excitin
 g competition with prizes\, connect with peers and professionals over lunc
 h\, and explore the benefits of IEEE membership at our recruitment booth. 
 Don’t miss out on this incredible opportunity to advance your career and
  make meaningful connections!\n\nAgenda: \nUWL IEEE Innovators Summit Agen
 da\n📅 Date: October 12th\n🕐 Time: 12:00 pm - 4:00 pm\n📍 Venue: Bl
 uffs Ballroom\, Student Union\, UWL\n\n12:00 pm – 12:45 pm: Registration
  &amp; Welcome Address\n12:45 pm – 1:30 pm: Networking Lunch\n1:30 pm – 2:
 30 pm: Keynote Speakers\n2:30 pm – 2:45 pm: Contest Instructions\n2:45 p
 m – 3:45 pm: Research Presentations\n3:45 pm – 4:00 pm: Awards and Clo
 sing Remarks\n\nRoom: 2130 Bluffs Ballroom\, Bldg: Student Union\, 521 Eas
 t Ave N\, La Crosse\, Wisconsin\, United States\, 54601
LOCATION:Room: 2130 Bluffs Ballroom\, Bldg: Student Union\, 521 East Ave N\
 , La Crosse\, Wisconsin\, United States\, 54601
ORGANIZER:arunachalam1628@uwlax.edu
SEQUENCE:33
SUMMARY:UWL IEEE Innovators Summit
URL;VALUE=URI:https://events.vtools.ieee.org/m/431197
X-ALT-DESC:Description: &lt;br /&gt;&lt;p&gt;&lt;strong&gt;Join us at the UWL IEEE Innovators
  Summit on October 12th!&lt;/strong&gt;&lt;/p&gt;\n&lt;p&gt;This is your chance to dive into
  a day packed with innovation\, learning\, and networking. From inspiring 
 keynotes by industry leaders to student exhibitions showcasing cutting-edg
 e projects\, this event is designed to ignite your passion for technology 
 and engineering. Participate in our exciting competition with prizes\, con
 nect with peers and professionals over lunch\, and explore the benefits of
  IEEE membership at our recruitment booth. Don&amp;rsquo\;t miss out on this i
 ncredible opportunity to advance your career and make meaningful connectio
 ns!&lt;/p&gt;&lt;br /&gt;&lt;br /&gt;Agenda: &lt;br /&gt;&lt;p&gt;&lt;strong&gt;UWL IEEE Innovators Summit Age
 nda&lt;/strong&gt;&lt;br&gt;📅 &lt;strong&gt;Date:&lt;/strong&gt; October 12th&lt;br&gt;🕐 &lt;strong&gt;T
 ime:&lt;/strong&gt; 12:00 pm - 4:00 pm&lt;br&gt;📍 &lt;strong&gt;Venue:&lt;/strong&gt; Bluffs Ba
 llroom\, Student Union\, UWL&lt;/p&gt;\n&lt;p&gt;&lt;strong&gt;12:00 pm &amp;ndash\; 12:45 pm:&lt;/
 strong&gt; Registration &amp;amp\; Welcome Address&lt;br&gt;&lt;strong&gt;12:45 pm &amp;ndash\; 1
 :30 pm:&lt;/strong&gt; Networking Lunch&lt;br&gt;&lt;strong&gt;1:30 pm &amp;ndash\; 2:30 pm:&lt;/st
 rong&gt; Keynote Speakers&lt;br&gt;&lt;strong&gt;2:30 pm &amp;ndash\; 2:45 pm:&lt;/strong&gt; Conte
 st Instructions&lt;br&gt;&lt;strong&gt;2:45 pm &amp;ndash\; 3:45 pm:&lt;/strong&gt; Research Pre
 sentations&lt;br&gt;&lt;strong&gt;3:45 pm &amp;ndash\; 4:00 pm:&lt;/strong&gt; Awards and Closin
 g Remarks&lt;/p&gt;
END:VEVENT
END:VCALENDAR

