BEGIN:VCALENDAR
VERSION:2.0
PRODID:IEEE vTools.Events//EN
CALSCALE:GREGORIAN
BEGIN:VTIMEZONE
TZID:America/New_York
BEGIN:DAYLIGHT
DTSTART:20240310T030000
TZOFFSETFROM:-0500
TZOFFSETTO:-0400
RRULE:FREQ=YEARLY;BYDAY=2SU;BYMONTH=3
TZNAME:EDT
END:DAYLIGHT
BEGIN:STANDARD
DTSTART:20241103T010000
TZOFFSETFROM:-0400
TZOFFSETTO:-0500
RRULE:FREQ=YEARLY;BYDAY=1SU;BYMONTH=11
TZNAME:EST
END:STANDARD
END:VTIMEZONE
BEGIN:VEVENT
DTSTAMP:20250113T154922Z
UID:DE2275D2-F155-4F53-B568-984291E82D54
DTSTART;TZID=America/New_York:20240826T113000
DTEND;TZID=America/New_York:20240826T130000
DESCRIPTION:Financial Investing by Gary Neigeborn - Ameriprise 5 Star Custo
 mer rating - Fiduciary\nThis is not a sales pitch - no participant informa
 tion will be shared per IEEE policies.\nGuests are welcome please pass on.
  A portion of the Lunch is subsidized by LM -$15\n\nThe location is Le Pet
 ite Violette restaurant off Clairmont Rd.\, Atlanta.\n\nThe session will n
 ot discuss detailed tax implications. Other sessions are being planned Det
 ails TBA.\nThe presentation will be geared to a wide range of participants
 \, YP to Life members.\n\nThe session will be interactive to ask questions
 . Adjustments will be made based on registrations.  Some of the topics tha
 t will be presented. Gary will be available afterwards to address any ques
 tions.\n\nThis is not a sales pitch - no participant information will be s
 hared per IEEE policies. The session will not discuss detailed tax implica
 tions and is intended to be a catalyst to consult an appropriate professio
 nal if additional information and advice is required.\n\nThe presentation 
 will be geared to a wide range of participants\, Young Professionals to Li
 fe members. Adjustments will be made based on registrations.  Some of the 
 topics that will be presented. Gary will be available afterwards to addres
 s any questions. Guests are welcome to attend.\n\n- Time value of staying 
 invested\n- Market Performance Stocks vs Bonds\n- Understanding and Naviga
 ting Market Volatility\n\n- Keeping your emotions in check\n- Discipline\n
 - Asset Diversification\n- Current Market and Economic Conditions\n- Asses
 sing your Risk tolerance\n- Current market and economic conditions\n- Impo
 rtance of Periodic Rebalancing and Tax Harvesting Strategies\n- Required M
 inimum Deductions\n\n- Charitable contributions\n\nAdditional sessions are
  being planned to build on this topic. Please let us know if you have othe
 r recommendations for events.\n\n- Tax and Planning\n\n- Wills and Trusts\
 n- Medicare Open Enrollment - Nov\n\nA portion of this Lunch will be subsi
 dized by the IEEE Atlanta Life Member and R3 Societies.\n\nPlease select y
 our entrée.\n\nSalad Maison\n\nFresh Cut Mixed Greens topped with Heirloo
 m Tomato Parmesan Cheese\n\nChoice of Entrees\n\nEntrees served with Bread
  and Butter\n\nBoeuf Bourguignon\n\nTender beef marinated &amp; braised in bur
 gundy wine\, pommes purée\,\n\npearl onions\, carrots\, mushrooms\n\nSalm
 on Piccata\n\nFresh pan –seared Atlantic Salmon topped with a Lemon Cape
 r Sauce\n\nand served over Rice Pilaf\n\nChicken Breast Florentine\n\nPan 
 seared Chicken Breast served on a bed of Rice Pilaf and topped with a\n\nW
 hite Wine Cream Sauce and fresh Spinach\n\nOr\n\nTagliatelle and Fresh Veg
 etables\n\nTagliatelle Pasta\, Asparagus\, Tomato\, Mushroom\, Parmesan to
 ssed in EVOO\n\n* * *\n\nStrawberries Romanoff or Gâteau au chocolat sans
  farine\n\n2948 Clairmont Rd NE\, Atlanta\, GA 30329 \, Atlanta\, Georgia\
 , United States
LOCATION:2948 Clairmont Rd NE\, Atlanta\, GA 30329 \, Atlanta\, Georgia\, U
 nited States
ORGANIZER:bpage1@ieee.org
SEQUENCE:14
SUMMARY:Financial Planning Session for Volatile Markets - Professional Fidu
 ciary - Guests are Welcome
URL;VALUE=URI:https://events.vtools.ieee.org/m/431363
X-ALT-DESC:Description: &lt;br /&gt;&lt;p class=&quot;MsoNormal&quot;&gt;Financial Investing by G
 ary Neigeborn - Ameriprise 5 Star Customer rating - Fiduciary&amp;nbsp\;&lt;br&gt;Th
 is is not a sales pitch - no participant information will be shared per IE
 EE policies. &amp;nbsp\;&amp;nbsp\;&lt;br&gt;Guests are welcome please pass on. &amp;nbsp\;A
  portion of the Lunch is subsidized by LM -$15&lt;/p&gt;\n&lt;p class=&quot;MsoNormal&quot;&gt;T
 he location is Le Petite Violette &lt;span style=&quot;font-size: 12.0pt\; line-he
 ight: 115%\; font-family: &#39;Aptos&#39;\,sans-serif\; mso-ascii-theme-font: mino
 r-latin\; mso-fareast-font-family: Aptos\; mso-fareast-theme-font: minor-l
 atin\; mso-hansi-theme-font: minor-latin\; mso-bidi-font-family: &#39;Times Ne
 w Roman&#39;\; mso-bidi-theme-font: minor-bidi\; mso-ansi-language: EN-US\; ms
 o-fareast-language: EN-US\; mso-bidi-language: AR-SA\;&quot;&gt;restaurant off Cla
 irmont Rd.\, Atlanta.&amp;nbsp\;&amp;nbsp\;&lt;/span&gt;&lt;/p&gt;\n&lt;p class=&quot;MsoNormal&quot;&gt;The s
 ession will not discuss detailed tax implications. &amp;nbsp\;Other sessions a
 re being planned Details TBA.&amp;nbsp\;&lt;br&gt;The presentation will be geared to
  a wide range of participants\, YP to Life members. &amp;nbsp\;&lt;/p&gt;\n&lt;p class=
 &quot;MsoNormal&quot;&gt;The session will be interactive to ask questions.&amp;nbsp\; Adjus
 tments will be made based on registrations. &lt;span style=&quot;mso-spacerun: yes
 \;&quot;&gt;&amp;nbsp\;&lt;/span&gt;Some of the topics that will be presented.&lt;span style=&quot;m
 so-spacerun: yes\;&quot;&gt;&amp;nbsp\; &lt;/span&gt;Gary will be available afterwards to ad
 dress any questions.&lt;/p&gt;\n&lt;p class=&quot;MsoNormal&quot;&gt;&amp;nbsp\;&lt;/p&gt;\n&lt;p class=&quot;MsoN
 ormal&quot;&gt;This is not a sales pitch - no participant information will be shar
 ed per IEEE policies.&lt;span style=&quot;mso-spacerun: yes\;&quot;&gt;&amp;nbsp\;&amp;nbsp\; &lt;/sp
 an&gt;The session will not discuss detailed tax implications and is intended 
 to be a catalyst to consult an appropriate professional if additional info
 rmation and advice is required.&amp;nbsp\;&lt;/p&gt;\n&lt;p class=&quot;MsoNormal&quot;&gt;The prese
 ntation will be geared to a wide range of participants\, Young Professiona
 ls to Life members.&lt;span style=&quot;mso-spacerun: yes\;&quot;&gt;&amp;nbsp\; &lt;/span&gt;Adjust
 ments will be made based on registrations. &lt;span style=&quot;mso-spacerun: yes\
 ;&quot;&gt;&amp;nbsp\;&lt;/span&gt;Some of the topics that will be presented.&lt;span style=&quot;ms
 o-spacerun: yes\;&quot;&gt;&amp;nbsp\; &lt;/span&gt;Gary will be available afterwards to add
 ress any questions.&amp;nbsp\; Guests are welcome to attend.&amp;nbsp\;&lt;/p&gt;\n&lt;p cl
 ass=&quot;MsoNormal&quot;&gt;&amp;nbsp\;&lt;/p&gt;\n&lt;ul style=&quot;margin-top: 0in\;&quot; type=&quot;disc&quot;&gt;\n&lt;
 li class=&quot;MsoNormal&quot; style=&quot;mso-list: l2 level1 lfo1\; tab-stops: list .5i
 n\;&quot;&gt;Time value of staying invested&lt;/li&gt;\n&lt;li class=&quot;MsoNormal&quot; style=&quot;mso
 -list: l2 level1 lfo1\; tab-stops: list .5in\;&quot;&gt;Market Performance Stocks 
 vs Bonds&lt;/li&gt;\n&lt;li class=&quot;MsoNormal&quot; style=&quot;mso-list: l2 level1 lfo1\; tab
 -stops: list .5in\;&quot;&gt;Understanding and Navigating Market Volatility&lt;/li&gt;\n
 &lt;ul style=&quot;margin-top: 0in\;&quot; type=&quot;disc&quot;&gt;\n&lt;li class=&quot;MsoNormal&quot; style=&quot;m
 so-list: l2 level2 lfo1\; tab-stops: list 1.0in\;&quot;&gt;Keeping your emotions i
 n check&lt;/li&gt;\n&lt;li class=&quot;MsoNormal&quot; style=&quot;mso-list: l2 level2 lfo1\; tab-
 stops: list 1.0in\;&quot;&gt;Discipline&lt;/li&gt;\n&lt;/ul&gt;\n&lt;li class=&quot;MsoNormal&quot; style=&quot;
 mso-list: l2 level1 lfo1\; tab-stops: list .5in\;&quot;&gt;Asset Diversification&lt;/
 li&gt;\n&lt;li class=&quot;MsoNormal&quot; style=&quot;mso-list: l2 level1 lfo1\; tab-stops: li
 st .5in\;&quot;&gt;Current Market and Economic Conditions&lt;/li&gt;\n&lt;li class=&quot;MsoNorm
 al&quot; style=&quot;mso-list: l2 level1 lfo1\; tab-stops: list .5in\;&quot;&gt;Assessing yo
 ur Risk tolerance&lt;/li&gt;\n&lt;li class=&quot;MsoNormal&quot; style=&quot;mso-list: l2 level1 l
 fo1\; tab-stops: list .5in\;&quot;&gt;Current market and economic conditions&lt;/li&gt;\
 n&lt;li class=&quot;MsoNormal&quot; style=&quot;mso-list: l2 level1 lfo1\; tab-stops: list .
 5in\;&quot;&gt;Importance of Periodic Rebalancing and Tax Harvesting Strategies&lt;/l
 i&gt;\n&lt;li class=&quot;MsoNormal&quot; style=&quot;mso-list: l2 level1 lfo1\; tab-stops: lis
 t .5in\;&quot;&gt;Required Minimum Deductions&lt;span style=&quot;mso-tab-count: 1\;&quot;&gt;&amp;nbs
 p\;&amp;nbsp\;&amp;nbsp\;&amp;nbsp\;&amp;nbsp\;&amp;nbsp\; &lt;/span&gt;&lt;/li&gt;\n&lt;ul style=&quot;margin-top
 : 0in\;&quot; type=&quot;disc&quot;&gt;\n&lt;li class=&quot;MsoNormal&quot; style=&quot;mso-list: l2 level2 lf
 o1\; tab-stops: list 1.0in\;&quot;&gt;Charitable contributions&lt;/li&gt;\n&lt;/ul&gt;\n&lt;/ul&gt;\
 n&lt;p class=&quot;MsoNormal&quot;&gt;&amp;nbsp\;&lt;/p&gt;\n&lt;p class=&quot;MsoNormal&quot;&gt;Additional session
 s are being planned to build on this topic.&amp;nbsp\; Please let us know if y
 ou have other recommendations for events.&amp;nbsp\;&lt;/p&gt;\n&lt;ul style=&quot;margin-to
 p: 0in\;&quot; type=&quot;disc&quot;&gt;\n&lt;li class=&quot;MsoNormal&quot; style=&quot;mso-list: l0 level1 l
 fo2\; tab-stops: list .5in\;&quot;&gt;Tax and Planning&lt;/li&gt;\n&lt;/ul&gt;\n&lt;ul style=&quot;mar
 gin-top: 0in\;&quot; type=&quot;disc&quot;&gt;\n&lt;li class=&quot;MsoNormal&quot; style=&quot;mso-list: l1 le
 vel1 lfo3\; tab-stops: list .5in\;&quot;&gt;Wills and Trusts&lt;/li&gt;\n&lt;li class=&quot;MsoN
 ormal&quot; style=&quot;mso-list: l1 level1 lfo3\; tab-stops: list .5in\;&quot;&gt;Medicare 
 Open Enrollment - Nov&lt;/li&gt;\n&lt;/ul&gt;\n&lt;p class=&quot;MsoNormal&quot;&gt;A portion of this 
 Lunch will be subsidized by the IEEE Atlanta Life Member and R3 Societies.
 &lt;/p&gt;\n&lt;p class=&quot;MsoNormal&quot;&gt;&amp;nbsp\;&lt;/p&gt;\n&lt;p class=&quot;MsoNormal&quot;&gt;&amp;nbsp\;Please
  select your entr&amp;eacute\;e.&lt;span style=&quot;mso-spacerun: yes\;&quot;&gt;&amp;nbsp\; &lt;/sp
 an&gt;&lt;/p&gt;\n&lt;p class=&quot;MsoNormal&quot;&gt;&lt;strong style=&quot;mso-bidi-font-weight: normal\
 ;&quot;&gt;Salad Maison&lt;/strong&gt;&lt;/p&gt;\n&lt;p class=&quot;MsoNormal&quot;&gt;&lt;em style=&quot;mso-bidi-fon
 t-style: normal\;&quot;&gt;Fresh Cut Mixed Greens topped with Heirloom Tomato Parm
 esan Cheese &lt;/em&gt;&lt;/p&gt;\n&lt;p class=&quot;MsoNormal&quot;&gt;&lt;strong&gt;Choice of Entrees&lt;/str
 ong&gt;&lt;/p&gt;\n&lt;p class=&quot;MsoNormal&quot;&gt;&lt;em&gt;Entrees served with Bread and Butter&lt;/e
 m&gt;&lt;/p&gt;\n&lt;p class=&quot;MsoNormal&quot;&gt;&lt;strong style=&quot;mso-bidi-font-weight: normal\;
 &quot;&gt;&lt;span style=&quot;mso-spacerun: yes\;&quot;&gt;&amp;nbsp\;&amp;nbsp\;&amp;nbsp\;&amp;nbsp\;&amp;nbsp\;&amp;nb
 sp\;&amp;nbsp\;&amp;nbsp\;&amp;nbsp\;&amp;nbsp\;&amp;nbsp\;&amp;nbsp\;&amp;nbsp\;&amp;nbsp\;&amp;nbsp\;&amp;nbsp\;
 &amp;nbsp\;&amp;nbsp\;&amp;nbsp\;&amp;nbsp\;&amp;nbsp\;&amp;nbsp\;&amp;nbsp\;&amp;nbsp\;&amp;nbsp\;&amp;nbsp\;&amp;nbs
 p\;&amp;nbsp\;&amp;nbsp\;&amp;nbsp\;&amp;nbsp\;&amp;nbsp\;&amp;nbsp\;&amp;nbsp\;&amp;nbsp\;&amp;nbsp\; &lt;/span&gt;
 Boeuf Bourguignon&lt;/strong&gt;&lt;/p&gt;\n&lt;p class=&quot;MsoNormal&quot;&gt;&lt;em style=&quot;mso-bidi-f
 ont-style: normal\;&quot;&gt;Tender beef marinated &amp;amp\; braised in burgundy wine
 \, pommes pur&amp;eacute\;e\,&lt;/em&gt;&lt;/p&gt;\n&lt;p class=&quot;MsoNormal&quot;&gt;&lt;em style=&quot;mso-bi
 di-font-style: normal\;&quot;&gt;&lt;span style=&quot;mso-spacerun: yes\;&quot;&gt;&amp;nbsp\;&lt;/span&gt;p
 earl onions\, carrots\, mushrooms&lt;/em&gt;&lt;/p&gt;\n&lt;p class=&quot;MsoNormal&quot;&gt;&lt;strong s
 tyle=&quot;mso-bidi-font-weight: normal\;&quot;&gt;Salmon Piccata &lt;/strong&gt;&lt;/p&gt;\n&lt;p cla
 ss=&quot;MsoNormal&quot;&gt;&lt;em style=&quot;mso-bidi-font-style: normal\;&quot;&gt;Fresh pan &amp;ndash\
 ;seared Atlantic Salmon topped with a Lemon Caper Sauce &lt;/em&gt;&lt;/p&gt;\n&lt;p clas
 s=&quot;MsoNormal&quot;&gt;&lt;em style=&quot;mso-bidi-font-style: normal\;&quot;&gt;and served over Ri
 ce Pilaf&lt;span style=&quot;mso-spacerun: yes\;&quot;&gt;&amp;nbsp\; &lt;/span&gt;&lt;/em&gt;&lt;/p&gt;\n&lt;p cla
 ss=&quot;MsoNormal&quot;&gt;&lt;strong style=&quot;mso-bidi-font-weight: normal\;&quot;&gt;Chicken Brea
 st Florentine &lt;/strong&gt;&lt;/p&gt;\n&lt;p class=&quot;MsoNormal&quot;&gt;&lt;em style=&quot;mso-bidi-font
 -style: normal\;&quot;&gt;Pan seared Chicken Breast served on a bed of Rice Pilaf 
 and topped with a &lt;/em&gt;&lt;/p&gt;\n&lt;p class=&quot;MsoNormal&quot;&gt;&lt;em style=&quot;mso-bidi-font
 -style: normal\;&quot;&gt;White Wine Cream Sauce and fresh Spinach&lt;/em&gt;&lt;/p&gt;\n&lt;p cl
 ass=&quot;MsoNormal&quot;&gt;&lt;em&gt;Or&lt;/em&gt;&lt;/p&gt;\n&lt;p class=&quot;MsoNormal&quot;&gt;&lt;strong style=&quot;mso-b
 idi-font-weight: normal\;&quot;&gt;Tagliatelle and Fresh Vegetables&lt;/strong&gt;&lt;/p&gt;\n
 &lt;p class=&quot;MsoNormal&quot;&gt;&lt;em style=&quot;mso-bidi-font-style: normal\;&quot;&gt;Tagliatelle
  Pasta\, Asparagus\, Tomato\, Mushroom\, Parmesan tossed in EVOO&lt;/em&gt;&lt;/p&gt;\
 n&lt;p class=&quot;MsoNormal&quot;&gt;*&lt;span style=&quot;mso-tab-count: 1\;&quot;&gt;&amp;nbsp\;&amp;nbsp\;&amp;nbs
 p\;&amp;nbsp\;&amp;nbsp\;&amp;nbsp\;&amp;nbsp\;&amp;nbsp\;&amp;nbsp\;&amp;nbsp\;&amp;nbsp\; &lt;/span&gt;*&lt;span 
 style=&quot;mso-tab-count: 1\;&quot;&gt;&amp;nbsp\;&amp;nbsp\;&amp;nbsp\;&amp;nbsp\;&amp;nbsp\;&amp;nbsp\;&amp;nbsp
 \;&amp;nbsp\;&amp;nbsp\;&amp;nbsp\;&amp;nbsp\; &lt;/span&gt;*&lt;/p&gt;\n&lt;p class=&quot;MsoNormal&quot;&gt;&lt;strong 
 style=&quot;mso-bidi-font-weight: normal\;&quot;&gt;&lt;span style=&quot;mso-bidi-font-style: i
 talic\;&quot;&gt;Strawberries Romanoff or &lt;/span&gt;&lt;/strong&gt;&lt;strong&gt;&lt;span lang=&quot;FR&quot; 
 style=&quot;mso-ansi-language: FR\;&quot;&gt;G&amp;acirc\;teau au chocolat sans farine&lt;/spa
 n&gt;&lt;/strong&gt;&lt;/p&gt;\n&lt;p class=&quot;MsoNormal&quot;&gt;&amp;nbsp\;&lt;/p&gt;
END:VEVENT
END:VCALENDAR

