BEGIN:VCALENDAR
VERSION:2.0
PRODID:IEEE vTools.Events//EN
CALSCALE:GREGORIAN
BEGIN:VTIMEZONE
TZID:US/Pacific
BEGIN:DAYLIGHT
DTSTART:20170312T030000
TZOFFSETFROM:-0800
TZOFFSETTO:-0700
RRULE:FREQ=YEARLY;BYDAY=2SU;BYMONTH=3
TZNAME:PDT
END:DAYLIGHT
BEGIN:STANDARD
DTSTART:20161106T010000
TZOFFSETFROM:-0700
TZOFFSETTO:-0800
RRULE:FREQ=YEARLY;BYDAY=1SU;BYMONTH=11
TZNAME:PST
END:STANDARD
END:VTIMEZONE
BEGIN:VEVENT
DTSTAMP:20180305T184003Z
UID:A972530C-D925-11E6-A7C6-0050568D7F66
DTSTART;TZID=US/Pacific:20170124T180000
DTEND;TZID=US/Pacific:20170124T200000
DESCRIPTION:Come Join us on January 24th\, 2017 at Marie Callenders for a p
 resentation on Industrial Relaying. Our Speakers this month are Josh Barkl
 ow of MKI and Tom McQuilken of SEL. This should be a great presentation on
  Industrial Relaying.\n\nSacramento PES Officers\n\nSpeaker(s): Josh Barkl
 ow\, Tom McQuilken\n\nBldg: Marie Callenders\, 5525 Sunrise Blvd.\, Citrus
  Heights\, California\, United States\, 95610
LOCATION:Bldg: Marie Callenders\, 5525 Sunrise Blvd.\, Citrus Heights\, Cal
 ifornia\, United States\, 95610
ORGANIZER:cory@ecomeng.com
SEQUENCE:1
SUMMARY:Industrial Realying
URL;VALUE=URI:https://events.vtools.ieee.org/m/43161
X-ALT-DESC:Description: &lt;br /&gt;&lt;p&gt;Come Join us on January 24th\, 2017 at Mar
 ie Callenders for a presentation on Industrial Relaying. &amp;nbsp\;Our Speake
 rs this month are&amp;nbsp\;Josh Barklow of MKI and Tom McQuilken&amp;nbsp\;of SEL
 . &amp;nbsp\;This should be a great presentation on Industrial Relaying.&lt;/p&gt;\n
 &lt;p&gt;Sacramento PES Officers&lt;/p&gt;
END:VEVENT
END:VCALENDAR

