BEGIN:VCALENDAR
VERSION:2.0
PRODID:IEEE vTools.Events//EN
CALSCALE:GREGORIAN
BEGIN:VTIMEZONE
TZID:America/Chicago
BEGIN:DAYLIGHT
DTSTART:20240310T030000
TZOFFSETFROM:-0600
TZOFFSETTO:-0500
RRULE:FREQ=YEARLY;BYDAY=2SU;BYMONTH=3
TZNAME:CDT
END:DAYLIGHT
BEGIN:STANDARD
DTSTART:20241103T010000
TZOFFSETFROM:-0500
TZOFFSETTO:-0600
RRULE:FREQ=YEARLY;BYDAY=1SU;BYMONTH=11
TZNAME:CST
END:STANDARD
END:VTIMEZONE
BEGIN:VEVENT
DTSTAMP:20241119T172304Z
UID:43681435-49D9-4E73-9C07-CB5B0AE1621F
DTSTART;TZID=America/Chicago:20241024T083000
DTEND;TZID=America/Chicago:20241024T163000
DESCRIPTION:8:30am to 4:30pm\, Thursday\, October 24\, 2024\n\nOnline and I
 n-Person Attendance Available\n\nAmarillo College West Campus Lecture Hall
 \n6222 SW 9th Ave.\, Amarillo\, Texas 79106\n\nJoin us for this valuable C
 ontinuing Education Seminar!\n\nFor More Information: https://site.ieee.or
 g/panhandle/seminar/\n\nBldg: Amarillo College West Campus Lecture Hall\, 
 6222 SW 9th Ave.\, Amarillo\, Texas\, United States\, 79106\, Virtual: htt
 ps://events.vtools.ieee.org/m/431655
LOCATION:Bldg: Amarillo College West Campus Lecture Hall\, 6222 SW 9th Ave.
 \, Amarillo\, Texas\, United States\, 79106\, Virtual: https://events.vtoo
 ls.ieee.org/m/431655
ORGANIZER:JOEL.BROWN@XCELENERGY.COM
SEQUENCE:15
SUMMARY:Fall 2024 PROFESSIONAL DEVELOPMENT SEMINAR 
URL;VALUE=URI:https://events.vtools.ieee.org/m/431655
X-ALT-DESC:Description: &lt;br /&gt;&lt;p align=&quot;center&quot;&gt;&lt;strong&gt;8:30am to 4:30pm\, 
 Thursday\, October 24\, 2024&lt;/strong&gt;&lt;/p&gt;\n&lt;p align=&quot;center&quot;&gt;&lt;strong&gt;&lt;span
  style=&quot;color: #ff7f02\; font-size: 18pt\;&quot;&gt;Online and In-Person Attendanc
 e Available&lt;/span&gt;&lt;/strong&gt;&lt;/p&gt;\n&lt;p align=&quot;center&quot;&gt;Amarillo College West C
 ampus Lecture Hall&lt;br&gt;6222 SW 9th Ave.\, Amarillo\, Texas 79106&lt;/p&gt;\n&lt;p al
 ign=&quot;center&quot;&gt;&lt;strong&gt;Join us for this valuable Continuing Education Semina
 r!&lt;/strong&gt;&lt;/p&gt;\n&lt;p align=&quot;center&quot;&gt;&lt;strong&gt;For More Information: &lt;a title=
 &quot;Spring 2024 Professional Development Seminar&quot; href=&quot;https://site.ieee.org
 /panhandle/seminar/&quot; target=&quot;_blank&quot; rel=&quot;noopener&quot;&gt;https://site.ieee.org/
 panhandle/seminar/&lt;/a&gt;&lt;/strong&gt;&lt;/p&gt;
END:VEVENT
END:VCALENDAR

