BEGIN:VCALENDAR
VERSION:2.0
PRODID:IEEE vTools.Events//EN
CALSCALE:GREGORIAN
BEGIN:VTIMEZONE
TZID:Asia/Kolkata
BEGIN:STANDARD
DTSTART:19451014T230000
TZOFFSETFROM:+0630
TZOFFSETTO:+0530
TZNAME:IST
END:STANDARD
END:VTIMEZONE
BEGIN:VEVENT
DTSTAMP:20240901T131203Z
UID:03E23B7F-AECC-4D8B-806E-6AFA2B485EEB
DTSTART;TZID=Asia/Kolkata:20240830T180000
DTEND;TZID=Asia/Kolkata:20240830T193000
DESCRIPTION:Episode 2 of the WIE Pro Talks Series brings together experts t
 o empower students with essential skills and knowledge for their professio
 nal journeys. Dr. G. Mamatha will provide valuable career guidance\, helpi
 ng attendees understand various career paths in engineering and technology
 . Krishna Prasad Manchikalapati will share insights on the startup journey
 \, offering practical advice on how students can transform innovative idea
 s into successful businesses. This event is designed to inspire and equip 
 students with the tools needed to excel in their chosen fields.\n\nSpeaker
 (s): Dr. Gannera Mamatha\, \, Krishna Prasad Manchikalapati\, \n\nAgenda: 
 \n6:00 PM - 6:05 PM: Welcome and Introduction\n\n- Opening remarks by the 
 event host\n- Overview of WIE Pro Talks and Episode 2\n\n6:05 PM - 6:35 PM
 : Session 1: Career Guidance\n\n- Speaker: Dr. G. Mamatha\n- Discussion on
  career pathways in engineering and technology\n- Q&amp;A session\n\n6:35 PM -
  7:05 PM: Session 2: Startup Journey for Students\n\n- Speaker: Krishna Pr
 asad Manchikalapati\n- Insights on starting a business and fostering innov
 ation\n- Q&amp;A session\n\n7:05 PM - 7:25 PM: Panel Discussion and Audience I
 nteraction\n\n7:25 PM - 7:30 PM: Closing Remarks\n\n7:30 PM: Event Conclud
 es\n\nVirtual: https://events.vtools.ieee.org/m/431891
LOCATION:Virtual: https://events.vtools.ieee.org/m/431891
ORGANIZER:harivardhgini@ieee.org
SEQUENCE:41
SUMMARY:WIE Pro Talks Advanced Professional Development Series-Episode 2
URL;VALUE=URI:https://events.vtools.ieee.org/m/431891
X-ALT-DESC:Description: &lt;br /&gt;&lt;p style=&quot;text-align: justify\;&quot;&gt;&lt;span style=
 &quot;font-family: &#39;Calibri&#39;\,&#39;sans-serif&#39;\; mso-ascii-theme-font: minor-latin\
 ; mso-hansi-theme-font: minor-latin\; mso-bidi-theme-font: minor-latin\;&quot;&gt;
 Episode 2 of the WIE Pro Talks Series brings together experts to empower s
 tudents with essential skills and knowledge for their professional journey
 s. Dr. G. Mamatha will provide valuable career guidance\, helping attendee
 s understand various career paths in engineering and technology. Krishna P
 rasad Manchikalapati will share insights on the startup journey\, offering
  practical advice on how students can transform innovative ideas into succ
 essful businesses. This event is designed to inspire and equip students wi
 th the tools needed to excel in their chosen fields.&lt;/span&gt;&lt;/p&gt;\n&lt;p class=
 &quot;MsoNormal&quot;&gt;&lt;span style=&quot;font-size: 12.0pt\; line-height: 115%\; mso-bidi-
 font-family: Calibri\; mso-bidi-theme-font: minor-latin\;&quot;&gt;&amp;nbsp\;&lt;img src
 =&quot;https://events.vtools.ieee.org/vtools_ui/media/display/34da6024-097c-4e7
 5-8fec-5e8f711ba5ca&quot;&gt;&lt;/span&gt;&lt;/p&gt;&lt;br /&gt;&lt;br /&gt;Agenda: &lt;br /&gt;&lt;p class=&quot;MsoNor
 mal&quot; style=&quot;margin-bottom: .0001pt\; line-height: normal\;&quot;&gt;&lt;span style=&quot;f
 ont-size: 12.0pt\; mso-fareast-font-family: &#39;Times New Roman&#39;\; mso-bidi-f
 ont-family: Calibri\; mso-bidi-theme-font: minor-latin\; mso-bidi-font-wei
 ght: bold\;&quot;&gt;6:00 PM - 6:05 PM:&lt;/span&gt;&lt;span style=&quot;font-size: 12.0pt\; mso
 -fareast-font-family: &#39;Times New Roman&#39;\; mso-bidi-font-family: Calibri\; 
 mso-bidi-theme-font: minor-latin\;&quot;&gt; &lt;span style=&quot;mso-bidi-font-weight: bo
 ld\;&quot;&gt;Welcome and Introduction&lt;/span&gt;&lt;/span&gt;&lt;/p&gt;\n&lt;ul style=&quot;margin-top: 0
 in\;&quot; type=&quot;disc&quot;&gt;\n&lt;li class=&quot;MsoNormal&quot; style=&quot;margin-bottom: .0001pt\; 
 line-height: normal\; mso-list: l2 level1 lfo1\; tab-stops: list .5in\;&quot;&gt;&lt;
 span style=&quot;font-size: 12.0pt\; mso-fareast-font-family: &#39;Times New Roman&#39;
 \; mso-bidi-font-family: Calibri\; mso-bidi-theme-font: minor-latin\;&quot;&gt;Ope
 ning remarks by the event host&lt;/span&gt;&lt;/li&gt;\n&lt;li class=&quot;MsoNormal&quot; style=&quot;m
 argin-bottom: .0001pt\; line-height: normal\; mso-list: l2 level1 lfo1\; t
 ab-stops: list .5in\;&quot;&gt;&lt;span style=&quot;font-size: 12.0pt\; mso-fareast-font-f
 amily: &#39;Times New Roman&#39;\; mso-bidi-font-family: Calibri\; mso-bidi-theme-
 font: minor-latin\;&quot;&gt;Overview of WIE Pro Talks and Episode 2&lt;/span&gt;&lt;/li&gt;\n
 &lt;/ul&gt;\n&lt;p class=&quot;MsoNormal&quot; style=&quot;margin-bottom: .0001pt\; line-height: n
 ormal\;&quot;&gt;&lt;span style=&quot;font-size: 12.0pt\; mso-fareast-font-family: &#39;Times 
 New Roman&#39;\; mso-bidi-font-family: Calibri\; mso-bidi-theme-font: minor-la
 tin\; mso-bidi-font-weight: bold\;&quot;&gt;6:05 PM - 6:35 PM:&lt;/span&gt;&lt;span style=&quot;
 font-size: 12.0pt\; mso-fareast-font-family: &#39;Times New Roman&#39;\; mso-bidi-
 font-family: Calibri\; mso-bidi-theme-font: minor-latin\;&quot;&gt; &lt;span style=&quot;m
 so-bidi-font-weight: bold\;&quot;&gt;Session 1: Career Guidance&lt;/span&gt;&lt;/span&gt;&lt;/p&gt;\
 n&lt;ul style=&quot;margin-top: 0in\;&quot; type=&quot;disc&quot;&gt;\n&lt;li class=&quot;MsoNormal&quot; style=&quot;
 margin-bottom: .0001pt\; line-height: normal\; mso-list: l1 level1 lfo2\; 
 tab-stops: list .5in\;&quot;&gt;&lt;span style=&quot;font-size: 12.0pt\; mso-fareast-font-
 family: &#39;Times New Roman&#39;\; mso-bidi-font-family: Calibri\; mso-bidi-theme
 -font: minor-latin\;&quot;&gt;Speaker: &lt;span style=&quot;mso-bidi-font-weight: bold\;&quot;&gt;
 Dr. G. Mamatha&lt;/span&gt;&lt;/span&gt;&lt;/li&gt;\n&lt;li class=&quot;MsoNormal&quot; style=&quot;margin-bot
 tom: .0001pt\; line-height: normal\; mso-list: l1 level1 lfo2\; tab-stops:
  list .5in\;&quot;&gt;&lt;span style=&quot;font-size: 12.0pt\; mso-fareast-font-family: &#39;T
 imes New Roman&#39;\; mso-bidi-font-family: Calibri\; mso-bidi-theme-font: min
 or-latin\;&quot;&gt;Discussion on career pathways in engineering and technology&lt;/s
 pan&gt;&lt;/li&gt;\n&lt;li class=&quot;MsoNormal&quot; style=&quot;margin-bottom: .0001pt\; line-heig
 ht: normal\; mso-list: l1 level1 lfo2\; tab-stops: list .5in\;&quot;&gt;&lt;span styl
 e=&quot;font-size: 12.0pt\; mso-fareast-font-family: &#39;Times New Roman&#39;\; mso-bi
 di-font-family: Calibri\; mso-bidi-theme-font: minor-latin\;&quot;&gt;Q&amp;amp\;A ses
 sion&lt;/span&gt;&lt;/li&gt;\n&lt;/ul&gt;\n&lt;p class=&quot;MsoNormal&quot; style=&quot;margin-bottom: .0001p
 t\; line-height: normal\;&quot;&gt;&lt;span style=&quot;font-size: 12.0pt\; mso-fareast-fo
 nt-family: &#39;Times New Roman&#39;\; mso-bidi-font-family: Calibri\; mso-bidi-th
 eme-font: minor-latin\; mso-bidi-font-weight: bold\;&quot;&gt;6:35 PM - 7:05 PM:&lt;/
 span&gt;&lt;span style=&quot;font-size: 12.0pt\; mso-fareast-font-family: &#39;Times New 
 Roman&#39;\; mso-bidi-font-family: Calibri\; mso-bidi-theme-font: minor-latin\
 ;&quot;&gt; &lt;span style=&quot;mso-bidi-font-weight: bold\;&quot;&gt;Session 2: Startup Journey 
 for Students&lt;/span&gt;&lt;/span&gt;&lt;/p&gt;\n&lt;ul style=&quot;margin-top: 0in\;&quot; type=&quot;disc&quot;&gt;
 \n&lt;li class=&quot;MsoNormal&quot; style=&quot;margin-bottom: .0001pt\; line-height: norma
 l\; mso-list: l0 level1 lfo3\; tab-stops: list .5in\;&quot;&gt;&lt;span style=&quot;font-s
 ize: 12.0pt\; mso-fareast-font-family: &#39;Times New Roman&#39;\; mso-bidi-font-f
 amily: Calibri\; mso-bidi-theme-font: minor-latin\;&quot;&gt;Speaker: &lt;span style=
 &quot;mso-bidi-font-weight: bold\;&quot;&gt;Krishna Prasad Manchikalapati&lt;/span&gt;&lt;/span&gt;
 &lt;/li&gt;\n&lt;li class=&quot;MsoNormal&quot; style=&quot;margin-bottom: .0001pt\; line-height: 
 normal\; mso-list: l0 level1 lfo3\; tab-stops: list .5in\;&quot;&gt;&lt;span style=&quot;f
 ont-size: 12.0pt\; mso-fareast-font-family: &#39;Times New Roman&#39;\; mso-bidi-f
 ont-family: Calibri\; mso-bidi-theme-font: minor-latin\;&quot;&gt;Insights on star
 ting a business and fostering innovation&lt;/span&gt;&lt;/li&gt;\n&lt;li class=&quot;MsoNormal
 &quot; style=&quot;margin-bottom: .0001pt\; line-height: normal\; mso-list: l0 level
 1 lfo3\; tab-stops: list .5in\;&quot;&gt;&lt;span style=&quot;font-size: 12.0pt\; mso-fare
 ast-font-family: &#39;Times New Roman&#39;\; mso-bidi-font-family: Calibri\; mso-b
 idi-theme-font: minor-latin\;&quot;&gt;Q&amp;amp\;A session&lt;/span&gt;&lt;/li&gt;\n&lt;/ul&gt;\n&lt;p cla
 ss=&quot;MsoNormal&quot; style=&quot;margin-bottom: .0001pt\; line-height: normal\;&quot;&gt;&lt;spa
 n style=&quot;font-size: 12.0pt\; mso-fareast-font-family: &#39;Times New Roman&#39;\; 
 mso-bidi-font-family: Calibri\; mso-bidi-theme-font: minor-latin\; mso-bid
 i-font-weight: bold\;&quot;&gt;7:05 PM - 7:25 PM:&lt;/span&gt;&lt;span style=&quot;font-size: 12
 .0pt\; mso-fareast-font-family: &#39;Times New Roman&#39;\; mso-bidi-font-family: 
 Calibri\; mso-bidi-theme-font: minor-latin\;&quot;&gt; &lt;span style=&quot;mso-bidi-font-
 weight: bold\;&quot;&gt;Panel Discussion and Audience Interaction&lt;/span&gt;&lt;/span&gt;&lt;/p
 &gt;\n&lt;p class=&quot;MsoNormal&quot; style=&quot;margin-bottom: .0001pt\; line-height: norma
 l\;&quot;&gt;&lt;span style=&quot;font-size: 12.0pt\; mso-fareast-font-family: &#39;Times New 
 Roman&#39;\; mso-bidi-font-family: Calibri\; mso-bidi-theme-font: minor-latin\
 ; mso-bidi-font-weight: bold\;&quot;&gt;7:25 PM - 7:30 PM:&lt;/span&gt;&lt;span style=&quot;font
 -size: 12.0pt\; mso-fareast-font-family: &#39;Times New Roman&#39;\; mso-bidi-font
 -family: Calibri\; mso-bidi-theme-font: minor-latin\;&quot;&gt; &lt;span style=&quot;mso-b
 idi-font-weight: bold\;&quot;&gt;Closing Remarks&lt;/span&gt;&lt;/span&gt;&lt;/p&gt;\n&lt;p class=&quot;MsoN
 ormal&quot; style=&quot;margin-bottom: .0001pt\; line-height: normal\;&quot;&gt;&lt;span style=
 &quot;font-size: 12.0pt\; mso-fareast-font-family: &#39;Times New Roman&#39;\; mso-bidi
 -font-family: Calibri\; mso-bidi-theme-font: minor-latin\; mso-bidi-font-w
 eight: bold\;&quot;&gt;7:30 PM:&lt;/span&gt;&lt;span style=&quot;font-size: 12.0pt\; mso-fareast
 -font-family: &#39;Times New Roman&#39;\; mso-bidi-font-family: Calibri\; mso-bidi
 -theme-font: minor-latin\;&quot;&gt; &lt;span style=&quot;mso-bidi-font-weight: bold\;&quot;&gt;Ev
 ent Concludes&lt;/span&gt;&lt;/span&gt;&lt;/p&gt;
END:VEVENT
END:VCALENDAR

