BEGIN:VCALENDAR
VERSION:2.0
PRODID:IEEE vTools.Events//EN
CALSCALE:GREGORIAN
BEGIN:VTIMEZONE
TZID:America/Guatemala
BEGIN:STANDARD
DTSTART:20060930T230000
TZOFFSETFROM:-0500
TZOFFSETTO:-0600
TZNAME:CST
END:STANDARD
END:VTIMEZONE
BEGIN:VEVENT
DTSTAMP:20250312T041411Z
UID:36D1BD1F-ADDC-40E0-8D43-9061AD327BFE
DTSTART;TZID=America/Guatemala:20241004T170000
DTEND;TZID=America/Guatemala:20241004T230000
DESCRIPTION:IEEEDay 2024 -- 140 años IEEE + Aniversario 38 Sección IEEE C
 osta Rica\n\nHotel Crowne Plaza Sabana (Corobicí)\, Sabana Norte\, Sabana
  Norte\, San Jose\, Costa Rica
LOCATION:Hotel Crowne Plaza Sabana (Corobicí)\, Sabana Norte\, Sabana Nort
 e\, San Jose\, Costa Rica
ORGANIZER:sec.costarica@ieee.org
SEQUENCE:8
SUMMARY:IEEEDay 2024 -- 140 años IEEE + Aniversario 38 Sección IEEE Costa
  Rica
URL;VALUE=URI:https://events.vtools.ieee.org/m/431969
X-ALT-DESC:Description: &lt;br /&gt;&lt;p&gt;&amp;nbsp\;&lt;/p&gt;\n&lt;p&gt;IEEEDay 2024 -- 140 a&amp;ntil
 de\;os IEEE + Aniversario 38 Secci&amp;oacute\;n IEEE Costa Rica&lt;/p&gt;\n&lt;p&gt;&amp;nbsp
 \;&lt;/p&gt;\n&lt;p&gt;&amp;nbsp\;&lt;/p&gt;\n&lt;p&gt;&amp;nbsp\;&lt;/p&gt;
END:VEVENT
END:VCALENDAR

