BEGIN:VCALENDAR
VERSION:2.0
PRODID:IEEE vTools.Events//EN
CALSCALE:GREGORIAN
BEGIN:VTIMEZONE
TZID:US/Eastern
BEGIN:DAYLIGHT
DTSTART:20240310T030000
TZOFFSETFROM:-0500
TZOFFSETTO:-0400
RRULE:FREQ=YEARLY;BYDAY=2SU;BYMONTH=3
TZNAME:EDT
END:DAYLIGHT
BEGIN:STANDARD
DTSTART:20241103T010000
TZOFFSETFROM:-0400
TZOFFSETTO:-0500
RRULE:FREQ=YEARLY;BYDAY=1SU;BYMONTH=11
TZNAME:EST
END:STANDARD
END:VTIMEZONE
BEGIN:VEVENT
DTSTAMP:20240913T220025Z
UID:26DD5E76-67DA-4509-AFB1-56FA8F7ADCDC
DTSTART;TZID=US/Eastern:20240910T183000
DTEND;TZID=US/Eastern:20240910T210000
DESCRIPTION:Section Activities\n\nAgenda: \n\n\nRoom: 315\, Bldg: AIH\, 161
 5 Stanley Street\, New Britain\, Connecticut\, United States\, Virtual: ht
 tps://events.vtools.ieee.org/m/432127
LOCATION:Room: 315\, Bldg: AIH\, 1615 Stanley Street\, New Britain\, Connec
 ticut\, United States\, Virtual: https://events.vtools.ieee.org/m/432127
ORGANIZER:rthoelen@ieee.org
SEQUENCE:6
SUMMARY:IEEE CT ExComm September 2024 Meeting
URL;VALUE=URI:https://events.vtools.ieee.org/m/432127
X-ALT-DESC:Description: &lt;br /&gt;&lt;p&gt;Section Activities&lt;/p&gt;&lt;br /&gt;&lt;br /&gt;Agenda: 
 &lt;br /&gt;&lt;div class=&quot;WordSection1&quot;&gt;\n&lt;p class=&quot;MsoNormal&quot;&gt;&amp;nbsp\;&lt;/p&gt;\n&lt;/div&gt;
 \n&lt;p class=&quot;MsoNormal&quot;&gt;&amp;nbsp\;&lt;/p&gt;
END:VEVENT
END:VCALENDAR

