BEGIN:VCALENDAR
VERSION:2.0
PRODID:IEEE vTools.Events//EN
CALSCALE:GREGORIAN
BEGIN:VTIMEZONE
TZID:US/Eastern
BEGIN:DAYLIGHT
DTSTART:20170312T030000
TZOFFSETFROM:-0500
TZOFFSETTO:-0400
RRULE:FREQ=YEARLY;BYDAY=2SU;BYMONTH=3
TZNAME:EDT
END:DAYLIGHT
BEGIN:STANDARD
DTSTART:20161106T010000
TZOFFSETFROM:-0400
TZOFFSETTO:-0500
RRULE:FREQ=YEARLY;BYDAY=1SU;BYMONTH=11
TZNAME:EST
END:STANDARD
END:VTIMEZONE
BEGIN:VEVENT
DTSTAMP:20170116T225307Z
UID:8C34ABEC-DC3E-11E6-A7C6-0050568D7F66
DTSTART;TZID=US/Eastern:20170208T180000
DTEND;TZID=US/Eastern:20170208T200000
DESCRIPTION:Monthly ADCOM Meeting\n\nSpeaker(s): \, \, \, \n\nAgenda: \nMon
 thly NOVA Adcom Meeting\n\n6:00 - 6:30 PM - Dinner and Networking\n\n6:30 
 - 8:00 PM - IEEE NOVA Monthly Meetings\n\nBldg: 3rd Floor Conference Cente
 r\, TeqCorner\, 1616 Anderson Drive\, McLean\, Virginia\, United States\, 
 22102
LOCATION:Bldg: 3rd Floor Conference Center\, TeqCorner\, 1616 Anderson Driv
 e\, McLean\, Virginia\, United States\, 22102
ORGANIZER:ikossi@ieee.org
SEQUENCE:0
SUMMARY:NOVA - ADCOM Monthly Meeting
URL;VALUE=URI:https://events.vtools.ieee.org/m/43220
X-ALT-DESC:Description: &lt;br /&gt;&lt;p&gt;Monthly ADCOM Meeting&lt;/p&gt;&lt;br /&gt;&lt;br /&gt;Agend
 a: &lt;br /&gt;&lt;p&gt;Monthly NOVA Adcom Meeting&lt;/p&gt;\n&lt;p&gt;6:00 - 6:30 PM - Dinner and
  Networking&lt;/p&gt;\n&lt;p&gt;6:30 - 8:00 PM - IEEE NOVA Monthly Meetings&lt;/p&gt;\n&lt;p&gt;&amp;n
 bsp\;&lt;/p&gt;
END:VEVENT
END:VCALENDAR

