BEGIN:VCALENDAR
VERSION:2.0
PRODID:IEEE vTools.Events//EN
CALSCALE:GREGORIAN
BEGIN:VTIMEZONE
TZID:America/New_York
BEGIN:DAYLIGHT
DTSTART:20240310T030000
TZOFFSETFROM:-0500
TZOFFSETTO:-0400
RRULE:FREQ=YEARLY;BYDAY=2SU;BYMONTH=3
TZNAME:EDT
END:DAYLIGHT
BEGIN:STANDARD
DTSTART:20241103T010000
TZOFFSETFROM:-0400
TZOFFSETTO:-0500
RRULE:FREQ=YEARLY;BYDAY=1SU;BYMONTH=11
TZNAME:EST
END:STANDARD
END:VTIMEZONE
BEGIN:VEVENT
DTSTAMP:20241022T231926Z
UID:D18541A0-A12F-4F3E-9C2B-3E6FE54A129C
DTSTART;TZID=America/New_York:20241019T120000
DTEND;TZID=America/New_York:20241019T140000
DESCRIPTION:The IEEE North Jersey Section is extremely proud to dedicate th
 e new IEEE Neutrodyne Circuit Milestone. The Neutrodyne Circuit represents
  a critical development in the history of electronic circuits\, known for 
 its innovative design that minimized interference and improved the perform
 ance of radio receivers. It was invented in 1922 by Professor Louis Alan H
 azeltine on the Stevens Institute of Technology campus. This milestone und
 erscores the importance of technology that is both forward-thinking and gr
 ounded in sustainable practices. Please join us for the IEEE Milestone Ded
 ication Ceremony.\n\nDate: 19 October 2024\nTime: 12:00 PM to 2:00 PM (All
  times are US/Eastern)\nLocation: Corcoran Room\, The Gateway Academic Cen
 ter (North)\,\nStevens Institute of Technology\nHoboken\, New Jersey 07030
 \n\nA detailed agenda and parking information will be posted soon\n\nAgend
 a: \n12:00pm-2:00pm The Dedication Ceremony\n\nThe detailed agenda will be
  posted soon.\n\n[]\n\nRoom: Corcoran Room\, Bldg:  The Gateway Academic 
 Center (North)\,\, 1 Castle Point Terrace\, Hoboken\, New Jersey\, United 
 States\, 07030
LOCATION:Room: Corcoran Room\, Bldg:  The Gateway Academic Center (North)\
 ,\, 1 Castle Point Terrace\, Hoboken\, New Jersey\, United States\, 07030
ORGANIZER:zhao@fdu.edu
SEQUENCE:113
SUMMARY:IEEE Neutrodyne Circuit Milestone Dedication
URL;VALUE=URI:https://events.vtools.ieee.org/m/432222
X-ALT-DESC:Description: &lt;br /&gt;&lt;div class=&quot;gmail_default&quot;&gt;&amp;nbsp\;&lt;/div&gt;\n&lt;di
 v class=&quot;gmail_default&quot; style=&quot;line-height: 1.4\;&quot;&gt;&lt;span style=&quot;font-size:
  12pt\; font-family: arial\, helvetica\, sans-serif\;&quot;&gt;The IEEE North Jers
 ey Section is extremely proud to dedicate the new IEEE Neutrodyne Circuit 
 Milestone. &lt;span style=&quot;line-height: 115%\;&quot;&gt;The Neutrodyne Circuit repres
 ents a critical development in the history of electronic circuits\, known 
 for its innovative design that minimized interference and improved the per
 formance of radio receivers. It was invented in 1922 by Professor Louis Al
 an Hazeltine on the Stevens Institute of Technology campus.&lt;span style=&quot;co
 lor: rgb(0\, 0\, 0)\; font-style: normal\; font-variant-ligatures: normal\
 ; font-variant-caps: normal\; font-weight: 300\; letter-spacing: normal\; 
 text-align: center\; text-indent: 0px\; text-transform: none\; word-spacin
 g: 0px\; -webkit-text-stroke-width: 0px\; white-space: normal\; text-decor
 ation-thickness: initial\; text-decoration-style: initial\; text-decoratio
 n-color: initial\; display: inline !important\; float: none\;&quot;&gt; &lt;/span&gt;Thi
 s milestone underscores the importance of technology that is both forward-
 thinking and grounded in sustainable practices.&lt;/span&gt; Please join us for 
 the IEEE Milestone Dedication Ceremony. &amp;nbsp\; &lt;br&gt;&lt;/span&gt;&lt;/div&gt;\n&lt;div cl
 ass=&quot;gmail_default&quot;&gt;&amp;nbsp\;&lt;/div&gt;\n&lt;div class=&quot;gmail_default&quot;&gt;&amp;nbsp\;&lt;/div
 &gt;\n&lt;div class=&quot;gmail_default&quot;&gt;&amp;nbsp\;&lt;/div&gt;\n&lt;div class=&quot;gmail_default&quot; st
 yle=&quot;line-height: 1.4\;&quot;&gt;&lt;span style=&quot;font-family: arial\, helvetica\, san
 s-serif\;&quot;&gt;&lt;strong&gt;Date&lt;/strong&gt;:&lt;/span&gt; &lt;span style=&quot;font-family: arial\,
  helvetica\, sans-serif\; font-size: 12pt\;&quot;&gt;19 October 2024&lt;/span&gt;&lt;br&gt;&lt;sp
 an style=&quot;font-family: arial\, helvetica\, sans-serif\; font-size: 12pt\;&quot;
 &gt;&lt;strong&gt;Time&lt;/strong&gt;: 12:00 PM to 2:00 PM (All times are US/Eastern)&lt;/sp
 an&gt;&lt;br&gt;&lt;span style=&quot;font-family: arial\, helvetica\, sans-serif\; font-siz
 e: 12pt\;&quot;&gt;&lt;strong&gt;Location&lt;/strong&gt;: &lt;span style=&quot;line-height: 112%\;&quot;&gt;Co
 rcoran Room\, The Gateway Academic Center (North)\,&lt;/span&gt;&lt;/span&gt;&lt;/div&gt;\n&lt;
 div class=&quot;gmail_default&quot;&gt;&lt;span style=&quot;font-size: 12pt\; line-height: 112%
 \; font-family: arial\, helvetica\, sans-serif\; color: black\;&quot;&gt;&amp;nbsp\;&amp;n
 bsp\;&amp;nbsp\;&amp;nbsp\;&amp;nbsp\;&amp;nbsp\;&amp;nbsp\;&amp;nbsp\;&amp;nbsp\;&amp;nbsp\;&amp;nbsp\;&amp;nbsp\
 ;&amp;nbsp\;&amp;nbsp\;&amp;nbsp\;&amp;nbsp\; Stevens Institute of Technology&lt;/span&gt;&lt;/div&gt;
 \n&lt;div class=&quot;gmail_default&quot; style=&quot;line-height: 1.4\;&quot;&gt;&lt;span style=&quot;font-
 size: 12.0pt\; line-height: 112%\; font-family: &#39;Calibri&#39;\,sans-serif\; ms
 o-ascii-theme-font: minor-latin\; mso-fareast-font-family: DengXian\; mso-
 fareast-theme-font: minor-fareast\; mso-hansi-theme-font: minor-latin\; ms
 o-bidi-font-family: Arial\; mso-bidi-theme-font: minor-bidi\; color: black
 \; mso-themecolor: text1\; mso-ansi-language: EN-US\; mso-fareast-language
 : JA\; mso-bidi-language: AR-SA\;&quot;&gt;&lt;span style=&quot;font-family: arial\, helve
 tica\, sans-serif\;&quot;&gt;&amp;nbsp\;&amp;nbsp\;&amp;nbsp\;&amp;nbsp\;&amp;nbsp\;&amp;nbsp\;&amp;nbsp\;&amp;nbs
 p\;&amp;nbsp\;&amp;nbsp\;&amp;nbsp\;&amp;nbsp\;&amp;nbsp\;&amp;nbsp\;&amp;nbsp\;&amp;nbsp\; Hoboken\, New 
 Jersey 07030&lt;/span&gt;&lt;br&gt;&lt;/span&gt;&lt;/div&gt;\n&lt;div class=&quot;gmail_default&quot;&gt;&amp;nbsp\;&lt;/
 div&gt;\n&lt;div class=&quot;gmail_default&quot;&gt;&lt;span style=&quot;font-family: arial\, helveti
 ca\, sans-serif\; font-size: 12pt\;&quot;&gt;A detailed agenda and parking informa
 tion will be posted soon&lt;/span&gt;&lt;/div&gt;&lt;br /&gt;&lt;br /&gt;Agenda: &lt;br /&gt;&lt;p class=&quot;M
 soNormal&quot;&gt;&lt;span style=&quot;font-family: arial\, helvetica\, sans-serif\; font-
 size: 12pt\;&quot;&gt;12:00pm-2:00pm The Dedication Ceremony&lt;/span&gt;&lt;/p&gt;\n&lt;p class=
 &quot;MsoNormal&quot;&gt;&lt;span style=&quot;font-family: arial\, helvetica\, sans-serif\; fon
 t-size: 12pt\;&quot;&gt;The detailed agenda will be posted soon.&lt;/span&gt;&lt;/p&gt;\n&lt;p&gt;&amp;n
 bsp\;&lt;/p&gt;\n&lt;div class=&quot;gmail_default&quot;&gt;&lt;img src=&quot;https://events.vtools.ieee
 .org/vtools_ui/media/display/fb5bbd5c-617f-4a27-bb19-244114f6c24c&quot; alt=&quot;&quot; 
 width=&quot;530&quot; height=&quot;412&quot;&gt;&lt;/div&gt;
END:VEVENT
END:VCALENDAR

