BEGIN:VCALENDAR
VERSION:2.0
PRODID:IEEE vTools.Events//EN
CALSCALE:GREGORIAN
BEGIN:VTIMEZONE
TZID:Asia/Kolkata
BEGIN:STANDARD
DTSTART:19451014T230000
TZOFFSETFROM:+0630
TZOFFSETTO:+0530
TZNAME:IST
END:STANDARD
END:VTIMEZONE
BEGIN:VEVENT
DTSTAMP:20240830T050055Z
UID:F17FD626-1FA5-41BD-B619-C0DDCC1E0739
DTSTART;TZID=Asia/Kolkata:20240810T100000
DTEND;TZID=Asia/Kolkata:20240810T124500
DESCRIPTION:The IEEE BIT SB proudly presented a webinar titled &quot;Unlocking O
 pportunities: LinkedIn Career Insights&quot; on August 10th. The event featured
  Lovepreet Singh\, a seasoned professional in the tech industry\, as the g
 uest speaker. The webinar aimed to provide valuable insights on navigating
  the professional landscape\, securing internships\, and advancing one&#39;s c
 areer. Lovepreet shared his experiences\, tips\, and roadmaps for students
  to succeed in the tech industry.\n\n[] []\n\nKey Takeaways\n\n- When appr
 oaching people for internships or jobs\, it is essential to find their ema
 ils\, send cold emails\, apply on career sites\, and utilize LinkedIn.\n\n
 - Lovepreet shared a useful cold email template that can be used as a star
 ting point for reaching out to professionals.\n\n- Building a presence on 
 Twitter is crucial for networking and sharing learnings and projects\, and
  it is more effective than LinkedIn for these purposes.\n\n- First-year st
 udents should focus on learning a programming language\, making projects\,
  starting Data Structures and Algorithms (DSA)\, and exploring their surro
 undings.\n\n- Second-year students should focus on DSA\, build projects\, 
 and approach people for internships.\n\n- Third-year students should learn
  a tech stack\, build end-to-end projects\, share their progress on Twitte
 r\, and approach people for internships.\n\n- Fourth-year students should 
 continue working on DSA\, make projects\, participate in weekly contests\,
  and approach people for jobs.\n\n[]\n\nThe webinar &quot;Unlocking Opportuniti
 es: LinkedIn Career Insights&quot; provided actionable tips and insights for st
 udents looking to advance their careers. Lovepreet&#39;s experiences and advic
 e served as a valuable resource for the attendees. The event was a success
 \, and the IEEE BIT SB looks forward to organizing more informative webina
 rs in the future.\n\nSpeaker(s): Lovepreet Singh \, \n\nVirtual: https://e
 vents.vtools.ieee.org/m/432283
LOCATION:Virtual: https://events.vtools.ieee.org/m/432283
ORGANIZER:jalajas@ieee.org
SEQUENCE:19
SUMMARY:Webinar on LinkedIn Career Insights
URL;VALUE=URI:https://events.vtools.ieee.org/m/432283
X-ALT-DESC:Description: &lt;br /&gt;&lt;p class=&quot;MsoNormal&quot;&gt;&lt;span style=&quot;color: rgb(
 0\, 0\, 0)\;&quot;&gt;&lt;span style=&quot;font-family: &#39;Times New Roman&#39;\,serif\;&quot;&gt;The IE
 EE BIT SB proudly presented a webinar titled &quot;Unlocking Opportunities: Lin
 kedIn Career Insights&quot; on August 10th. The event featured Lovepreet Singh\
 , a seasoned professional in the tech industry\, as the guest speaker.&lt;/sp
 an&gt; &amp;nbsp\;&lt;span style=&quot;font-family: &#39;Times New Roman&#39;\,serif\;&quot;&gt;The webin
 ar aimed to provide valuable insights on navigating the professional lands
 cape\, securing internships\, and advancing one&#39;s career. Lovepreet shared
  his experiences\, tips\, and roadmaps for students to succeed in the tech
  industry.&lt;/span&gt;&lt;/span&gt;&lt;/p&gt;\n&lt;p class=&quot;MsoNormal&quot;&gt;&lt;span style=&quot;font-famil
 y: &#39;Times New Roman&#39;\,serif\;&quot;&gt;&lt;img src=&quot;https://events.vtools.ieee.org/vt
 ools_ui/media/display/f3aedfaf-a7cd-4ac6-a8de-21081dc0e3ab&quot; alt=&quot;&quot; width=&quot;
 477&quot; height=&quot;348&quot;&gt; &amp;nbsp\; &amp;nbsp\; &amp;nbsp\; &amp;nbsp\; &amp;nbsp\; &amp;nbsp\; &amp;nbsp\;
  &amp;nbsp\;&amp;nbsp\; &amp;nbsp\; &lt;img src=&quot;https://events.vtools.ieee.org/vtools_ui
 /media/display/08d268af-b67c-4a71-91f2-ecbe6343df1c&quot; alt=&quot;&quot; width=&quot;473&quot; he
 ight=&quot;346&quot;&gt;&lt;/span&gt;&lt;/p&gt;\n&lt;p class=&quot;MsoNormal&quot;&gt;&lt;span style=&quot;font-family: &#39;Ti
 mes New Roman&#39;\, serif\; color: rgb(0\, 0\, 0)\;&quot;&gt;Key Takeaways &lt;/span&gt;&lt;/p
 &gt;\n&lt;p class=&quot;MsoNormal&quot;&gt;&lt;span style=&quot;font-family: &#39;Times New Roman&#39;\, seri
 f\; color: rgb(0\, 0\, 0)\;&quot;&gt;- When approaching people for internships or 
 jobs\, it is essential to find their emails\, send cold emails\, apply on 
 career sites\, and utilize LinkedIn. &lt;/span&gt;&lt;/p&gt;\n&lt;p class=&quot;MsoNormal&quot;&gt;&lt;sp
 an style=&quot;font-family: &#39;Times New Roman&#39;\, serif\; color: rgb(0\, 0\, 0)\;
 &quot;&gt;- Lovepreet shared a useful cold email template that can be used as a st
 arting point for reaching out to professionals. &lt;/span&gt;&lt;/p&gt;\n&lt;p class=&quot;Mso
 Normal&quot;&gt;&lt;span style=&quot;font-family: &#39;Times New Roman&#39;\, serif\; color: rgb(0
 \, 0\, 0)\;&quot;&gt;- Building a presence on Twitter is crucial for networking an
 d sharing learnings and projects\, and it is more effective than LinkedIn 
 for these purposes. &lt;/span&gt;&lt;/p&gt;\n&lt;p class=&quot;MsoNormal&quot;&gt;&lt;span style=&quot;font-fa
 mily: &#39;Times New Roman&#39;\, serif\; color: rgb(0\, 0\, 0)\;&quot;&gt;- First-year st
 udents should focus on learning a programming language\, making projects\,
  starting Data Structures and Algorithms (DSA)\, and exploring their surro
 undings. &lt;/span&gt;&lt;/p&gt;\n&lt;p class=&quot;MsoNormal&quot;&gt;&lt;span style=&quot;font-family: &#39;Time
 s New Roman&#39;\, serif\; color: rgb(0\, 0\, 0)\;&quot;&gt;- Second-year students sho
 uld focus on DSA\, build projects\, and approach people for internships. &lt;
 /span&gt;&lt;/p&gt;\n&lt;p class=&quot;MsoNormal&quot;&gt;&lt;span style=&quot;font-family: &#39;Times New Roma
 n&#39;\, serif\; color: rgb(0\, 0\, 0)\;&quot;&gt;- Third-year students should learn a
  tech stack\, build end-to-end projects\, share their progress on Twitter\
 , and approach people for internships. &lt;/span&gt;&lt;/p&gt;\n&lt;p&gt;&lt;span style=&quot;font-f
 amily: &#39;Times New Roman&#39;\, serif\; color: rgb(0\, 0\, 0)\;&quot;&gt;- Fourth-year 
 students should continue working on DSA\, make projects\, participate in w
 eekly contests\, and approach people for jobs.&lt;/span&gt;&lt;/p&gt;\n&lt;p&gt;&lt;span style=
 &quot;font-family: &#39;Times New Roman&#39;\,serif\;&quot;&gt;&lt;img style=&quot;display: block\; mar
 gin-left: auto\; margin-right: auto\;&quot; src=&quot;https://events.vtools.ieee.org
 /vtools_ui/media/display/d7eea8b1-9636-49f4-b5f6-dbe15d57a1af&quot; alt=&quot;&quot; widt
 h=&quot;619&quot; height=&quot;398&quot;&gt;&lt;/span&gt;&lt;/p&gt;\n&lt;p class=&quot;MsoNormal&quot;&gt;&lt;span style=&quot;font-f
 amily: &#39;Times New Roman&#39;\, serif\; color: rgb(0\, 0\, 0)\;&quot;&gt;The webinar &quot;U
 nlocking Opportunities: LinkedIn Career Insights&quot; provided actionable tips
  and insights for students looking to advance their careers. Lovepreet&#39;s e
 xperiences and advice served as a valuable resource for the attendees. The
  event was a success\, and the IEEE BIT SB looks forward to organizing mor
 e informative webinars in the future.&lt;/span&gt;&lt;/p&gt;
END:VEVENT
END:VCALENDAR

