BEGIN:VCALENDAR
VERSION:2.0
PRODID:IEEE vTools.Events//EN
CALSCALE:GREGORIAN
BEGIN:VTIMEZONE
TZID:America/New_York
BEGIN:DAYLIGHT
DTSTART:20240310T030000
TZOFFSETFROM:-0500
TZOFFSETTO:-0400
RRULE:FREQ=YEARLY;BYDAY=2SU;BYMONTH=3
TZNAME:EDT
END:DAYLIGHT
BEGIN:STANDARD
DTSTART:20241103T010000
TZOFFSETFROM:-0400
TZOFFSETTO:-0500
RRULE:FREQ=YEARLY;BYDAY=1SU;BYMONTH=11
TZNAME:EST
END:STANDARD
END:VTIMEZONE
BEGIN:VEVENT
DTSTAMP:20241118T130214Z
UID:3E8C9BF7-FC84-4DAD-9E77-CC2D733EB620
DTSTART;TZID=America/New_York:20240909T173000
DTEND;TZID=America/New_York:20240909T180000
DESCRIPTION:Join the IEEE Region 3 Senior Member Roundup Planning Meeting t
 o strategize future improvements based on the April 2024 roundup event. Th
 is meeting aims to enhance the planning and execution of subsequent roundu
 ps by evaluating participant feedback and operational insights. Engage wit
 h the planning team to share your experiences\, provide feedback\, and con
 tribute to shaping the next Senior Member Roundup.\n\nEligibility requires
  being an IEEE member in good standing with at least 10 years of professio
 nal or academic achievements. For more information on the senior membershi
 p criteria\, please visit the IEEE senior membership page: https://www.iee
 e.org/membership/senior/.\n\n*THIS MEETING IS FOR SENIOR MEMBERS ONLY WHO 
 ARE SUPPORTING RECRUITMENT ACTIVITIES ON 9/14/2024*\n\nCo-sponsored by: he
 rmann.amaya.us@ieee.org\, anthony.perales@ieee.org\n\nAgenda: \nTopics to 
 discuss:\n\n1) Current status: Roundup Roster\, as we are reaching 70 CAND
 IDATES\, although not all have submitted their documentation. (Hermann)\n\
 n2) the Reference Providers ability to support these many candidates (Kris
 tina)\n\n3) WebEX Training on Breakout Rooms (Anthony)\n\n4) Cut Off Date 
 9/6 (Friday) at 11:59PM EST\n\nVirtual: https://events.vtools.ieee.org/m/4
 32292
LOCATION:Virtual: https://events.vtools.ieee.org/m/432292
ORGANIZER:anthony.perales@ieee.org
SEQUENCE:19
SUMMARY:IEEE R3 Senior Member Roundup Planning Meeting
URL;VALUE=URI:https://events.vtools.ieee.org/m/432292
X-ALT-DESC:Description: &lt;br /&gt;&lt;p&gt;&lt;span style=&quot;color: rgb(13\, 13\, 13)\; fo
 nt-family: S&amp;ouml\;hne\, ui-sans-serif\, system-ui\, -apple-system\, &#39;Sego
 e UI&#39;\, Roboto\, Ubuntu\, Cantarell\, &#39;Noto Sans&#39;\, sans-serif\, &#39;Helvetic
 a Neue&#39;\, Arial\, &#39;Apple Color Emoji&#39;\, &#39;Segoe UI Emoji&#39;\, &#39;Segoe UI Symbo
 l&#39;\, &#39;Noto Color Emoji&#39;\; font-size: 16px\; font-style: normal\; font-vari
 ant-ligatures: normal\; font-variant-caps: normal\; font-weight: 400\; let
 ter-spacing: normal\; orphans: 2\; text-align: start\; text-indent: 0px\; 
 text-transform: none\; widows: 2\; word-spacing: 0px\; -webkit-text-stroke
 -width: 0px\; white-space: pre-wrap\; background-color: rgb(255\, 255\, 25
 5)\; text-decoration-thickness: initial\; text-decoration-style: initial\;
  text-decoration-color: initial\; display: inline !important\; float: none
 \;&quot;&gt;Join the IEEE Region 3 Senior Member Roundup Planning Meeting to strat
 egize future improvements based on the April 2024 roundup event. This meet
 ing aims to enhance the planning and execution of subsequent roundups by e
 valuating participant feedback and operational insights. Engage with the p
 lanning team to share your experiences\, provide feedback\, and contribute
  to shaping the next Senior Member Roundup. &lt;/span&gt;&lt;/p&gt;\n&lt;p class=&quot;MsoNorm
 al&quot;&gt;Eligibility requires being an IEEE member in good standing with at lea
 st 10 years of professional or academic achievements. For more information
  on the senior membership criteria\, please visit the IEEE senior membersh
 ip page: &lt;a href=&quot;https://www.ieee.org/membership/senior/&quot;&gt;https://www.iee
 e.org/membership/senior/&lt;/a&gt;.&lt;/p&gt;\n&lt;p class=&quot;MsoNormal&quot;&gt;&amp;nbsp\;&lt;/p&gt;\n&lt;p cl
 ass=&quot;MsoNormal&quot;&gt;*THIS MEETING IS FOR SENIOR MEMBERS ONLY WHO ARE SUPPORTIN
 G RECRUITMENT ACTIVITIES ON 9/14/2024*&lt;/p&gt;&lt;br /&gt;&lt;br /&gt;Agenda: &lt;br /&gt;&lt;div&gt;\
 n&lt;p class=&quot;MsoNormal&quot;&gt;Topics to discuss:&lt;/p&gt;\n&lt;/div&gt;\n&lt;div&gt;&amp;nbsp\;&lt;/div&gt;\n
 &lt;div&gt;\n&lt;p class=&quot;MsoNormal&quot;&gt;1) Current status: Roundup Roster\, as we are 
 reaching 70 CANDIDATES\, although not all have submitted their documentati
 on. (Hermann)&lt;/p&gt;\n&lt;/div&gt;\n&lt;div&gt;\n&lt;p class=&quot;MsoNormal&quot;&gt;2) the Reference Pr
 oviders ability to support these many candidates (Kristina)&lt;/p&gt;\n&lt;/div&gt;\n&lt;
 div&gt;\n&lt;p class=&quot;MsoNormal&quot;&gt;3) WebEX Training on Breakout Rooms (Anthony)&lt;/
 p&gt;\n&lt;p class=&quot;MsoNormal&quot;&gt;4) Cut Off Date 9/6 (Friday) at 11:59PM EST&lt;/p&gt;\n
 &lt;/div&gt;
END:VEVENT
END:VCALENDAR

