BEGIN:VCALENDAR
VERSION:2.0
PRODID:IEEE vTools.Events//EN
CALSCALE:GREGORIAN
BEGIN:VTIMEZONE
TZID:Asia/Kolkata
BEGIN:STANDARD
DTSTART:19451014T230000
TZOFFSETFROM:+0630
TZOFFSETTO:+0530
TZNAME:IST
END:STANDARD
END:VTIMEZONE
BEGIN:VEVENT
DTSTAMP:20240919T190125Z
UID:B7F18374-B8F5-4D58-A57B-3DFCD6DD8C7C
DTSTART;TZID=Asia/Kolkata:20240822T170000
DTEND;TZID=Asia/Kolkata:20240823T183000
DESCRIPTION:A two-day workshop on &#39;Smart Living: Harnessing Sensor Fusion f
 or Home Automation&#39; was organised by IEEE JUIT SB in collaboration with IE
 EE Region 10 Educational Activities Committee and IEEE Delhi Section on Au
 gust 22-23\, 2024\, at Jaypee University of Information Technology (JUIT)\
 , Solan\, Himachal Pradesh\, India.\n\nThe workshop aimed to give particip
 ants an in-depth understanding of sensor fusion technology and its applica
 tions in creating smart\, automated home environments that helps in start 
 up or entrepreneur ship. The event covered a wide range of topics\, from t
 he basics of sensor technology to advanced integration techniques for buil
 ding efficient home automation systems.\n\nDay 1: Inauguration and Introdu
 ction to Sensor Fusion\n\nThe event commenced with an in-depth overview of
  sensor fusion\, aimed at giving participants a solid grasp of the fundame
 ntals. Dr. Vikas Baghel\, Department of Electronics &amp; Communication Engine
 ering at JUIT discussed various sensor types\, including temperature\, hum
 idity\, motion\, and light sensors\, and explained how integrating these s
 ensors can improve data accuracy and system dependability.\n\nDay 2: Hands
 -on Sessions\n\nThe second day concentrated on applying the concepts learn
 ed on Day 1 through practical exercises and interactive sessions. Dr. Emje
 e Puthooran\, Alumunus IIT Roorkee introduced participants to real-world s
 cenarios where sensor fusion could be implemented to enhance home automati
 on systems. He discussed Step-by-step guidance on integrating sensors with
  microcontrollers to build a basic home automation system and detailed ana
 lysis of successful smart home project that have utilized sensor fusion te
 chnology\n\nPRIZES TO THE WINNERS\n\n1st prize was begged by Preetimay Pat
 el\, 2nd prize to Harsh Vardhan and 3rd prize to Divyansh Goel.\n\nFEEDBAC
 K BY PARTICIPANTS :\n\nLakshay Goyal: &quot;The automation workshop was truly a
  valuable experience. The way complex topics were broken down into simple\
 , digestible parts made everything so much easier to grasp.&quot;\n\nPriyanjali
 : &quot;The automation workshop was exactly what I needed. The sessions were en
 gaging\, and the professors made sure everyone was on the same page.&quot;\n\nR
 oom: ECL6\, Bldg: Academic Block\, Jaypee University Of Information Techno
 logy\, Solan\, Himachal Pradesh\, India\, 173234
LOCATION:Room: ECL6\, Bldg: Academic Block\, Jaypee University Of Informati
 on Technology\, Solan\, Himachal Pradesh\, India\, 173234
ORGANIZER:ieee.juit@juitsolan.in
SEQUENCE:11
SUMMARY:Smart Living: Harnessing Sensor Fusion for Home Automation
URL;VALUE=URI:https://events.vtools.ieee.org/m/432490
X-ALT-DESC:Description: &lt;br /&gt;&lt;p&gt;&lt;img src=&quot;https://events.vtools.ieee.org/v
 tools_ui/media/display/4fa0b642-de62-4efd-8ea2-226efa413873&quot; width=&quot;130&quot; h
 eight=&quot;183&quot;&gt;&lt;/p&gt;\n&lt;p class=&quot;Normal1&quot; style=&quot;margin-bottom: 10.0pt\; text-a
 lign: justify\; line-height: 150%\;&quot;&gt;&lt;span lang=&quot;EN-US&quot; style=&quot;font-size: 
 12.0pt\; line-height: 150%\; font-family: &#39;Times New Roman&#39;\,&#39;serif&#39;\; mso
 -fareast-font-family: &#39;Times New Roman&#39;\;&quot;&gt;A two-day workshop on &#39;&lt;u&gt;Smart
  Living: Harnessing Sensor Fusion for Home Automation&lt;/u&gt;&#39; was organised b
 y IEEE JUIT SB in collaboration with IEEE Region 10 Educational Activities
  Committee and IEEE Delhi Section on August 22-23\, 2024\, at Jaypee Unive
 rsity of Information Technology (JUIT)\, Solan\, Himachal Pradesh\, India.
  &lt;/span&gt;&lt;/p&gt;\n&lt;p class=&quot;Normal1&quot; style=&quot;margin-bottom: 10.0pt\; text-align
 : justify\; line-height: 150%\;&quot;&gt;&lt;span lang=&quot;EN-US&quot; style=&quot;font-size: 12.0
 pt\; line-height: 150%\; font-family: &#39;Times New Roman&#39;\,&#39;serif&#39;\; mso-far
 east-font-family: &#39;Times New Roman&#39;\;&quot;&gt;The workshop aimed to give particip
 ants an in-depth understanding of sensor fusion technology and its applica
 tions in creating smart\, automated home environments that helps in start 
 up or entrepreneur ship. The event covered a wide range of topics\, from t
 he basics of sensor technology to advanced integration techniques for buil
 ding efficient home automation systems.&lt;/span&gt;&lt;/p&gt;\n&lt;p class=&quot;Normal1&quot; sty
 le=&quot;margin-bottom: 10.0pt\; text-align: justify\; line-height: 150%\;&quot;&gt;&lt;sp
 an lang=&quot;EN-US&quot; style=&quot;font-size: 12.0pt\; line-height: 150%\; font-family
 : &#39;Times New Roman&#39;\,&#39;serif&#39;\; mso-fareast-font-family: &#39;Times New Roman&#39;\
 ;&quot;&gt;&amp;nbsp\;&lt;/span&gt;&lt;/p&gt;\n&lt;h2 style=&quot;text-align: justify\; line-height: 150%\
 ;&quot;&gt;&lt;span lang=&quot;EN-US&quot; style=&quot;color: black\;&quot;&gt;Day 1: Inauguration and Intro
 duction to Sensor Fusion&lt;/span&gt;&lt;/h2&gt;\n&lt;p class=&quot;Normal1&quot; style=&quot;margin-bot
 tom: 10.0pt\; text-align: justify\; line-height: 150%\;&quot;&gt;&lt;span lang=&quot;EN-US
 &quot; style=&quot;font-size: 12.0pt\; line-height: 150%\; font-family: &#39;Times New R
 oman&#39;\,&#39;serif&#39;\; mso-fareast-font-family: &#39;Times New Roman&#39;\;&quot;&gt;&lt;span lang=
 &quot;EN-US&quot; style=&quot;font-size: 12.0pt\; line-height: 107%\; font-family: &#39;Times
  New Roman&#39;\,&#39;serif&#39;\; mso-fareast-font-family: &#39;Times New Roman&#39;\; mso-an
 si-language: EN-US\; mso-fareast-language: EN-US\; mso-bidi-language: AR-S
 A\;&quot;&gt;The event commenced with an in-depth overview of sensor fusion\, aime
 d at giving participants a solid grasp of the fundamentals. Dr. Vikas Bagh
 el\, Department of Electronics &amp;amp\; Communication Engineering at JUIT di
 scussed various sensor types\, including temperature\, humidity\, motion\,
  and light sensors\, and explained how integrating these sensors can impro
 ve data accuracy and system dependability.&lt;/span&gt;&lt;/span&gt;&lt;/p&gt;\n&lt;p class=&quot;No
 rmal1&quot; style=&quot;margin-bottom: 10.0pt\; text-align: justify\; line-height: 1
 50%\;&quot;&gt;&lt;span lang=&quot;EN-US&quot; style=&quot;font-size: 12.0pt\; line-height: 150%\; f
 ont-family: &#39;Times New Roman&#39;\,&#39;serif&#39;\; mso-fareast-font-family: &#39;Times N
 ew Roman&#39;\;&quot;&gt;&lt;span lang=&quot;EN-US&quot; style=&quot;font-size: 12.0pt\; line-height: 10
 7%\; font-family: &#39;Times New Roman&#39;\,&#39;serif&#39;\; mso-fareast-font-family: &#39;T
 imes New Roman&#39;\; mso-ansi-language: EN-US\; mso-fareast-language: EN-US\;
  mso-bidi-language: AR-SA\;&quot;&gt;&lt;img src=&quot;https://events.vtools.ieee.org/vtoo
 ls_ui/media/display/1bbfb1ed-3d30-4699-a638-fe7d5e3a795c&quot; width=&quot;140&quot; heig
 ht=&quot;132&quot;&gt; &amp;nbsp\; &amp;nbsp\;&lt;img src=&quot;https://events.vtools.ieee.org/vtools_u
 i/media/display/7b2eb835-2bf7-489c-a330-f84b9d12a8e4&quot; width=&quot;139&quot; height=&quot;
 135&quot;&gt; &amp;nbsp\; &lt;img src=&quot;https://events.vtools.ieee.org/vtools_ui/media/dis
 play/84e5447c-26f4-4cda-b50b-0bb1a8305507&quot; width=&quot;137&quot; height=&quot;131&quot;&gt; &amp;nbsp
 \; &lt;img src=&quot;https://events.vtools.ieee.org/vtools_ui/media/display/69419d
 af-abdd-4d75-b8b6-ef7f0acf1168&quot; width=&quot;138&quot; height=&quot;132&quot;&gt;&lt;/span&gt;&lt;/span&gt;&lt;/p
 &gt;\n&lt;h2 style=&quot;text-align: justify\; line-height: 150%\;&quot;&gt;&lt;span lang=&quot;EN-US
 &quot; style=&quot;color: black\;&quot;&gt;Day 2: Hands-on Sessions &lt;/span&gt;&lt;/h2&gt;\n&lt;p class=&quot;
 Normal1&quot; style=&quot;margin-bottom: 10.0pt\; text-align: justify\; line-height:
  150%\;&quot;&gt;&lt;span lang=&quot;EN-US&quot; style=&quot;font-size: 12.0pt\; line-height: 150%\;
  font-family: &#39;Times New Roman&#39;\,&#39;serif&#39;\; mso-fareast-font-family: &#39;Times
  New Roman&#39;\;&quot;&gt;&lt;span lang=&quot;EN-US&quot; style=&quot;font-size: 12.0pt\; line-height: 
 107%\; font-family: &#39;Times New Roman&#39;\,&#39;serif&#39;\; mso-fareast-font-family: 
 &#39;Times New Roman&#39;\; mso-ansi-language: EN-US\; mso-fareast-language: EN-US
 \; mso-bidi-language: AR-SA\;&quot;&gt;The second day concentrated on applying the
  concepts learned on Day 1 through practical exercises and interactive ses
 sions. Dr. Emjee Puthooran\, Alumunus IIT Roorkee introduced participants 
 to real-world scenarios where sensor fusion could be implemented to enhanc
 e home automation systems. He discussed Step-by-step guidance on integrati
 ng sensors with microcontrollers to build a basic home automation system a
 nd detailed analysis of successful smart home project that have utilized s
 ensor fusion technology&lt;/span&gt;&lt;/span&gt;&lt;/p&gt;\n&lt;p class=&quot;Normal1&quot; style=&quot;margi
 n-bottom: 10.0pt\; text-align: justify\; line-height: 150%\;&quot;&gt;&lt;span lang=&quot;
 EN-US&quot; style=&quot;font-size: 12.0pt\; line-height: 150%\; font-family: &#39;Times 
 New Roman&#39;\,&#39;serif&#39;\; mso-fareast-font-family: &#39;Times New Roman&#39;\;&quot;&gt;&lt;span 
 lang=&quot;EN-US&quot; style=&quot;font-size: 12.0pt\; line-height: 107%\; font-family: &#39;
 Times New Roman&#39;\,&#39;serif&#39;\; mso-fareast-font-family: &#39;Times New Roman&#39;\; m
 so-ansi-language: EN-US\; mso-fareast-language: EN-US\; mso-bidi-language:
  AR-SA\;&quot;&gt;&lt;img src=&quot;https://events.vtools.ieee.org/vtools_ui/media/display
 /e8e8defe-6598-4d76-8888-82487b06e45b&quot; width=&quot;150&quot; height=&quot;120&quot;&gt; &amp;nbsp\;&lt;i
 mg src=&quot;https://events.vtools.ieee.org/vtools_ui/media/display/9a97107e-b0
 6e-4deb-8882-cadbc59618f6&quot; width=&quot;152&quot; height=&quot;123&quot;&gt; &amp;nbsp\;&lt;img src=&quot;http
 s://events.vtools.ieee.org/vtools_ui/media/display/132be31a-3c4d-4b7d-8750
 -397867a92f20&quot; width=&quot;155&quot; height=&quot;126&quot;&gt;&lt;/span&gt;&lt;/span&gt;&lt;/p&gt;\n&lt;p class=&quot;Norm
 al1&quot; style=&quot;margin-bottom: 10.0pt\; text-align: justify\; line-height: 150
 %\;&quot;&gt;&lt;strong style=&quot;mso-bidi-font-weight: normal\;&quot;&gt;&lt;span lang=&quot;EN-US&quot; sty
 le=&quot;font-size: 12.0pt\; line-height: 150%\; font-family: &#39;Times New Roman&#39;
 \,&#39;serif&#39;\; mso-fareast-font-family: &#39;Times New Roman&#39;\;&quot;&gt;PRIZES TO THE WI
 NNERS&lt;/span&gt;&lt;/strong&gt;&lt;/p&gt;\n&lt;p class=&quot;Normal1&quot; style=&quot;margin-bottom: 10.0pt
 \; text-align: justify\; line-height: 150%\;&quot;&gt;&lt;span lang=&quot;EN-US&quot; style=&quot;fo
 nt-size: 12.0pt\; line-height: 150%\; font-family: &#39;Times New Roman&#39;\,&#39;ser
 if&#39;\; mso-fareast-font-family: &#39;Times New Roman&#39;\;&quot;&gt;1&lt;sup&gt;st&lt;/sup&gt; prize w
 as begged by &lt;/span&gt;&lt;span lang=&quot;EN-US&quot; style=&quot;font-family: &#39;Times New Roma
 n&#39;\,&#39;serif&#39;\; mso-fareast-font-family: &#39;Times New Roman&#39;\; color: black\;&quot;
 &gt;Preetimay Patel\, 2&lt;sup&gt;nd&lt;/sup&gt; prize to Harsh Vardhan and 3&lt;sup&gt;rd&lt;/sup
 &gt; prize to Divyansh Goel. &lt;/span&gt;&lt;/p&gt;\n&lt;p class=&quot;Normal1&quot; style=&quot;margin-bo
 ttom: 10.0pt\; text-align: justify\; line-height: 150%\;&quot;&gt;&lt;strong style=&quot;m
 so-bidi-font-weight: normal\;&quot;&gt;&lt;span lang=&quot;EN-US&quot; style=&quot;font-size: 12.0pt
 \; line-height: 150%\; font-family: &#39;Times New Roman&#39;\,&#39;serif&#39;\; mso-farea
 st-font-family: &#39;Times New Roman&#39;\;&quot;&gt;FEEDBACK BY PARTICIPANTS : &lt;/span&gt;&lt;/s
 trong&gt;&lt;/p&gt;\n&lt;p class=&quot;Normal1&quot; style=&quot;margin-bottom: 10.0pt\; text-align: 
 justify\; line-height: 150%\;&quot;&gt;&lt;span lang=&quot;EN-US&quot; style=&quot;font-size: 12.0pt
 \; line-height: 150%\; font-family: &#39;Times New Roman&#39;\,&#39;serif&#39;\; mso-farea
 st-font-family: &#39;Times New Roman&#39;\;&quot;&gt;Lakshay Goyal: &quot;The automation worksh
 op was truly a valuable experience. The way complex topics were broken dow
 n into simple\, digestible parts made everything so much easier to grasp.&quot;
 &lt;/span&gt;&lt;/p&gt;\n&lt;p class=&quot;Normal1&quot; style=&quot;margin-bottom: 10.0pt\; text-align:
  justify\; line-height: 150%\;&quot;&gt;&lt;span lang=&quot;EN-US&quot; style=&quot;font-size: 12.0p
 t\; line-height: 150%\; font-family: &#39;Times New Roman&#39;\,&#39;serif&#39;\; mso-fare
 ast-font-family: &#39;Times New Roman&#39;\;&quot;&gt;Priyanjali: &quot;The automation workshop
  was exactly what I needed. The sessions were engaging\, and the professor
 s made sure everyone was on the same page.&quot;&lt;/span&gt;&lt;/p&gt;\n&lt;p class=&quot;Normal1&quot;
  style=&quot;margin-bottom: 10.0pt\; text-align: justify\; line-height: 150%\;&quot;
 &gt;&amp;nbsp\;&lt;/p&gt;\n&lt;p class=&quot;Normal1&quot; style=&quot;margin-bottom: 10.0pt\; text-align
 : justify\; line-height: 150%\;&quot;&gt;&amp;nbsp\;&lt;/p&gt;
END:VEVENT
END:VCALENDAR

