BEGIN:VCALENDAR
VERSION:2.0
PRODID:IEEE vTools.Events//EN
CALSCALE:GREGORIAN
BEGIN:VTIMEZONE
TZID:America/Denver
BEGIN:DAYLIGHT
DTSTART:20240310T030000
TZOFFSETFROM:-0700
TZOFFSETTO:-0600
RRULE:FREQ=YEARLY;BYDAY=2SU;BYMONTH=3
TZNAME:MDT
END:DAYLIGHT
BEGIN:STANDARD
DTSTART:20241103T010000
TZOFFSETFROM:-0600
TZOFFSETTO:-0700
RRULE:FREQ=YEARLY;BYDAY=1SU;BYMONTH=11
TZNAME:MST
END:STANDARD
END:VTIMEZONE
BEGIN:VEVENT
DTSTAMP:20241022T170013Z
UID:392766FE-7614-4072-8214-33FB927EDD44
DTSTART;TZID=America/Denver:20241021T160000
DTEND;TZID=America/Denver:20241021T200000
DESCRIPTION:Executive Panel: The Future of Colorado Energy and Markets\n\nT
 he IEEE Denver PES/IAS Chapter is pleased to sponsor an exciting and exclu
 sive panel session! This executive panel consists of people who are shapin
 g the future of energy and markets in Colorado\, including industry execut
 ives\, experts\, and a Colorado State Senator.\n\nThis panel will discuss 
 key transitions of the energy landscape\, including Colorado utilities joi
 ning a Regional Transmission Operator (RTO) in the coming years and what w
 holesale markets may mean in the state.\n\nA networking reception sponsore
 d by NEI Engineering will follow the panel session.\n\nThe cost to attend 
 this event will be $15 for IEEE members and $30 for non-members.\n\nThis i
 s an exclusive event\, and space will be strictly limited.\n\n------------
 ---------------------------------------------------\n\nThis event is broug
 ht to you by the IEEE Denver PES/IAS Chapter with IEEE PES High Plains as 
 a co-sponsor\, and with financial support from [IEEE PES Member-Driven Ini
 tiatives](https://ieee-pes.org/membership-chapters/member-driven-initiativ
 es/).\n\n*****\n\nPlease contact jongrooters@gmail.com for more informatio
 n.\n\n*****\n\nSpeaker(s): Chris Hansen\, Colorado State Senator\, Mark Ga
 briel\, President &amp; CEO of United Power\, Robin Lunt\, Chief Commercial Of
 ficer of Guzman Energy\, Zach Pollock\, Director of Grid Strategy &amp; Emergi
 ng Technologies\n\nBldg: Marriott Park Meadows\, 10345 Park Meadows Dr\, L
 one Tree\, Colorado\, United States\, 80124
LOCATION:Bldg: Marriott Park Meadows\, 10345 Park Meadows Dr\, Lone Tree\, 
 Colorado\, United States\, 80124
ORGANIZER:jongrooters@gmail.com
SEQUENCE:58
SUMMARY:Executive Panel: The Future of Colorado Energy and Markets
URL;VALUE=URI:https://events.vtools.ieee.org/m/433212
X-ALT-DESC:Description: &lt;br /&gt;&lt;p dir=&quot;ltr&quot;&gt;&lt;span style=&quot;font-size: 14pt\;&quot;&gt;
 &lt;strong&gt;Executive Panel: The Future of Colorado Energy and Markets&lt;/strong
 &gt;&lt;/span&gt;&lt;/p&gt;\n&lt;p dir=&quot;ltr&quot;&gt;The IEEE Denver PES/IAS Chapter is pleased to s
 ponsor an exciting and exclusive panel session! This executive panel consi
 sts of people who are shaping the future of energy and markets in Colorado
 \, including &lt;strong&gt;industry executives\, experts\, and a Colorado State 
 Senator&lt;/strong&gt;.&lt;/p&gt;\n&lt;p dir=&quot;ltr&quot;&gt;This panel will discuss key transition
 s of the energy landscape\, including Colorado utilities joining a Regiona
 l Transmission Operator (RTO) in the coming years and what wholesale marke
 ts may mean in the state.&lt;/p&gt;\n&lt;p dir=&quot;ltr&quot;&gt;A networking reception sponsor
 ed by &lt;strong&gt;NEI Engineering &lt;/strong&gt;will follow the panel session.&lt;/p&gt;\
 n&lt;p dir=&quot;ltr&quot;&gt;The cost to attend this event will be $15 for IEEE members a
 nd $30 for non-members.&lt;/p&gt;\n&lt;p dir=&quot;ltr&quot;&gt;&lt;span style=&quot;text-decoration: un
 derline\;&quot;&gt;&lt;strong&gt;This is an exclusive event\, and space will be &lt;em&gt;stri
 ctly&lt;/em&gt; &lt;em&gt;limited&lt;/em&gt;.&lt;/strong&gt;&lt;/span&gt; &amp;nbsp\;&lt;/p&gt;\n&lt;p dir=&quot;ltr&quot;&gt;&amp;nbs
 p\;&lt;/p&gt;\n&lt;hr&gt;\n&lt;p dir=&quot;ltr&quot;&gt;This event is brought to you by the IEEE Denve
 r PES/IAS Chapter with IEEE PES High Plains as a co-sponsor\, and with fin
 ancial support from &lt;em&gt;&lt;a href=&quot;https://ieee-pes.org/membership-chapters/
 member-driven-initiatives/&quot;&gt;IEEE PES Member-Driven Initiatives&lt;/a&gt;. &lt;/em&gt;&lt;
 /p&gt;\n&lt;p dir=&quot;ltr&quot;&gt;&lt;strong&gt;*****&lt;/strong&gt;&lt;/p&gt;\n&lt;p dir=&quot;ltr&quot;&gt;&lt;strong&gt;Please 
 contact&amp;nbsp\;&lt;a href=&quot;mailto:jongrooters@gmail.com&quot;&gt;jongrooters@gmail.com
 &lt;/a&gt; for more information.&lt;/strong&gt;&lt;/p&gt;\n&lt;p dir=&quot;ltr&quot;&gt;*****&lt;/p&gt;\n&lt;p&gt;&amp;nbsp\
 ;&lt;/p&gt;
END:VEVENT
END:VCALENDAR

