BEGIN:VCALENDAR
VERSION:2.0
PRODID:IEEE vTools.Events//EN
CALSCALE:GREGORIAN
BEGIN:VTIMEZONE
TZID:Europe/Zurich
BEGIN:DAYLIGHT
DTSTART:20240331T030000
TZOFFSETFROM:+0100
TZOFFSETTO:+0200
RRULE:FREQ=YEARLY;BYDAY=-1SU;BYMONTH=3
TZNAME:CEST
END:DAYLIGHT
BEGIN:STANDARD
DTSTART:20241027T020000
TZOFFSETFROM:+0200
TZOFFSETTO:+0100
RRULE:FREQ=YEARLY;BYDAY=-1SU;BYMONTH=10
TZNAME:CET
END:STANDARD
END:VTIMEZONE
BEGIN:VEVENT
DTSTAMP:20240921T072136Z
UID:6C219F2A-2BDE-464D-9690-1F1A1B64B3FB
DTSTART;TZID=Europe/Zurich:20240917T120000
DTEND;TZID=Europe/Zurich:20240918T130000
DESCRIPTION:As part of the [EPFL Mechanical Engineering Colloquium](https:/
 /memento.epfl.ch/igm-colloquium/)\, we will be hosting [a lecture given by
  Prof. Thomas Parisini](https://memento.epfl.ch/event/meche-colloquium-con
 trol-theory-for-optimisation-s/) from 12:00 to 13:00 on Tuesday 17.09.2024
 . The seminar can be followed in room [MED 0 1418](https://plan.epfl.ch/?r
 oom=%3DMED%200%201418&amp;dim_floor=0&amp;lang=en&amp;dim_lang=en&amp;tree_groups=centres_
 nevralgiques_grp%2Cmobilite_acces_grp%2Crestauration_et_commerces_grp%2Cen
 seignement%2Cservices_campus_grp%2Cequipements_grp&amp;tree_group_layers_centr
 es_nevralgiques_grp=&amp;tree_group_layers_mobilite_acces_grp=metro&amp;tree_group
 _layers_restauration_et_commerces_grp=&amp;tree_group_layers_enseignement=guic
 het_etudiants&amp;tree_group_layers_services_campus_grp=information_epfl&amp;tree_
 group_layers_equipements_grp=&amp;baselayer_ref=grp_backgrounds&amp;map_x=2533089&amp;
 map_y=1152405&amp;map_zoom=14) of the EPFL MED building and on [Zoom](https://
 epfl.zoom.us/j/64267570786).\n\nSpeaker(s): Thomas Parisini\n\nRoom: MED 0
  1418\, Bldg: MED building\, EPFL\, Lausanne\, Switzerland\, Switzerland\,
  1015\, Virtual: https://events.vtools.ieee.org/m/433299
LOCATION:Room: MED 0 1418\, Bldg: MED building\, EPFL\, Lausanne\, Switzerl
 and\, Switzerland\, 1015\, Virtual: https://events.vtools.ieee.org/m/43329
 9
ORGANIZER:giancarlo.ferraritrecate@epfl.ch
SEQUENCE:30
SUMMARY:IEEE Swiss CSS seminar - Control Theory for Optimisation
URL;VALUE=URI:https://events.vtools.ieee.org/m/433299
X-ALT-DESC:Description: &lt;br /&gt;&lt;p&gt;&lt;span style=&quot;font-size: 12pt\;&quot;&gt;&lt;span styl
 e=&quot;caret-color: #000000\; color: #000000\; font-family: &#39;Open Sans&#39;\, form
 ata\, Verdana\, sans-serif\; font-style: normal\; font-variant-caps: norma
 l\; font-weight: 400\; letter-spacing: normal\; text-align: start\; text-i
 ndent: 0px\; text-transform: none\; white-space: normal\; word-spacing: 0p
 x\; -moz-text-size-adjust: auto\; -webkit-text-stroke-width: 0px\; backgro
 und-color: #ffffff\; text-decoration: none\; display: inline !important\; 
 float: none\;&quot;&gt;As part of the &lt;/span&gt;&lt;a href=&quot;https://memento.epfl.ch/igm-
 colloquium/&quot;&gt;EPFL Mechanical Engineering Colloquium&lt;/a&gt;&lt;span style=&quot;caret-
 color: #000000\; color: #000000\; font-family: &#39;Open Sans&#39;\, formata\, Ver
 dana\, sans-serif\; font-style: normal\; font-variant-caps: normal\; font-
 weight: 400\; letter-spacing: normal\; text-align: start\; text-indent: 0p
 x\; text-transform: none\; white-space: normal\; word-spacing: 0px\; -moz-
 text-size-adjust: auto\; -webkit-text-stroke-width: 0px\; background-color
 : #ffffff\; text-decoration: none\; display: inline !important\; float: no
 ne\;&quot;&gt;\,&amp;nbsp\; we will be hosting &lt;a href=&quot;https://memento.epfl.ch/event/
 meche-colloquium-control-theory-for-optimisation-s/&quot;&gt;a lecture given by Pr
 of. Thomas Parisini&lt;/a&gt; from 12:00 to 13:00 on Tuesday 17.09.2024. The sem
 inar can be followed in room &lt;a href=&quot;https://plan.epfl.ch/?room=%3DMED%20
 0%201418&amp;amp\;dim_floor=0&amp;amp\;lang=en&amp;amp\;dim_lang=en&amp;amp\;tree_groups=c
 entres_nevralgiques_grp%2Cmobilite_acces_grp%2Crestauration_et_commerces_g
 rp%2Censeignement%2Cservices_campus_grp%2Cequipements_grp&amp;amp\;tree_group_
 layers_centres_nevralgiques_grp=&amp;amp\;tree_group_layers_mobilite_acces_grp
 =metro&amp;amp\;tree_group_layers_restauration_et_commerces_grp=&amp;amp\;tree_gro
 up_layers_enseignement=guichet_etudiants&amp;amp\;tree_group_layers_services_c
 ampus_grp=information_epfl&amp;amp\;tree_group_layers_equipements_grp=&amp;amp\;ba
 selayer_ref=grp_backgrounds&amp;amp\;map_x=2533089&amp;amp\;map_y=1152405&amp;amp\;map
 _zoom=14&quot;&gt;MED 0 1418&lt;/a&gt; of the EPFL MED building and on &lt;a href=&quot;https://
 epfl.zoom.us/j/64267570786&quot;&gt;Zoom&lt;/a&gt;.&lt;/span&gt;&lt;/span&gt;&lt;/p&gt;
END:VEVENT
END:VCALENDAR

