BEGIN:VCALENDAR
VERSION:2.0
PRODID:IEEE vTools.Events//EN
CALSCALE:GREGORIAN
BEGIN:VTIMEZONE
TZID:US/Eastern
BEGIN:DAYLIGHT
DTSTART:20170312T030000
TZOFFSETFROM:-0500
TZOFFSETTO:-0400
RRULE:FREQ=YEARLY;BYDAY=2SU;BYMONTH=3
TZNAME:EDT
END:DAYLIGHT
BEGIN:STANDARD
DTSTART:20161106T010000
TZOFFSETFROM:-0400
TZOFFSETTO:-0500
RRULE:FREQ=YEARLY;BYDAY=1SU;BYMONTH=11
TZNAME:EST
END:STANDARD
END:VTIMEZONE
BEGIN:VEVENT
DTSTAMP:20170125T031722Z
UID:EFA0ECE1-E200-11E6-A7C6-0050568D7F66
DTSTART;TZID=US/Eastern:20170206T190000
DTEND;TZID=US/Eastern:20170206T210000
DESCRIPTION:IEEE R&amp;A ECNS chapter is honored to begin 2017 with the appreci
 ation of our own IEEE fellow Mr. Roger Lawrence. Mr. Lawrence is a veteran
  in the industry with five decades of automation experience in electrical 
 engineering and associated multiple areas of science and technology. Based
  on his valuable contributions and extraordinary accomplishments in AC dri
 ves and other technologies\, Mr. Lawrence was awarded IEEE fellowship. Mr.
  Lawrence also has published many IEEE and technical articles. We also app
 reciate Mr. Lawrence’s entrepreneurship initiatives providing specialize
 d engineering services in science and technology\, thus leading by example
  for future generations.\n\nPlease refer to the following site for Mr. Law
 rence’s expertise and biography:\n\nhttp://www.rglsolutions.com\n\nDurin
 g our session on Feb 06 at centennial\, Mr. Lawrence will walk through his
  invaluable insights associated with the automation technology evolution d
 uring the decades of his experience\, technical aspects of a few projects 
 involved\, challenges and moments of cherishment.\n\nImportant Note:\n\nBa
 sed on the highly confidential nature of the information involved\, per Mr
 . Lawrence’s request\, any kind of video and/or audio recordings of the 
 event is not allowed. If there are any kind of electronic devices present 
 within the premises (eg.\, cell phones\, tablets\, laptop etc.\,) during M
 r. Lawrence’s presentation\, they must be turned off and placed on the p
 odium. We regret any inconvenience this may cause to our audience. We stro
 ngly recommend the audience to leave their devices in their car for this s
 pecific event only.\n\nSpeaker(s): \, \, \, \n\nAgenda: \n6:00-7:00pm Netw
 orking with pizza and soda\n\nThe times below are approximate and are give
 n just as a guideline:\n\n7:00-7:15pm News and announcements\n\n7:15-8:15p
 m Presentation and Q/A. Further if time permits\, A brief report recent ro
 botics development.\n\n8:15-9pm Show-n-Tell (bring out your projects to sh
 ow to other club members)\n\nRoom: 1005\, Bldg: Engineering Building 1 (EB
 1)\, 911 Partners Way\, Raleigh\, North Carolina\, United States\, 27606
LOCATION:Room: 1005\, Bldg: Engineering Building 1 (EB1)\, 911 Partners Way
 \, Raleigh\, North Carolina\, United States\, 27606
ORGANIZER:mbalasu@ncsu.edu
SEQUENCE:5
SUMMARY:IEEE R&amp;A MEETING: ENGINEERING AUTOMATION - perspectives from honora
 ble Mr. Roger Lawrence(IEEE Fellow)
URL;VALUE=URI:https://events.vtools.ieee.org/m/43347
X-ALT-DESC:Description: &lt;br /&gt;&lt;p&gt;&lt;span style=&quot;font-size: 12pt\; font-family
 : verdana\, geneva\;&quot;&gt;IEEE R&amp;amp\;A ECNS chapter is honored to begin 2017 
 with the appreciation of our own IEEE fellow Mr. Roger Lawrence.&amp;nbsp\;&amp;nb
 sp\;&amp;nbsp\; Mr. Lawrence is a veteran in the industry with five decades of
  automation experience in electrical engineering and associated multiple a
 reas of science and technology.&amp;nbsp\; Based on his valuable contributions
  and extraordinary accomplishments in AC drives and other technologies\, M
 r. Lawrence was awarded IEEE fellowship.&amp;nbsp\; Mr. Lawrence also has publ
 ished many IEEE and technical articles.&amp;nbsp\; We also appreciate Mr. Lawr
 ence&amp;rsquo\;s entrepreneurship initiatives providing specialized engineeri
 ng services in science and technology\, thus leading by example for future
  generations. &amp;nbsp\;&lt;/span&gt;&lt;/p&gt;\n&lt;p&gt;&lt;span style=&quot;font-size: 12pt\; font-f
 amily: verdana\, geneva\;&quot;&gt;Please refer to the following site for Mr. Lawr
 ence&amp;rsquo\;s expertise and biography:&lt;/span&gt;&lt;/p&gt;\n&lt;p&gt;&lt;span style=&quot;font-si
 ze: 12pt\; font-family: verdana\, geneva\;&quot;&gt;http://www.rglsolutions.com&lt;/s
 pan&gt;&lt;/p&gt;\n&lt;p&gt;&lt;span style=&quot;font-size: 12pt\; font-family: verdana\, geneva\
 ;&quot;&gt;During our session on Feb 06 at centennial\, Mr. Lawrence will walk thr
 ough his invaluable insights associated with the automation technology evo
 lution during the decades of his experience\, technical aspects of a few p
 rojects involved\, challenges &lt;/span&gt;&lt;span style=&quot;font-family: verdana\, g
 eneva\; font-size: 12pt\;&quot;&gt;and moments of cherishment.&lt;/span&gt;&lt;/p&gt;\n&lt;p&gt;&amp;nbs
 p\;&lt;/p&gt;\n&lt;p&gt;&amp;nbsp\;&lt;/p&gt;\n&lt;p&gt;&lt;span style=&quot;text-decoration: underline\;&quot;&gt;&lt;sp
 an style=&quot;font-size: 12pt\; color: #ff0000\;&quot;&gt;&lt;strong&gt;Important Note:&lt;/str
 ong&gt;&lt;/span&gt;&lt;/span&gt;&lt;/p&gt;\n&lt;p&gt;&lt;span style=&quot;font-size: 12pt\;&quot;&gt;Based on the hi
 ghly confidential nature of the information involved\, per Mr. Lawrence&amp;rs
 quo\;s request\, &lt;strong&gt;any kind of video and/or audio recordings of the 
 event is not allowed.&amp;nbsp\; If there are any kind of electronic devices p
 resent within the premises (eg.\, cell phones\, tablets\, laptop etc.\,) d
 uring Mr. Lawrence&amp;rsquo\;s presentation\, they must be turned off and pla
 ced on the podium. &amp;nbsp\;&lt;/strong&gt;We regret any inconvenience this may ca
 use to our audience.&lt;strong&gt; &amp;nbsp\;&lt;/strong&gt;We strongly recommend the aud
 ience to leave their devices in their car for this specific event only.&lt;/s
 pan&gt;&lt;/p&gt;\n&lt;p&gt;&amp;nbsp\;&lt;/p&gt;&lt;br /&gt;&lt;br /&gt;Agenda: &lt;br /&gt;&lt;p&gt;&lt;span style=&quot;font-siz
 e: 12pt\; font-family: verdana\, geneva\;&quot;&gt;6:00-7:00pm Networking with piz
 za and soda&lt;/span&gt;&lt;/p&gt;\n&lt;p&gt;&lt;span style=&quot;font-size: 12pt\; font-family: ver
 dana\, geneva\;&quot;&gt;The times below are approximate and are given just as a g
 uideline:&lt;/span&gt;&lt;/p&gt;\n&lt;p&gt;&lt;span style=&quot;font-size: 12pt\; font-family: verda
 na\, geneva\;&quot;&gt;7:00-7:15pm News and announcements&lt;/span&gt;&lt;/p&gt;\n&lt;p&gt;&lt;span sty
 le=&quot;font-size: 12pt\; font-family: verdana\, geneva\;&quot;&gt;7:15-8:15pm Present
 ation and Q/A. &amp;nbsp\;&lt;/span&gt;&lt;span style=&quot;font-size: 12pt\; font-family: v
 erdana\, geneva\;&quot;&gt;Further if time permits\, A brief report recent robotic
 s development&lt;/span&gt;.&lt;/p&gt;\n&lt;p&gt;&lt;span style=&quot;font-size: 12pt\; font-family: 
 verdana\, geneva\;&quot;&gt;8:15-9pm Show-n-Tell (bring out your projects to show 
 to other club members)&lt;/span&gt;&lt;/p&gt;
END:VEVENT
END:VCALENDAR

