BEGIN:VCALENDAR
VERSION:2.0
PRODID:IEEE vTools.Events//EN
CALSCALE:GREGORIAN
BEGIN:VTIMEZONE
TZID:America/Los_Angeles
BEGIN:DAYLIGHT
DTSTART:20240310T030000
TZOFFSETFROM:-0800
TZOFFSETTO:-0700
RRULE:FREQ=YEARLY;BYDAY=2SU;BYMONTH=3
TZNAME:PDT
END:DAYLIGHT
BEGIN:STANDARD
DTSTART:20241103T010000
TZOFFSETFROM:-0700
TZOFFSETTO:-0800
RRULE:FREQ=YEARLY;BYDAY=1SU;BYMONTH=11
TZNAME:PST
END:STANDARD
END:VTIMEZONE
BEGIN:VEVENT
DTSTAMP:20240923T165550Z
UID:8C706A09-F7DB-4CFA-B536-8AC2611E224B
DTSTART;TZID=America/Los_Angeles:20241001T170000
DTEND;TZID=America/Los_Angeles:20241001T200000
DESCRIPTION:Join the IEEE Vancouver Section in its celebration of IEEE Day\
 n\nLocation: Online\n\nThe theme for IEEE Day is “Leveraging Technology 
 for a Better Tomorrow.”\n\nEvery year\, on the first Tuesday of October\
 , members and friends of the Vancouver Section gather to celebrate the fou
 nding of the IEEE and everything it represents. IEEE Day provides an oppor
 tunity to reflect on the contributions of past volunteers and look ahead t
 o the future of the IEEE. It marks the first time in history when engineer
 s worldwide gathered to share their technical ideas in 1884.\n\nIEEE Day i
 s not only celebrated by the Vancouver Section but is a global event.\n\nV
 irtual: https://events.vtools.ieee.org/m/433508
LOCATION:Virtual: https://events.vtools.ieee.org/m/433508
ORGANIZER:mandeep.pannu@ieee.org
SEQUENCE:14
SUMMARY:IEEE Day - Vancouver Section Celebration
URL;VALUE=URI:https://events.vtools.ieee.org/m/433508
X-ALT-DESC:Description: &lt;br /&gt;&lt;p class=&quot;MsoNormal&quot;&gt;Join the IEEE Vancouver 
 Section in its celebration of IEEE Day&lt;/p&gt;\n&lt;p class=&quot;MsoNormal&quot;&gt;Location:
  Online&amp;nbsp\;&lt;/p&gt;\n&lt;p class=&quot;MsoNormal&quot;&gt;The theme for IEEE Day is &amp;ldquo\
 ;Leveraging Technology for a Better Tomorrow.&amp;rdquo\;&lt;/p&gt;\n&lt;p class=&quot;MsoNo
 rmal&quot;&gt;Every year\, on the first Tuesday of October\, members and friends o
 f the Vancouver Section gather to celebrate the founding of the IEEE and e
 verything it represents. IEEE Day provides an opportunity to reflect on th
 e contributions of past volunteers and look ahead to the future of the IEE
 E. It marks the first time in history when engineers worldwide gathered to
  share their technical ideas in 1884.&lt;/p&gt;\n&lt;p class=&quot;MsoNormal&quot;&gt;IEEE Day i
 s not only celebrated by the Vancouver Section but is a global event.&lt;/p&gt;
END:VEVENT
END:VCALENDAR

