BEGIN:VCALENDAR
VERSION:2.0
PRODID:IEEE vTools.Events//EN
CALSCALE:GREGORIAN
BEGIN:VTIMEZONE
TZID:Europe/Copenhagen
BEGIN:DAYLIGHT
DTSTART:20240331T030000
TZOFFSETFROM:+0100
TZOFFSETTO:+0200
RRULE:FREQ=YEARLY;BYDAY=-1SU;BYMONTH=3
TZNAME:CEST
END:DAYLIGHT
BEGIN:STANDARD
DTSTART:20241027T020000
TZOFFSETFROM:+0200
TZOFFSETTO:+0100
RRULE:FREQ=YEARLY;BYDAY=-1SU;BYMONTH=10
TZNAME:CET
END:STANDARD
END:VTIMEZONE
BEGIN:VEVENT
DTSTAMP:20240913T074321Z
UID:1294B554-73DB-4944-A0D4-C0060F4B058D
DTSTART;TZID=Europe/Copenhagen:20240910T110000
DTEND;TZID=Europe/Copenhagen:20240910T120000
DESCRIPTION:We have the pleasure to co-sponsor an invited talk at DTU Wind 
 &amp; Energy Systems by Professor Hrvoje Pandzic ([Google Scholar](https://sch
 olar.google.com/citations?user=cbFwhhkAAAAJ&amp;hl=en)) from the University of
  Zagreb on Tuesday (September 10)\, 11:00-12:00. Among others\, he is high
 ly expert and internationally well-known in power system operation and pla
 nning\, optimization\, market\, and storage modeling. Please find details 
 of his talk below.\n\nCo-sponsored by: DTU Wind and Energy Systems\, Energ
 y Market and Analytics\n\nSpeaker(s): Hrvoje Pandžić\n\nAgenda: \n- Welc
 ome\n- Invited talk by Professor Hrvoje Pandzic on Evaluation of battery m
 odels for power system economics\n- Discussion\n\nVirtual: https://events.
 vtools.ieee.org/m/433561
LOCATION:Virtual: https://events.vtools.ieee.org/m/433561
ORGANIZER:tweck@dtu.dk
SEQUENCE:50
SUMMARY:Evaluation of battery models for power system economics
URL;VALUE=URI:https://events.vtools.ieee.org/m/433561
X-ALT-DESC:Description: &lt;br /&gt;&lt;p class=&quot;MsoNormal&quot;&gt;&lt;span lang=&quot;EN-US&quot; style
 =&quot;font-size: 12.0pt\; mso-ansi-language: EN-US\;&quot;&gt;We have the pleasure to 
 co-sponsor an invited talk at DTU Wind &amp;amp\; Energy Systems by Professor 
 Hrvoje Pandzic (&lt;a href=&quot;https://scholar.google.com/citations?user=cbFwhhk
 AAAAJ&amp;amp\;hl=en&quot;&gt;Google Scholar&lt;/a&gt;) from the University of Zagreb on &lt;st
 rong&gt;Tuesday (September 10)\, 11:00-12:00&lt;/strong&gt;. Among others\, he is h
 ighly expert and internationally well-known in power system operation and 
 planning\, optimization\, market\, and storage modeling. Please find detai
 ls of his talk below.&amp;nbsp\;&lt;/span&gt;&lt;/p&gt;&lt;br /&gt;&lt;br /&gt;Agenda: &lt;br /&gt;&lt;ul&gt;\n&lt;li
 &gt;Welcome&lt;/li&gt;\n&lt;li&gt;Invited talk by &lt;span lang=&quot;EN-US&quot;&gt;Professor Hrvoje Pan
 dzic on Evaluation of battery models for power system economics&lt;/span&gt;&lt;/li
 &gt;\n&lt;li&gt;&lt;span lang=&quot;EN-US&quot;&gt;Discussion&lt;/span&gt;&lt;/li&gt;\n&lt;/ul&gt;
END:VEVENT
END:VCALENDAR

