BEGIN:VCALENDAR
VERSION:2.0
PRODID:IEEE vTools.Events//EN
CALSCALE:GREGORIAN
BEGIN:VTIMEZONE
TZID:America/Chicago
BEGIN:DAYLIGHT
DTSTART:20240310T030000
TZOFFSETFROM:-0600
TZOFFSETTO:-0500
RRULE:FREQ=YEARLY;BYDAY=2SU;BYMONTH=3
TZNAME:CDT
END:DAYLIGHT
BEGIN:STANDARD
DTSTART:20241103T010000
TZOFFSETFROM:-0500
TZOFFSETTO:-0600
RRULE:FREQ=YEARLY;BYDAY=1SU;BYMONTH=11
TZNAME:CST
END:STANDARD
END:VTIMEZONE
BEGIN:VEVENT
DTSTAMP:20241117T214604Z
UID:C64AE4B7-EA9D-48F2-A820-DCB486CC3F94
DTSTART;TZID=America/Chicago:20240918T180000
DTEND;TZID=America/Chicago:20240918T190000
DESCRIPTION:[]\n\n[][]\n\nPlease join us in-person or virtually for the IEE
 E Computer Society Chicago Chapter September 2024 technical meeting where 
 we have Sandra Gesing from US Research Software Engineer Association talki
 ng about Empowering Hidden Contributors Accelerating Science. We are pleas
 ed to also have our co-hosts IEEE Chicago Section\, ACM Chicago and Metrop
 olitan Club Digi-Tech Committee.\n\nIf you are joining in-person\, please 
 indicate so in the registration before Monday\, September 16 at 11:59 PM. 
 Virtual registration is on the Zoom registration link.\n\nFor those joinin
 g in-person\, please bring a photo ID with you like driver&#39;s license so yo
 u can be admitted through the gate to take the elevator to the 67th floor 
 for the Metropolitan Club.\n\nCo-sponsored by: ACM Chicago and MET Digi-Te
 ch Committee\n\nSpeaker(s): Sandra Gesing\, \n\nAgenda: \n5:30 to 6:00 PM 
 Refreshments and networking\n\n6:00 to 6:05 PM Introductions\n\n6:05 to 6:
 45 PM Talk\n\n6:45 to 6:55 PM Q&amp;A\n\n6:55 to 7:00 PM Conclusion and adjour
 nment\n\n7:00 to 7:30 PM Networking\n\nBldg: The Metropolitan Club\, Willi
 s Tower\, 233 S Wacker Drive\, Chicago\, Illinois\, United States\, 60606\
 , Virtual: https://events.vtools.ieee.org/m/433688
LOCATION:Bldg: The Metropolitan Club\, Willis Tower\, 233 S Wacker Drive\, 
 Chicago\, Illinois\, United States\, 60606\, Virtual: https://events.vtool
 s.ieee.org/m/433688
ORGANIZER:alvin.chin@ieee.org
SEQUENCE:61
SUMMARY:US-RSE: Empowering Hidden Contributors Accelerating Science
URL;VALUE=URI:https://events.vtools.ieee.org/m/433688
X-ALT-DESC:Description: &lt;br /&gt;&lt;p&gt;&lt;img src=&quot;https://events.vtools.ieee.org/v
 tools_ui/media/display/503eda89-99b7-4b46-bcda-89498df81d33&quot; alt=&quot;&quot; width=
 &quot;597&quot; height=&quot;159&quot;&gt;&lt;/p&gt;\n&lt;p&gt;&amp;nbsp\;&lt;img src=&quot;https://events.vtools.ieee.or
 g/vtools_ui/media/display/91b167c1-fd26-439f-8028-457bcafcb6b7&quot; alt=&quot;&quot; wid
 th=&quot;273&quot; height=&quot;273&quot;&gt;&lt;img src=&quot;https://events.vtools.ieee.org/vtools_ui/m
 edia/display/ddc26861-3eaf-4c1e-b813-09c46b0b40cd&quot; alt=&quot;&quot; width=&quot;530&quot; heig
 ht=&quot;158&quot;&gt;&lt;/p&gt;\n&lt;p&gt;Please join us in-person or virtually for the IEEE Compu
 ter Society Chicago Chapter September 2024 technical meeting where we have
  Sandra Gesing from US Research Software Engineer Association talking abou
 t Empowering Hidden Contributors Accelerating Science.&amp;nbsp\; We are pleas
 ed to also have our co-hosts IEEE Chicago Section\, ACM Chicago and Metrop
 olitan Club Digi-Tech Committee.&amp;nbsp\;&lt;/p&gt;\n&lt;p&gt;If you are joining in-pers
 on\, please indicate so in the registration before Monday\, September 16 a
 t 11:59 PM.&amp;nbsp\; Virtual registration is on the Zoom registration link.&amp;
 nbsp\;&lt;/p&gt;\n&lt;p&gt;For those joining in-person\, please bring a photo ID with 
 you like driver&#39;s license so you can be admitted through the gate to take 
 the elevator to the 67th floor for the Metropolitan Club.&amp;nbsp\; &amp;nbsp\;&amp;n
 bsp\;&lt;/p&gt;&lt;br /&gt;&lt;br /&gt;Agenda: &lt;br /&gt;&lt;p&gt;5:30 to 6:00 PM Refreshments and net
 working&lt;/p&gt;\n&lt;p&gt;6:00 to 6:05 PM Introductions&lt;/p&gt;\n&lt;p&gt;6:05 to 6:45 PM Talk
 &lt;/p&gt;\n&lt;p&gt;6:45 to 6:55 PM Q&amp;amp\;A&lt;/p&gt;\n&lt;p&gt;6:55 to 7:00 PM Conclusion and a
 djournment&lt;/p&gt;\n&lt;p&gt;7:00 to 7:30 PM Networking&lt;/p&gt;
END:VEVENT
END:VCALENDAR

